Back to Multiple platform build/check report for BioC 3.13 experimental data
ABC[D]EFGHIJKLMNOPQRSTUVWXYZ

INSTALL report for dyebiasexamples on riesling1

This page was generated on 2021-01-14 15:59:07 -0500 (Thu, 14 Jan 2021).

TO THE DEVELOPERS/MAINTAINERS OF THE dyebiasexamples PACKAGE: Please make sure to use the following settings in order to reproduce any error or warning you see on this page.
Package 107/385HostnameOS / ArchINSTALLBUILDCHECK
dyebiasexamples 1.31.0
Philip Lijnzaad
Snapshot Date: 2021-01-14 09:00:13 -0500 (Thu, 14 Jan 2021)
URL: https://git.bioconductor.org/packages/dyebiasexamples
Branch: master
Last Commit: de2c585
Last Changed Date: 2020-10-27 09:51:10 -0500 (Tue, 27 Oct 2020)
malbec2 Linux (Ubuntu 20.04.1 LTS) / x86_64  OK  OK  WARNINGS UNNEEDED, same version exists in internal repository
riesling1 Windows Server 2019 Standard / x64 [ OK ] OK  WARNINGS 

Summary

Package: dyebiasexamples
Version: 1.31.0
Command: C:\cygwin\bin\curl.exe -O http://172.29.0.4/BBS/3.13/data-experiment/src/contrib/dyebiasexamples_1.31.0.tar.gz && rm -rf dyebiasexamples.buildbin-libdir && mkdir dyebiasexamples.buildbin-libdir && D:\biocbuild\bbs-3.13-bioc\R\bin\R.exe CMD INSTALL --merge-multiarch --build --library=dyebiasexamples.buildbin-libdir dyebiasexamples_1.31.0.tar.gz && D:\biocbuild\bbs-3.13-bioc\R\bin\R.exe CMD INSTALL dyebiasexamples_1.31.0.zip && rm dyebiasexamples_1.31.0.tar.gz dyebiasexamples_1.31.0.zip
StartedAt: 2021-01-14 10:08:18 -0500 (Thu, 14 Jan 2021)
EndedAt: 2021-01-14 10:08:39 -0500 (Thu, 14 Jan 2021)
EllapsedTime: 20.7 seconds
RetCode: 0
Status:  OK  

Command output

##############################################################################
##############################################################################
###
### Running command:
###
###   C:\cygwin\bin\curl.exe -O http://172.29.0.4/BBS/3.13/data-experiment/src/contrib/dyebiasexamples_1.31.0.tar.gz && rm -rf dyebiasexamples.buildbin-libdir && mkdir dyebiasexamples.buildbin-libdir && D:\biocbuild\bbs-3.13-bioc\R\bin\R.exe CMD INSTALL --merge-multiarch --build --library=dyebiasexamples.buildbin-libdir dyebiasexamples_1.31.0.tar.gz && D:\biocbuild\bbs-3.13-bioc\R\bin\R.exe CMD INSTALL dyebiasexamples_1.31.0.zip && rm dyebiasexamples_1.31.0.tar.gz dyebiasexamples_1.31.0.zip
###
##############################################################################
##############################################################################


  % Total    % Received % Xferd  Average Speed   Time    Time     Time  Current
                                 Dload  Upload   Total   Spent    Left  Speed

  0     0    0     0    0     0      0      0 --:--:-- --:--:-- --:--:--     0
  1 15.3M    1  293k    0     0   323k      0  0:00:48 --:--:--  0:00:48  323k
100 15.3M  100 15.3M    0     0  11.3M      0  0:00:01  0:00:01 --:--:-- 11.3M

install for i386

* installing *source* package 'dyebiasexamples' ...
** using staged installation
** R
** data
** inst
** byte-compile and prepare package for lazy loading
** help
Warning: D:/biocbuild/bbs-3.13-data-experiment/tmpdir/RtmpOCuafk/R.INSTALL16010494763c2/dyebiasexamples/man/dyebias.geo2marray.Rd:10-17: Section \synopsis is unrecognized and will be dropped
Warning: D:/biocbuild/bbs-3.13-data-experiment/tmpdir/RtmpOCuafk/R.INSTALL16010494763c2/dyebiasexamples/man/dyebias.umcu.proper.estimators.Rd:11-13: Section \synopsis is unrecognized and will be dropped
*** installing help indices
  converting help for package 'dyebiasexamples'
    finding HTML links ... done
    data.raw                                html  
REDIRECT:topic	 data.raw -> data.raw.html [ SUCCESS ]
REDIRECT:topic	 data.norm -> data.raw.html [ SUCCESS ]
    dyebias.geo2marray                      html  
REDIRECT:topic	 dyebias.geo2marray -> dyebias.geo2marray.html [ SUCCESS ]
    dyebias.umcu.proper.estimators          html  
REDIRECT:topic	 dyebias.umcu.proper.estimators -> dyebias.umcu.proper.estimators.html [ SUCCESS ]
** building package indices
** installing vignettes
** testing if installed package can be loaded from temporary location
** testing if installed package can be loaded from final location
** testing if installed package keeps a record of temporary installation path

install for x64

* installing *source* package 'dyebiasexamples' ...
** testing if installed package can be loaded
* MD5 sums
packaged installation of 'dyebiasexamples' as dyebiasexamples_1.31.0.zip
* DONE (dyebiasexamples)
* installing to library 'D:/biocbuild/bbs-3.13-bioc/R/library'
package 'dyebiasexamples' successfully unpacked and MD5 sums checked