Back to Multiple platform build/check report for BioC 3.13 experimental data
ABC[D]EFGHIJKLMNOPQRSTUVWXYZ

INSTALL report for diggitdata on riesling1

This page was generated on 2021-01-21 16:01:27 -0500 (Thu, 21 Jan 2021).

TO THE DEVELOPERS/MAINTAINERS OF THE diggitdata PACKAGE: Please make sure to use the following settings in order to reproduce any error or warning you see on this page.
Package 94/386HostnameOS / ArchINSTALLBUILDCHECK
diggitdata 1.23.0
Mariano Javier Alvarez
Snapshot Date: 2021-01-21 09:00:14 -0500 (Thu, 21 Jan 2021)
URL: https://git.bioconductor.org/packages/diggitdata
Branch: master
Last Commit: dfdf303
Last Changed Date: 2020-10-27 10:11:43 -0500 (Tue, 27 Oct 2020)
malbec2 Linux (Ubuntu 20.04.1 LTS) / x86_64  OK  OK  OK UNNEEDED, same version exists in internal repository
riesling1 Windows Server 2019 Standard / x64 [ OK ] OK  OK 

Summary

Package: diggitdata
Version: 1.23.0
Command: C:\cygwin\bin\curl.exe -O http://172.29.0.4/BBS/3.13/data-experiment/src/contrib/diggitdata_1.23.0.tar.gz && rm -rf diggitdata.buildbin-libdir && mkdir diggitdata.buildbin-libdir && D:\biocbuild\bbs-3.13-bioc\R\bin\R.exe CMD INSTALL --merge-multiarch --build --library=diggitdata.buildbin-libdir diggitdata_1.23.0.tar.gz && D:\biocbuild\bbs-3.13-bioc\R\bin\R.exe CMD INSTALL diggitdata_1.23.0.zip && rm diggitdata_1.23.0.tar.gz diggitdata_1.23.0.zip
StartedAt: 2021-01-21 10:10:46 -0500 (Thu, 21 Jan 2021)
EndedAt: 2021-01-21 10:10:58 -0500 (Thu, 21 Jan 2021)
EllapsedTime: 12.6 seconds
RetCode: 0
Status:  OK  

Command output

##############################################################################
##############################################################################
###
### Running command:
###
###   C:\cygwin\bin\curl.exe -O http://172.29.0.4/BBS/3.13/data-experiment/src/contrib/diggitdata_1.23.0.tar.gz && rm -rf diggitdata.buildbin-libdir && mkdir diggitdata.buildbin-libdir && D:\biocbuild\bbs-3.13-bioc\R\bin\R.exe CMD INSTALL --merge-multiarch --build --library=diggitdata.buildbin-libdir diggitdata_1.23.0.tar.gz && D:\biocbuild\bbs-3.13-bioc\R\bin\R.exe CMD INSTALL diggitdata_1.23.0.zip && rm diggitdata_1.23.0.tar.gz diggitdata_1.23.0.zip
###
##############################################################################
##############################################################################


  % Total    % Received % Xferd  Average Speed   Time    Time     Time  Current
                                 Dload  Upload   Total   Spent    Left  Speed

  0     0    0     0    0     0      0      0 --:--:-- --:--:-- --:--:--     0
100 47.2M  100 47.2M    0     0  60.6M      0 --:--:-- --:--:-- --:--:-- 60.6M

install for i386

* installing *source* package 'diggitdata' ...
** using staged installation
** data
** help
*** installing help indices
  converting help for package 'diggitdata'
    finding HTML links ... done
    diggitdata-package                      html  
REDIRECT:topic	 diggitdata-package -> diggitdata-package.html [ SUCCESS ]
REDIRECT:topic	 diggitdata -> diggitdata-package.html [ SUCCESS ]
    gbm.aracne                              html  
REDIRECT:topic	 gbmTFregulon -> gbm.aracne.html [ SUCCESS ]
REDIRECT:file	 gbm.aracne.html -> gbm.aracne.html [ SUCCESS ]
    gbm.cnv                                 html  
REDIRECT:topic	 gbmCNV -> gbm.cnv.html [ SUCCESS ]
REDIRECT:file	 gbm.cnv.html -> gbm.cnv.html [ SUCCESS ]
    gbm.cnv.normal                          html  
REDIRECT:topic	 gbmCNVnormal -> gbm.cnv.normal.html [ SUCCESS ]
REDIRECT:file	 gbm.cnv.normal.html -> gbm.cnv.normal.html [ SUCCESS ]
    gbm.expression                          html  
REDIRECT:topic	 gbmExprs -> gbm.expression.html [ SUCCESS ]
REDIRECT:file	 gbm.expression.html -> gbm.expression.html [ SUCCESS ]
    gbm.mindy                               html  
REDIRECT:topic	 gbmMindy -> gbm.mindy.html [ SUCCESS ]
REDIRECT:file	 gbm.mindy.html -> gbm.mindy.html [ SUCCESS ]
** building package indices
** installing vignettes
** testing if installed package can be loaded from temporary location
** testing if installed package can be loaded from final location
** testing if installed package keeps a record of temporary installation path

install for x64

* installing *source* package 'diggitdata' ...
** testing if installed package can be loaded
* MD5 sums
packaged installation of 'diggitdata' as diggitdata_1.23.0.zip
* DONE (diggitdata)
* installing to library 'D:/biocbuild/bbs-3.13-bioc/R/library'
package 'diggitdata' successfully unpacked and MD5 sums checked