Back to Multiple platform build/check report for BioC 3.13 experimental data |
|
This page was generated on 2021-01-14 15:59:07 -0500 (Thu, 14 Jan 2021).
TO THE DEVELOPERS/MAINTAINERS OF THE depmap PACKAGE: Please make sure to use the following settings in order to reproduce any error or warning you see on this page. |
Package 90/385 | Hostname | OS / Arch | INSTALL | BUILD | CHECK | ||||||
depmap 1.5.1 Laurent Gatto
| malbec2 | Linux (Ubuntu 20.04.1 LTS) / x86_64 | OK | OK | OK | ![]() | |||||
riesling1 | Windows Server 2019 Standard / x64 | OK | [ OK ] | OK |
Package: depmap |
Version: 1.5.1 |
Command: chmod a+r depmap -R && D:\biocbuild\bbs-3.13-bioc\R\bin\R.exe CMD build --keep-empty-dirs --no-resave-data depmap |
StartedAt: 2021-01-14 10:31:50 -0500 (Thu, 14 Jan 2021) |
EndedAt: 2021-01-14 10:41:29 -0500 (Thu, 14 Jan 2021) |
EllapsedTime: 579.5 seconds |
RetCode: 0 |
Status: OK |
PackageFile: depmap_1.5.1.tar.gz |
PackageFileSize: 770.7 KiB |
############################################################################## ############################################################################## ### ### Running command: ### ### chmod a+r depmap -R && D:\biocbuild\bbs-3.13-bioc\R\bin\R.exe CMD build --keep-empty-dirs --no-resave-data depmap ### ############################################################################## ############################################################################## * checking for file 'depmap/DESCRIPTION' ... OK * preparing 'depmap': * checking DESCRIPTION meta-information ... OK * installing the package to build vignettes * creating vignettes ... OK * checking for LF line-endings in source and make files and shell scripts * checking for empty or unneeded directories * building 'depmap_1.5.1.tar.gz'