Back to Multiple platform build/check report for BioC 3.13 experimental data
ABC[D]EFGHIJKLMNOPQRSTUVWXYZ

INSTALL report for davidTiling on riesling1

This page was generated on 2021-01-21 16:01:27 -0500 (Thu, 21 Jan 2021).

TO THE DEVELOPERS/MAINTAINERS OF THE davidTiling PACKAGE: Please make sure to use the following settings in order to reproduce any error or warning you see on this page.
Package 89/386HostnameOS / ArchINSTALLBUILDCHECK
davidTiling 1.31.0
Wolfgang Huber
Snapshot Date: 2021-01-21 09:00:14 -0500 (Thu, 21 Jan 2021)
URL: https://git.bioconductor.org/packages/davidTiling
Branch: master
Last Commit: 0c228f3
Last Changed Date: 2020-10-27 09:45:05 -0500 (Tue, 27 Oct 2020)
malbec2 Linux (Ubuntu 20.04.1 LTS) / x86_64  OK  OK  WARNINGS UNNEEDED, same version exists in internal repository
riesling1 Windows Server 2019 Standard / x64 [ OK ] OK  WARNINGS 

Summary

Package: davidTiling
Version: 1.31.0
Command: C:\cygwin\bin\curl.exe -O http://172.29.0.4/BBS/3.13/data-experiment/src/contrib/davidTiling_1.31.0.tar.gz && rm -rf davidTiling.buildbin-libdir && mkdir davidTiling.buildbin-libdir && D:\biocbuild\bbs-3.13-bioc\R\bin\R.exe CMD INSTALL --merge-multiarch --build --library=davidTiling.buildbin-libdir davidTiling_1.31.0.tar.gz && D:\biocbuild\bbs-3.13-bioc\R\bin\R.exe CMD INSTALL davidTiling_1.31.0.zip && rm davidTiling_1.31.0.tar.gz davidTiling_1.31.0.zip
StartedAt: 2021-01-21 10:20:24 -0500 (Thu, 21 Jan 2021)
EndedAt: 2021-01-21 10:22:23 -0500 (Thu, 21 Jan 2021)
EllapsedTime: 118.6 seconds
RetCode: 0
Status:  OK  

Command output

##############################################################################
##############################################################################
###
### Running command:
###
###   C:\cygwin\bin\curl.exe -O http://172.29.0.4/BBS/3.13/data-experiment/src/contrib/davidTiling_1.31.0.tar.gz && rm -rf davidTiling.buildbin-libdir && mkdir davidTiling.buildbin-libdir && D:\biocbuild\bbs-3.13-bioc\R\bin\R.exe CMD INSTALL --merge-multiarch --build --library=davidTiling.buildbin-libdir davidTiling_1.31.0.tar.gz && D:\biocbuild\bbs-3.13-bioc\R\bin\R.exe CMD INSTALL davidTiling_1.31.0.zip && rm davidTiling_1.31.0.tar.gz davidTiling_1.31.0.zip
###
##############################################################################
##############################################################################


  % Total    % Received % Xferd  Average Speed   Time    Time     Time  Current
                                 Dload  Upload   Total   Spent    Left  Speed

  0     0    0     0    0     0      0      0 --:--:-- --:--:-- --:--:--     0
  0  537M    0  279k    0     0   878k      0  0:10:27 --:--:--  0:10:27  875k
  9  537M    9 53.5M    0     0  41.3M      0  0:00:13  0:00:01  0:00:12 41.3M
 15  537M   15 85.2M    0     0  37.2M      0  0:00:14  0:00:02  0:00:12 37.2M
 27  537M   27  146M    0     0  45.2M      0  0:00:11  0:00:03  0:00:08 45.2M
 40  537M   40  215M    0     0  50.7M      0  0:00:10  0:00:04  0:00:06 50.7M
 56  537M   56  301M    0     0  56.6M      0  0:00:09  0:00:05  0:00:04 60.2M
 66  537M   66  357M    0     0  55.8M      0  0:00:09  0:00:06  0:00:03 59.5M
 79  537M   79  427M    0     0  59.0M      0  0:00:09  0:00:07  0:00:02 69.0M
 99  537M   99  532M    0     0  64.2M      0  0:00:08  0:00:08 --:--:-- 76.4M
100  537M  100  537M    0     0  64.3M      0  0:00:08  0:00:08 --:--:-- 78.4M

install for i386

* installing *source* package 'davidTiling' ...
** using staged installation
** R
** data
** inst
** byte-compile and prepare package for lazy loading
** help
*** installing help indices
  converting help for package 'davidTiling'
    finding HTML links ... done
    GOHyperG                                html  
REDIRECT:topic	 GOHyperG -> GOHyperG.html [ SUCCESS ]
    davidTiling                             html  
REDIRECT:topic	 data:davidTiling -> davidTiling.html [ FAIL ]
REDIRECT:topic	 davidTiling -> davidTiling.html [ SUCCESS ]
    getAttributeField                       html  
REDIRECT:topic	 getAttributeField -> getAttributeField.html [ SUCCESS ]
    getGO                                   html  
REDIRECT:topic	 getAllGO -> getGO.html [ SUCCESS ]
REDIRECT:file	 getGO.html -> getGO.html [ SUCCESS ]
    gff                                     html  
REDIRECT:topic	 data:gff -> gff.html [ FAIL ]
REDIRECT:topic	 gff -> gff.html [ SUCCESS ]
    probeAnno                               html  
REDIRECT:topic	 data:probeAnno -> probeAnno.html [ FAIL ]
REDIRECT:topic	 probeAnno -> probeAnno.html [ SUCCESS ]
    scatterWithHist                         html  
REDIRECT:topic	 scatterWithHist -> scatterWithHist.html [ SUCCESS ]
    scoreSegments                           html  
REDIRECT:topic	 scoreSegments -> scoreSegments.html [ SUCCESS ]
    showDens                                html  
REDIRECT:topic	 showDens -> showDens.html [ SUCCESS ]
    yeastFeatures                           html  
REDIRECT:topic	 yeastFeatures -> yeastFeatures.html [ SUCCESS ]
** building package indices
** installing vignettes
** testing if installed package can be loaded from temporary location
** testing if installed package can be loaded from final location
** testing if installed package keeps a record of temporary installation path

install for x64

* installing *source* package 'davidTiling' ...
** testing if installed package can be loaded
* MD5 sums
packaged installation of 'davidTiling' as davidTiling_1.31.0.zip
* DONE (davidTiling)
* installing to library 'D:/biocbuild/bbs-3.13-bioc/R/library'
package 'davidTiling' successfully unpacked and MD5 sums checked