Back to Multiple platform build/check report for BioC 3.13 experimental data
ABC[D]EFGHIJKLMNOPQRSTUVWXYZ

BUILD report for davidTiling on riesling1

This page was generated on 2021-01-21 16:01:27 -0500 (Thu, 21 Jan 2021).

TO THE DEVELOPERS/MAINTAINERS OF THE davidTiling PACKAGE: Please make sure to use the following settings in order to reproduce any error or warning you see on this page.
Package 89/386HostnameOS / ArchINSTALLBUILDCHECK
davidTiling 1.31.0
Wolfgang Huber
Snapshot Date: 2021-01-21 09:00:14 -0500 (Thu, 21 Jan 2021)
URL: https://git.bioconductor.org/packages/davidTiling
Branch: master
Last Commit: 0c228f3
Last Changed Date: 2020-10-27 09:45:05 -0500 (Tue, 27 Oct 2020)
malbec2 Linux (Ubuntu 20.04.1 LTS) / x86_64  OK  OK  WARNINGS UNNEEDED, same version exists in internal repository
riesling1 Windows Server 2019 Standard / x64  OK [ OK ] WARNINGS 

Summary

Package: davidTiling
Version: 1.31.0
Command: chmod a+r davidTiling -R && D:\biocbuild\bbs-3.13-bioc\R\bin\R.exe CMD build --keep-empty-dirs --no-resave-data davidTiling
StartedAt: 2021-01-21 10:35:15 -0500 (Thu, 21 Jan 2021)
EndedAt: 2021-01-21 10:36:14 -0500 (Thu, 21 Jan 2021)
EllapsedTime: 58.8 seconds
RetCode: 0
Status:  OK  
PackageFile: davidTiling_1.31.0.tar.gz
PackageFileSize: 537.7 MiB

Command output

##############################################################################
##############################################################################
###
### Running command:
###
###   chmod a+r davidTiling -R && D:\biocbuild\bbs-3.13-bioc\R\bin\R.exe CMD build --keep-empty-dirs --no-resave-data davidTiling
###
##############################################################################
##############################################################################


* checking for file 'davidTiling/DESCRIPTION' ... OK
* preparing 'davidTiling':
* checking DESCRIPTION meta-information ... OK
* checking for LF line-endings in source and make files and shell scripts
* checking for empty or unneeded directories
* looking to see if a 'data/datalist' file should be added
* building 'davidTiling_1.31.0.tar.gz'