Back to Multiple platform build/check report for BioC 3.13 experimental data
AB[C]DEFGHIJKLMNOPQRSTUVWXYZ

BUILD report for curatedTCGAData on riesling1

This page was generated on 2021-01-14 15:59:07 -0500 (Thu, 14 Jan 2021).

TO THE DEVELOPERS/MAINTAINERS OF THE curatedTCGAData PACKAGE: Please make sure to use the following settings in order to reproduce any error or warning you see on this page.
Package 87/385HostnameOS / ArchINSTALLBUILDCHECK
curatedTCGAData 1.13.4
Marcel Ramos
Snapshot Date: 2021-01-14 09:00:13 -0500 (Thu, 14 Jan 2021)
URL: https://git.bioconductor.org/packages/curatedTCGAData
Branch: master
Last Commit: 56225c9
Last Changed Date: 2020-12-22 17:41:50 -0500 (Tue, 22 Dec 2020)
malbec2 Linux (Ubuntu 20.04.1 LTS) / x86_64  OK  OK  OK UNNEEDED, same version exists in internal repository
riesling1 Windows Server 2019 Standard / x64  OK [ OK ] OK 

Summary

Package: curatedTCGAData
Version: 1.13.4
Command: chmod a+r curatedTCGAData -R && D:\biocbuild\bbs-3.13-bioc\R\bin\R.exe CMD build --keep-empty-dirs --no-resave-data curatedTCGAData
StartedAt: 2021-01-14 10:31:04 -0500 (Thu, 14 Jan 2021)
EndedAt: 2021-01-14 10:32:31 -0500 (Thu, 14 Jan 2021)
EllapsedTime: 86.7 seconds
RetCode: 0
Status:  OK  
PackageFile: curatedTCGAData_1.13.4.tar.gz
PackageFileSize: 362.5 KiB

Command output

##############################################################################
##############################################################################
###
### Running command:
###
###   chmod a+r curatedTCGAData -R && D:\biocbuild\bbs-3.13-bioc\R\bin\R.exe CMD build --keep-empty-dirs --no-resave-data curatedTCGAData
###
##############################################################################
##############################################################################


* checking for file 'curatedTCGAData/DESCRIPTION' ... OK
* preparing 'curatedTCGAData':
* checking DESCRIPTION meta-information ... OK
* installing the package to build vignettes
* creating vignettes ... OK
* checking for LF line-endings in source and make files and shell scripts
* checking for empty or unneeded directories
* looking to see if a 'data/datalist' file should be added
* building 'curatedTCGAData_1.13.4.tar.gz'