Back to Multiple platform build/check report for BioC 3.13 experimental data
AB[C]DEFGHIJKLMNOPQRSTUVWXYZ

INSTALL report for curatedOvarianData on riesling1

This page was generated on 2021-01-14 15:59:07 -0500 (Thu, 14 Jan 2021).

TO THE DEVELOPERS/MAINTAINERS OF THE curatedOvarianData PACKAGE: Please make sure to use the following settings in order to reproduce any error or warning you see on this page.
Package 86/385HostnameOS / ArchINSTALLBUILDCHECK
curatedOvarianData 1.29.0
Levi Waldron
Snapshot Date: 2021-01-14 09:00:13 -0500 (Thu, 14 Jan 2021)
URL: https://git.bioconductor.org/packages/curatedOvarianData
Branch: master
Last Commit: f92ddad
Last Changed Date: 2020-10-27 10:00:26 -0500 (Tue, 27 Oct 2020)
malbec2 Linux (Ubuntu 20.04.1 LTS) / x86_64  OK  OK  OK UNNEEDED, same version exists in internal repository
riesling1 Windows Server 2019 Standard / x64 [ OK ] OK  OK 

Summary

Package: curatedOvarianData
Version: 1.29.0
Command: C:\cygwin\bin\curl.exe -O http://172.29.0.4/BBS/3.13/data-experiment/src/contrib/curatedOvarianData_1.29.0.tar.gz && rm -rf curatedOvarianData.buildbin-libdir && mkdir curatedOvarianData.buildbin-libdir && D:\biocbuild\bbs-3.13-bioc\R\bin\R.exe CMD INSTALL --merge-multiarch --build --library=curatedOvarianData.buildbin-libdir curatedOvarianData_1.29.0.tar.gz && D:\biocbuild\bbs-3.13-bioc\R\bin\R.exe CMD INSTALL curatedOvarianData_1.29.0.zip && rm curatedOvarianData_1.29.0.tar.gz curatedOvarianData_1.29.0.zip
StartedAt: 2021-01-14 10:03:19 -0500 (Thu, 14 Jan 2021)
EndedAt: 2021-01-14 10:04:52 -0500 (Thu, 14 Jan 2021)
EllapsedTime: 93.9 seconds
RetCode: 0
Status:  OK  

Command output

##############################################################################
##############################################################################
###
### Running command:
###
###   C:\cygwin\bin\curl.exe -O http://172.29.0.4/BBS/3.13/data-experiment/src/contrib/curatedOvarianData_1.29.0.tar.gz && rm -rf curatedOvarianData.buildbin-libdir && mkdir curatedOvarianData.buildbin-libdir && D:\biocbuild\bbs-3.13-bioc\R\bin\R.exe CMD INSTALL --merge-multiarch --build --library=curatedOvarianData.buildbin-libdir curatedOvarianData_1.29.0.tar.gz && D:\biocbuild\bbs-3.13-bioc\R\bin\R.exe CMD INSTALL curatedOvarianData_1.29.0.zip && rm curatedOvarianData_1.29.0.tar.gz curatedOvarianData_1.29.0.zip
###
##############################################################################
##############################################################################


  % Total    % Received % Xferd  Average Speed   Time    Time     Time  Current
                                 Dload  Upload   Total   Spent    Left  Speed

  0     0    0     0    0     0      0      0 --:--:-- --:--:-- --:--:--     0
 14  380M   14 54.5M    0     0   109M      0  0:00:03 --:--:--  0:00:03  109M
 33  380M   33  127M    0     0  84.8M      0  0:00:04  0:00:01  0:00:03 84.8M
 63  380M   63  240M    0     0  96.1M      0  0:00:03  0:00:02  0:00:01 96.1M
 93  380M   93  353M    0     0   101M      0  0:00:03  0:00:03 --:--:--  101M
100  380M  100  380M    0     0   101M      0  0:00:03  0:00:03 --:--:--  101M

install for i386

* installing *source* package 'curatedOvarianData' ...
** using staged installation
** data
** inst
** help
*** installing help indices
  converting help for package 'curatedOvarianData'
    finding HTML links ... done
    E.MTAB.386_eset                         html  
REDIRECT:topic	  E.MTAB.386_eset  -> E.MTAB.386_eset.html [ SUCCESS ]
REDIRECT:file	 E.MTAB.386_eset.html -> E.MTAB.386_eset.html [ SUCCESS ]
    GSE12418_eset                           html  
REDIRECT:topic	  GSE12418_eset  -> GSE12418_eset.html [ SUCCESS ]
REDIRECT:file	 GSE12418_eset.html -> GSE12418_eset.html [ SUCCESS ]
    GSE12470_eset                           html  
REDIRECT:topic	  GSE12470_eset  -> GSE12470_eset.html [ SUCCESS ]
REDIRECT:file	 GSE12470_eset.html -> GSE12470_eset.html [ SUCCESS ]
    GSE13876_eset                           html  
REDIRECT:topic	  GSE13876_eset  -> GSE13876_eset.html [ SUCCESS ]
REDIRECT:file	 GSE13876_eset.html -> GSE13876_eset.html [ SUCCESS ]
    GSE14764_eset                           html  
REDIRECT:topic	  GSE14764_eset  -> GSE14764_eset.html [ SUCCESS ]
REDIRECT:file	 GSE14764_eset.html -> GSE14764_eset.html [ SUCCESS ]
    GSE17260_eset                           html  
REDIRECT:topic	  GSE17260_eset  -> GSE17260_eset.html [ SUCCESS ]
REDIRECT:file	 GSE17260_eset.html -> GSE17260_eset.html [ SUCCESS ]
    GSE18520_eset                           html  
REDIRECT:topic	  GSE18520_eset  -> GSE18520_eset.html [ SUCCESS ]
REDIRECT:file	 GSE18520_eset.html -> GSE18520_eset.html [ SUCCESS ]
    GSE19829.GPL570_eset                    html  
REDIRECT:topic	  GSE19829.GPL570_eset  -> GSE19829.GPL570_eset.html [ SUCCESS ]
REDIRECT:file	 GSE19829.GPL570_eset.html -> GSE19829.GPL570_eset.html [ SUCCESS ]
    GSE19829.GPL8300_eset                   html  
REDIRECT:topic	  GSE19829.GPL8300_eset  -> GSE19829.GPL8300_eset.html [ SUCCESS ]
REDIRECT:file	 GSE19829.GPL8300_eset.html -> GSE19829.GPL8300_eset.html [ SUCCESS ]
    GSE20565_eset                           html  
REDIRECT:topic	  GSE20565_eset  -> GSE20565_eset.html [ SUCCESS ]
REDIRECT:file	 GSE20565_eset.html -> GSE20565_eset.html [ SUCCESS ]
    GSE2109_eset                            html  
REDIRECT:topic	  GSE2109_eset  -> GSE2109_eset.html [ SUCCESS ]
REDIRECT:file	 GSE2109_eset.html -> GSE2109_eset.html [ SUCCESS ]
    GSE26193_eset                           html  
REDIRECT:topic	  GSE26193_eset  -> GSE26193_eset.html [ SUCCESS ]
REDIRECT:file	 GSE26193_eset.html -> GSE26193_eset.html [ SUCCESS ]
    GSE26712_eset                           html  
REDIRECT:topic	  GSE26712_eset  -> GSE26712_eset.html [ SUCCESS ]
REDIRECT:file	 GSE26712_eset.html -> GSE26712_eset.html [ SUCCESS ]
    GSE30009_eset                           html  
REDIRECT:topic	  GSE30009_eset  -> GSE30009_eset.html [ SUCCESS ]
REDIRECT:file	 GSE30009_eset.html -> GSE30009_eset.html [ SUCCESS ]
    GSE30161_eset                           html  
REDIRECT:topic	  GSE30161_eset  -> GSE30161_eset.html [ SUCCESS ]
REDIRECT:file	 GSE30161_eset.html -> GSE30161_eset.html [ SUCCESS ]
    GSE32062.GPL6480_eset                   html  
REDIRECT:topic	  GSE32062.GPL6480_eset  -> GSE32062.GPL6480_eset.html [ SUCCESS ]
REDIRECT:file	 GSE32062.GPL6480_eset.html -> GSE32062.GPL6480_eset.html [ SUCCESS ]
    GSE32063_eset                           html  
REDIRECT:topic	  GSE32063_eset  -> GSE32063_eset.html [ SUCCESS ]
REDIRECT:file	 GSE32063_eset.html -> GSE32063_eset.html [ SUCCESS ]
    GSE44104_eset                           html  
REDIRECT:topic	  GSE44104_eset  -> GSE44104_eset.html [ SUCCESS ]
REDIRECT:file	 GSE44104_eset.html -> GSE44104_eset.html [ SUCCESS ]
    GSE49997_eset                           html  
REDIRECT:topic	  GSE49997_eset  -> GSE49997_eset.html [ SUCCESS ]
REDIRECT:file	 GSE49997_eset.html -> GSE49997_eset.html [ SUCCESS ]
    GSE51088_eset                           html  
REDIRECT:topic	  GSE51088_eset  -> GSE51088_eset.html [ SUCCESS ]
REDIRECT:file	 GSE51088_eset.html -> GSE51088_eset.html [ SUCCESS ]
    GSE6008_eset                            html  
REDIRECT:topic	  GSE6008_eset  -> GSE6008_eset.html [ SUCCESS ]
REDIRECT:file	 GSE6008_eset.html -> GSE6008_eset.html [ SUCCESS ]
    GSE6822_eset                            html  
REDIRECT:topic	  GSE6822_eset  -> GSE6822_eset.html [ SUCCESS ]
REDIRECT:file	 GSE6822_eset.html -> GSE6822_eset.html [ SUCCESS ]
    GSE8842_eset                            html  
REDIRECT:topic	  GSE8842_eset  -> GSE8842_eset.html [ SUCCESS ]
REDIRECT:file	 GSE8842_eset.html -> GSE8842_eset.html [ SUCCESS ]
    GSE9891_eset                            html  
REDIRECT:topic	  GSE9891_eset  -> GSE9891_eset.html [ SUCCESS ]
REDIRECT:file	 GSE9891_eset.html -> GSE9891_eset.html [ SUCCESS ]
    PMID15897565_eset                       html  
REDIRECT:topic	  PMID15897565_eset  -> PMID15897565_eset.html [ SUCCESS ]
REDIRECT:file	 PMID15897565_eset.html -> PMID15897565_eset.html [ SUCCESS ]
    PMID17290060_eset                       html  
REDIRECT:topic	  PMID17290060_eset  -> PMID17290060_eset.html [ SUCCESS ]
REDIRECT:file	 PMID17290060_eset.html -> PMID17290060_eset.html [ SUCCESS ]
    PMID19318476_eset                       html  
REDIRECT:topic	  PMID19318476_eset  -> PMID19318476_eset.html [ SUCCESS ]
REDIRECT:file	 PMID19318476_eset.html -> PMID19318476_eset.html [ SUCCESS ]
    TCGA.RNASeqV2_eset                      html  
REDIRECT:topic	  TCGA.RNASeqV2_eset  -> TCGA.RNASeqV2_eset.html [ SUCCESS ]
REDIRECT:file	 TCGA.RNASeqV2_eset.html -> TCGA.RNASeqV2_eset.html [ SUCCESS ]
    TCGA.mirna.8x15kv2_eset                 html  
REDIRECT:topic	  TCGA.mirna.8x15kv2_eset  -> TCGA.mirna.8x15kv2_eset.html [ SUCCESS ]
REDIRECT:file	 TCGA.mirna.8x15kv2_eset.html -> TCGA.mirna.8x15kv2_eset.html [ SUCCESS ]
    TCGA_eset                               html  
REDIRECT:topic	  TCGA_eset  -> TCGA_eset.html [ SUCCESS ]
REDIRECT:file	 TCGA_eset.html -> TCGA_eset.html [ SUCCESS ]
    curatedOvarianData-package              html  
REDIRECT:topic	 curatedOvarianData -> curatedOvarianData-package.html [ SUCCESS ]
REDIRECT:file	 curatedOvarianData-package.html -> curatedOvarianData-package.html [ SUCCESS ]
** building package indices
** installing vignettes
** testing if installed package can be loaded from temporary location
** testing if installed package can be loaded from final location
** testing if installed package keeps a record of temporary installation path

install for x64

* installing *source* package 'curatedOvarianData' ...
** testing if installed package can be loaded
* MD5 sums
packaged installation of 'curatedOvarianData' as curatedOvarianData_1.29.0.zip
* DONE (curatedOvarianData)
* installing to library 'D:/biocbuild/bbs-3.13-bioc/R/library'
package 'curatedOvarianData' successfully unpacked and MD5 sums checked