Back to Multiple platform build/check report for BioC 3.13 experimental data
AB[C]DEFGHIJKLMNOPQRSTUVWXYZ

BUILD report for curatedMetagenomicData on riesling1

This page was generated on 2021-01-21 16:01:26 -0500 (Thu, 21 Jan 2021).

TO THE DEVELOPERS/MAINTAINERS OF THE curatedMetagenomicData PACKAGE: Please make sure to use the following settings in order to reproduce any error or warning you see on this page.
Package 85/386HostnameOS / ArchINSTALLBUILDCHECK
curatedMetagenomicData 1.21.0
Lucas Schiffer
Snapshot Date: 2021-01-21 09:00:14 -0500 (Thu, 21 Jan 2021)
URL: https://git.bioconductor.org/packages/curatedMetagenomicData
Branch: master
Last Commit: 8f99117
Last Changed Date: 2020-10-27 10:20:00 -0500 (Tue, 27 Oct 2020)
malbec2 Linux (Ubuntu 20.04.1 LTS) / x86_64  OK  OK  OK UNNEEDED, same version exists in internal repository
riesling1 Windows Server 2019 Standard / x64  OK [ OK ] OK 

Summary

Package: curatedMetagenomicData
Version: 1.21.0
Command: chmod a+r curatedMetagenomicData -R && D:\biocbuild\bbs-3.13-bioc\R\bin\R.exe CMD build --keep-empty-dirs --no-resave-data curatedMetagenomicData
StartedAt: 2021-01-21 10:34:35 -0500 (Thu, 21 Jan 2021)
EndedAt: 2021-01-21 10:35:26 -0500 (Thu, 21 Jan 2021)
EllapsedTime: 51.0 seconds
RetCode: 0
Status:  OK  
PackageFile: curatedMetagenomicData_1.21.0.tar.gz
PackageFileSize: 2.566 MiB

Command output

##############################################################################
##############################################################################
###
### Running command:
###
###   chmod a+r curatedMetagenomicData -R && D:\biocbuild\bbs-3.13-bioc\R\bin\R.exe CMD build --keep-empty-dirs --no-resave-data curatedMetagenomicData
###
##############################################################################
##############################################################################


* checking for file 'curatedMetagenomicData/DESCRIPTION' ... OK
* preparing 'curatedMetagenomicData':
* checking DESCRIPTION meta-information ... OK
* installing the package to build vignettes
* creating vignettes ... OK
* checking for LF line-endings in source and make files and shell scripts
* checking for empty or unneeded directories
* building 'curatedMetagenomicData_1.21.0.tar.gz'