Back to Multiple platform build/check report for BioC 3.13 experimental data
AB[C]DEFGHIJKLMNOPQRSTUVWXYZ

CHECK report for curatedCRCData on riesling1

This page was generated on 2021-01-14 15:59:07 -0500 (Thu, 14 Jan 2021).

TO THE DEVELOPERS/MAINTAINERS OF THE curatedCRCData PACKAGE: Please make sure to use the following settings in order to reproduce any error or warning you see on this page.
Package 84/385HostnameOS / ArchINSTALLBUILDCHECK
curatedCRCData 2.23.0
Princy Parsana
Snapshot Date: 2021-01-14 09:00:13 -0500 (Thu, 14 Jan 2021)
URL: https://git.bioconductor.org/packages/curatedCRCData
Branch: master
Last Commit: 7453b6e
Last Changed Date: 2020-10-27 10:06:49 -0500 (Tue, 27 Oct 2020)
malbec2 Linux (Ubuntu 20.04.1 LTS) / x86_64  OK  OK  OK UNNEEDED, same version exists in internal repository
riesling1 Windows Server 2019 Standard / x64  OK  OK [ OK ]

Summary

Package: curatedCRCData
Version: 2.23.0
Command: D:\biocbuild\bbs-3.13-bioc\R\bin\R.exe CMD check --force-multiarch --install=check:curatedCRCData.install-out.txt --library=D:\biocbuild\bbs-3.13-bioc\R\library --no-vignettes --timings curatedCRCData_2.23.0.tar.gz
StartedAt: 2021-01-14 11:12:45 -0500 (Thu, 14 Jan 2021)
EndedAt: 2021-01-14 11:14:36 -0500 (Thu, 14 Jan 2021)
EllapsedTime: 111.4 seconds
RetCode: 0
Status:  OK  
CheckDir: curatedCRCData.Rcheck
Warnings: 0

Command output

##############################################################################
##############################################################################
###
### Running command:
###
###   D:\biocbuild\bbs-3.13-bioc\R\bin\R.exe CMD check --force-multiarch --install=check:curatedCRCData.install-out.txt --library=D:\biocbuild\bbs-3.13-bioc\R\library --no-vignettes --timings curatedCRCData_2.23.0.tar.gz
###
##############################################################################
##############################################################################


* using log directory 'D:/biocbuild/bbs-3.13-data-experiment/meat/curatedCRCData.Rcheck'
* using R Under development (unstable) (2020-12-30 r79736)
* using platform: x86_64-w64-mingw32 (64-bit)
* using session charset: ISO8859-1
* using option '--no-vignettes'
* checking for file 'curatedCRCData/DESCRIPTION' ... OK
* checking extension type ... Package
* this is package 'curatedCRCData' version '2.23.0'
* checking package namespace information ... OK
* checking package dependencies ... OK
* checking if this is a source package ... OK
* checking if there is a namespace ... OK
* checking for hidden files and directories ... OK
* checking for portable file names ... OK
* checking whether package 'curatedCRCData' can be installed ... OK
* checking installed package size ... NOTE
  installed size is 399.6Mb
  sub-directories of 1Mb or more:
    data  398.9Mb
* checking package directory ... OK
* checking 'build' directory ... OK
* checking DESCRIPTION meta-information ... OK
* checking top-level files ... OK
* checking for left-over files ... OK
* checking index information ... OK
* checking package subdirectories ... OK
* loading checks for arch 'i386'
** checking whether the package can be loaded ... OK
** checking whether the package can be loaded with stated dependencies ... OK
** checking whether the package can be unloaded cleanly ... OK
** checking whether the namespace can be loaded with stated dependencies ... OK
** checking whether the namespace can be unloaded cleanly ... OK
* loading checks for arch 'x64'
** checking whether the package can be loaded ... OK
** checking whether the package can be loaded with stated dependencies ... OK
** checking whether the package can be unloaded cleanly ... OK
** checking whether the namespace can be loaded with stated dependencies ... OK
** checking whether the namespace can be unloaded cleanly ... OK
* checking Rd files ... OK
* checking Rd metadata ... OK
* checking Rd cross-references ... OK
* checking for missing documentation entries ... OK
* checking for code/documentation mismatches ... OK
* checking Rd \usage sections ... OK
* checking Rd contents ... OK
* checking for unstated dependencies in examples ... OK
* checking contents of 'data' directory ... OK
* checking data for non-ASCII characters ... OK
* checking data for ASCII and uncompressed saves ... OK
* checking files in 'vignettes' ... OK
* checking examples ...
** running examples for arch 'i386' ... OK
** running examples for arch 'x64' ... OK
* checking for unstated dependencies in vignettes ... OK
* checking package vignettes in 'inst/doc' ... OK
* checking running R code from vignettes ... SKIPPED
* checking re-building of vignette outputs ... SKIPPED
* checking PDF version of manual ... OK
* DONE

Status: 1 NOTE
See
  'D:/biocbuild/bbs-3.13-data-experiment/meat/curatedCRCData.Rcheck/00check.log'
for details.



Installation output

curatedCRCData.Rcheck/00install.out

##############################################################################
##############################################################################
###
### Running command:
###
###   C:\cygwin\bin\curl.exe -O http://172.29.0.4/BBS/3.13/data-experiment/src/contrib/curatedCRCData_2.23.0.tar.gz && rm -rf curatedCRCData.buildbin-libdir && mkdir curatedCRCData.buildbin-libdir && D:\biocbuild\bbs-3.13-bioc\R\bin\R.exe CMD INSTALL --merge-multiarch --build --library=curatedCRCData.buildbin-libdir curatedCRCData_2.23.0.tar.gz && D:\biocbuild\bbs-3.13-bioc\R\bin\R.exe CMD INSTALL curatedCRCData_2.23.0.zip && rm curatedCRCData_2.23.0.tar.gz curatedCRCData_2.23.0.zip
###
##############################################################################
##############################################################################


  % Total    % Received % Xferd  Average Speed   Time    Time     Time  Current
                                 Dload  Upload   Total   Spent    Left  Speed

  0     0    0     0    0     0      0      0 --:--:-- --:--:-- --:--:--     0
  9  398M    9 36.1M    0     0  64.9M      0  0:00:06 --:--:--  0:00:06 64.8M
 29  398M   29  119M    0     0  69.8M      0  0:00:05  0:00:01  0:00:04 69.8M
 54  398M   54  217M    0     0  85.0M      0  0:00:04  0:00:02  0:00:02 84.9M
 68  398M   68  272M    0     0  76.5M      0  0:00:05  0:00:03  0:00:02 76.5M
 86  398M   86  344M    0     0  75.5M      0  0:00:05  0:00:04  0:00:01 75.5M
100  398M  100  398M    0     0  71.7M      0  0:00:05  0:00:05 --:--:-- 72.5M

install for i386

* installing *source* package 'curatedCRCData' ...
** using staged installation
** data
** inst
** help
*** installing help indices
  converting help for package 'curatedCRCData'
    finding HTML links ... done
    GSE11237_eset                           html  
REDIRECT:topic	  GSE11237_eset  -> GSE11237_eset.html [ SUCCESS ]
REDIRECT:file	 GSE11237_eset.html -> GSE11237_eset.html [ SUCCESS ]
    GSE12225.GPL3676_eset                   html  
REDIRECT:topic	  GSE12225.GPL3676_eset  -> GSE12225.GPL3676_eset.html [ SUCCESS ]
REDIRECT:file	 GSE12225.GPL3676_eset.html -> GSE12225.GPL3676_eset.html [ SUCCESS ]
    GSE12945_eset                           html  
REDIRECT:topic	  GSE12945_eset  -> GSE12945_eset.html [ SUCCESS ]
REDIRECT:file	 GSE12945_eset.html -> GSE12945_eset.html [ SUCCESS ]
    GSE13067_eset                           html  
REDIRECT:topic	  GSE13067_eset  -> GSE13067_eset.html [ SUCCESS ]
REDIRECT:file	 GSE13067_eset.html -> GSE13067_eset.html [ SUCCESS ]
    GSE13294_eset                           html  
REDIRECT:topic	  GSE13294_eset  -> GSE13294_eset.html [ SUCCESS ]
REDIRECT:file	 GSE13294_eset.html -> GSE13294_eset.html [ SUCCESS ]
    GSE14095_eset                           html  
REDIRECT:topic	  GSE14095_eset  -> GSE14095_eset.html [ SUCCESS ]
REDIRECT:file	 GSE14095_eset.html -> GSE14095_eset.html [ SUCCESS ]
    GSE14333_eset                           html  
REDIRECT:topic	  GSE14333_eset  -> GSE14333_eset.html [ SUCCESS ]
REDIRECT:file	 GSE14333_eset.html -> GSE14333_eset.html [ SUCCESS ]
    GSE16125.GPL5175_eset                   html  
REDIRECT:topic	  GSE16125.GPL5175_eset  -> GSE16125.GPL5175_eset.html [ SUCCESS ]
REDIRECT:file	 GSE16125.GPL5175_eset.html -> GSE16125.GPL5175_eset.html [ SUCCESS ]
    GSE17536_eset                           html  
REDIRECT:topic	  GSE17536_eset  -> GSE17536_eset.html [ SUCCESS ]
REDIRECT:file	 GSE17536_eset.html -> GSE17536_eset.html [ SUCCESS ]
    GSE17537_eset                           html  
REDIRECT:topic	  GSE17537_eset  -> GSE17537_eset.html [ SUCCESS ]
REDIRECT:file	 GSE17537_eset.html -> GSE17537_eset.html [ SUCCESS ]
    GSE17538.GPL570_eset                    html  
REDIRECT:topic	  GSE17538.GPL570_eset  -> GSE17538.GPL570_eset.html [ SUCCESS ]
REDIRECT:file	 GSE17538.GPL570_eset.html -> GSE17538.GPL570_eset.html [ SUCCESS ]
    GSE18105_eset                           html  
REDIRECT:topic	  GSE18105_eset  -> GSE18105_eset.html [ SUCCESS ]
REDIRECT:file	 GSE18105_eset.html -> GSE18105_eset.html [ SUCCESS ]
    GSE2109_eset                            html  
REDIRECT:topic	  GSE2109_eset  -> GSE2109_eset.html [ SUCCESS ]
REDIRECT:file	 GSE2109_eset.html -> GSE2109_eset.html [ SUCCESS ]
    GSE21510_eset                           html  
REDIRECT:topic	  GSE21510_eset  -> GSE21510_eset.html [ SUCCESS ]
REDIRECT:file	 GSE21510_eset.html -> GSE21510_eset.html [ SUCCESS ]
    GSE21815_eset                           html  
REDIRECT:topic	  GSE21815_eset  -> GSE21815_eset.html [ SUCCESS ]
REDIRECT:file	 GSE21815_eset.html -> GSE21815_eset.html [ SUCCESS ]
    GSE24549.GPL5175_eset                   html  
REDIRECT:topic	  GSE24549.GPL5175_eset  -> GSE24549.GPL5175_eset.html [ SUCCESS ]
REDIRECT:file	 GSE24549.GPL5175_eset.html -> GSE24549.GPL5175_eset.html [ SUCCESS ]
    GSE24550.GPL5175_eset                   html  
REDIRECT:topic	  GSE24550.GPL5175_eset  -> GSE24550.GPL5175_eset.html [ SUCCESS ]
REDIRECT:file	 GSE24550.GPL5175_eset.html -> GSE24550.GPL5175_eset.html [ SUCCESS ]
    GSE2630_eset                            html  
REDIRECT:topic	  GSE2630_eset  -> GSE2630_eset.html [ SUCCESS ]
REDIRECT:file	 GSE2630_eset.html -> GSE2630_eset.html [ SUCCESS ]
    GSE26682.GPL570_eset                    html  
REDIRECT:topic	  GSE26682.GPL570_eset  -> GSE26682.GPL570_eset.html [ SUCCESS ]
REDIRECT:file	 GSE26682.GPL570_eset.html -> GSE26682.GPL570_eset.html [ SUCCESS ]
    GSE26682.GPL96_eset                     html  
REDIRECT:topic	  GSE26682.GPL96_eset  -> GSE26682.GPL96_eset.html [ SUCCESS ]
REDIRECT:file	 GSE26682.GPL96_eset.html -> GSE26682.GPL96_eset.html [ SUCCESS ]
    GSE26906_eset                           html  
REDIRECT:topic	  GSE26906_eset  -> GSE26906_eset.html [ SUCCESS ]
REDIRECT:file	 GSE26906_eset.html -> GSE26906_eset.html [ SUCCESS ]
    GSE27544_eset                           html  
REDIRECT:topic	  GSE27544_eset  -> GSE27544_eset.html [ SUCCESS ]
REDIRECT:file	 GSE27544_eset.html -> GSE27544_eset.html [ SUCCESS ]
    GSE28702_eset                           html  
REDIRECT:topic	  GSE28702_eset  -> GSE28702_eset.html [ SUCCESS ]
REDIRECT:file	 GSE28702_eset.html -> GSE28702_eset.html [ SUCCESS ]
    GSE3294_eset                            html  
REDIRECT:topic	  GSE3294_eset  -> GSE3294_eset.html [ SUCCESS ]
REDIRECT:file	 GSE3294_eset.html -> GSE3294_eset.html [ SUCCESS ]
    GSE33113_eset                           html  
REDIRECT:topic	  GSE33113_eset  -> GSE33113_eset.html [ SUCCESS ]
REDIRECT:file	 GSE33113_eset.html -> GSE33113_eset.html [ SUCCESS ]
    GSE39582_eset                           html  
REDIRECT:topic	  GSE39582_eset  -> GSE39582_eset.html [ SUCCESS ]
REDIRECT:file	 GSE39582_eset.html -> GSE39582_eset.html [ SUCCESS ]
    GSE3964_eset                            html  
REDIRECT:topic	  GSE3964_eset  -> GSE3964_eset.html [ SUCCESS ]
REDIRECT:file	 GSE3964_eset.html -> GSE3964_eset.html [ SUCCESS ]
    GSE4045_eset                            html  
REDIRECT:topic	  GSE4045_eset  -> GSE4045_eset.html [ SUCCESS ]
REDIRECT:file	 GSE4045_eset.html -> GSE4045_eset.html [ SUCCESS ]
    GSE4526_eset                            html  
REDIRECT:topic	  GSE4526_eset  -> GSE4526_eset.html [ SUCCESS ]
REDIRECT:file	 GSE4526_eset.html -> GSE4526_eset.html [ SUCCESS ]
    GSE45270_eset                           html  
REDIRECT:topic	  GSE45270_eset  -> GSE45270_eset.html [ SUCCESS ]
REDIRECT:file	 GSE45270_eset.html -> GSE45270_eset.html [ SUCCESS ]
    TCGA.COAD_eset                          html  
REDIRECT:topic	  TCGA.COAD_eset  -> TCGA.COAD_eset.html [ SUCCESS ]
REDIRECT:file	 TCGA.COAD_eset.html -> TCGA.COAD_eset.html [ SUCCESS ]
    TCGA.READ_eset                          html  
REDIRECT:topic	  TCGA.READ_eset  -> TCGA.READ_eset.html [ SUCCESS ]
REDIRECT:file	 TCGA.READ_eset.html -> TCGA.READ_eset.html [ SUCCESS ]
    TCGA.RNASeqV2.READ_eset                 html  
REDIRECT:topic	  TCGA.RNASeqV2.READ_eset  -> TCGA.RNASeqV2.READ_eset.html [ SUCCESS ]
REDIRECT:file	 TCGA.RNASeqV2.READ_eset.html -> TCGA.RNASeqV2.READ_eset.html [ SUCCESS ]
    TCGA.RNASeqV2_eset                      html  
REDIRECT:topic	  TCGA.RNASeqV2_eset  -> TCGA.RNASeqV2_eset.html [ SUCCESS ]
REDIRECT:file	 TCGA.RNASeqV2_eset.html -> TCGA.RNASeqV2_eset.html [ SUCCESS ]
    curatedCRCData-package                  html  
REDIRECT:topic	 curatedCRCData -> curatedCRCData-package.html [ SUCCESS ]
REDIRECT:file	 curatedCRCData-package.html -> curatedCRCData-package.html [ SUCCESS ]
** building package indices
** installing vignettes
** testing if installed package can be loaded from temporary location
** testing if installed package can be loaded from final location
** testing if installed package keeps a record of temporary installation path

install for x64

* installing *source* package 'curatedCRCData' ...
** testing if installed package can be loaded
* MD5 sums
packaged installation of 'curatedCRCData' as curatedCRCData_2.23.0.zip
* DONE (curatedCRCData)
* installing to library 'D:/biocbuild/bbs-3.13-bioc/R/library'
package 'curatedCRCData' successfully unpacked and MD5 sums checked

Tests output


Example timings

curatedCRCData.Rcheck/examples_i386/curatedCRCData-Ex.timings

nameusersystemelapsed
curatedCRCData-package0.020.000.02

curatedCRCData.Rcheck/examples_x64/curatedCRCData-Ex.timings

nameusersystemelapsed
curatedCRCData-package0.020.000.01