Back to Multiple platform build/check report for BioC 3.13 experimental data
AB[C]DEFGHIJKLMNOPQRSTUVWXYZ

BUILD report for curatedCRCData on riesling1

This page was generated on 2021-01-14 15:59:07 -0500 (Thu, 14 Jan 2021).

TO THE DEVELOPERS/MAINTAINERS OF THE curatedCRCData PACKAGE: Please make sure to use the following settings in order to reproduce any error or warning you see on this page.
Package 84/385HostnameOS / ArchINSTALLBUILDCHECK
curatedCRCData 2.23.0
Princy Parsana
Snapshot Date: 2021-01-14 09:00:13 -0500 (Thu, 14 Jan 2021)
URL: https://git.bioconductor.org/packages/curatedCRCData
Branch: master
Last Commit: 7453b6e
Last Changed Date: 2020-10-27 10:06:49 -0500 (Tue, 27 Oct 2020)
malbec2 Linux (Ubuntu 20.04.1 LTS) / x86_64  OK  OK  OK UNNEEDED, same version exists in internal repository
riesling1 Windows Server 2019 Standard / x64  OK [ OK ] OK 

Summary

Package: curatedCRCData
Version: 2.23.0
Command: chmod a+r curatedCRCData -R && D:\biocbuild\bbs-3.13-bioc\R\bin\R.exe CMD build --keep-empty-dirs --no-resave-data curatedCRCData
StartedAt: 2021-01-14 10:30:36 -0500 (Thu, 14 Jan 2021)
EndedAt: 2021-01-14 10:32:10 -0500 (Thu, 14 Jan 2021)
EllapsedTime: 94.3 seconds
RetCode: 0
Status:  OK  
PackageFile: curatedCRCData_2.23.0.tar.gz
PackageFileSize: 399 MiB

Command output

##############################################################################
##############################################################################
###
### Running command:
###
###   chmod a+r curatedCRCData -R && D:\biocbuild\bbs-3.13-bioc\R\bin\R.exe CMD build --keep-empty-dirs --no-resave-data curatedCRCData
###
##############################################################################
##############################################################################


* checking for file 'curatedCRCData/DESCRIPTION' ... OK
* preparing 'curatedCRCData':
* checking DESCRIPTION meta-information ... OK
* installing the package to process help pages
* building the PDF package manual
Hmm ... looks like a package
Converting Rd files to LaTeX ...
Creating pdf output from LaTeX ...
Saving output to 'D:/biocbuild/bbs-3.13-data-experiment/tmpdir/RtmpisnYvI/Rbuild1a79826ac4d69/curatedCRCData/build/curatedCRCData.pdf' ...
Done
* creating vignettes ... OK
* checking for LF line-endings in source and make files and shell scripts
* checking for empty or unneeded directories
* looking to see if a 'data/datalist' file should be added
* building 'curatedCRCData_2.23.0.tar.gz'