Back to Multiple platform build/check report for BioC 3.13 experimental data
AB[C]DEFGHIJKLMNOPQRSTUVWXYZ

INSTALL report for curatedBladderData on riesling1

This page was generated on 2021-01-21 16:01:26 -0500 (Thu, 21 Jan 2021).

TO THE DEVELOPERS/MAINTAINERS OF THE curatedBladderData PACKAGE: Please make sure to use the following settings in order to reproduce any error or warning you see on this page.
Package 82/386HostnameOS / ArchINSTALLBUILDCHECK
curatedBladderData 1.27.0
Markus Riester
Snapshot Date: 2021-01-21 09:00:14 -0500 (Thu, 21 Jan 2021)
URL: https://git.bioconductor.org/packages/curatedBladderData
Branch: master
Last Commit: d804766
Last Changed Date: 2020-10-27 10:05:27 -0500 (Tue, 27 Oct 2020)
malbec2 Linux (Ubuntu 20.04.1 LTS) / x86_64  OK  OK  OK UNNEEDED, same version exists in internal repository
riesling1 Windows Server 2019 Standard / x64 [ OK ] OK  OK 

Summary

Package: curatedBladderData
Version: 1.27.0
Command: C:\cygwin\bin\curl.exe -O http://172.29.0.4/BBS/3.13/data-experiment/src/contrib/curatedBladderData_1.27.0.tar.gz && rm -rf curatedBladderData.buildbin-libdir && mkdir curatedBladderData.buildbin-libdir && D:\biocbuild\bbs-3.13-bioc\R\bin\R.exe CMD INSTALL --merge-multiarch --build --library=curatedBladderData.buildbin-libdir curatedBladderData_1.27.0.tar.gz && D:\biocbuild\bbs-3.13-bioc\R\bin\R.exe CMD INSTALL curatedBladderData_1.27.0.zip && rm curatedBladderData_1.27.0.tar.gz curatedBladderData_1.27.0.zip
StartedAt: 2021-01-21 10:04:34 -0500 (Thu, 21 Jan 2021)
EndedAt: 2021-01-21 10:04:50 -0500 (Thu, 21 Jan 2021)
EllapsedTime: 16.2 seconds
RetCode: 0
Status:  OK  

Command output

##############################################################################
##############################################################################
###
### Running command:
###
###   C:\cygwin\bin\curl.exe -O http://172.29.0.4/BBS/3.13/data-experiment/src/contrib/curatedBladderData_1.27.0.tar.gz && rm -rf curatedBladderData.buildbin-libdir && mkdir curatedBladderData.buildbin-libdir && D:\biocbuild\bbs-3.13-bioc\R\bin\R.exe CMD INSTALL --merge-multiarch --build --library=curatedBladderData.buildbin-libdir curatedBladderData_1.27.0.tar.gz && D:\biocbuild\bbs-3.13-bioc\R\bin\R.exe CMD INSTALL curatedBladderData_1.27.0.zip && rm curatedBladderData_1.27.0.tar.gz curatedBladderData_1.27.0.zip
###
##############################################################################
##############################################################################


  % Total    % Received % Xferd  Average Speed   Time    Time     Time  Current
                                 Dload  Upload   Total   Spent    Left  Speed

  0     0    0     0    0     0      0      0 --:--:-- --:--:-- --:--:--     0
 45 74.6M   45 33.9M    0     0   101M      0 --:--:-- --:--:-- --:--:--  101M
100 74.6M  100 74.6M    0     0  89.2M      0 --:--:-- --:--:-- --:--:-- 89.1M

install for i386

* installing *source* package 'curatedBladderData' ...
** using staged installation
** data
** inst
** help
*** installing help indices
  converting help for package 'curatedBladderData'
    finding HTML links ... done
    GSE13507_eset                           html  
REDIRECT:topic	  GSE13507_eset  -> GSE13507_eset.html [ SUCCESS ]
REDIRECT:file	 GSE13507_eset.html -> GSE13507_eset.html [ SUCCESS ]
    GSE1827_eset                            html  
REDIRECT:topic	  GSE1827_eset  -> GSE1827_eset.html [ SUCCESS ]
REDIRECT:file	 GSE1827_eset.html -> GSE1827_eset.html [ SUCCESS ]
    GSE19915.GPL3883_eset                   html  
REDIRECT:topic	  GSE19915.GPL3883_eset  -> GSE19915.GPL3883_eset.html [ SUCCESS ]
REDIRECT:file	 GSE19915.GPL3883_eset.html -> GSE19915.GPL3883_eset.html [ SUCCESS ]
    GSE19915.GPL5186_eset                   html  
REDIRECT:topic	  GSE19915.GPL5186_eset  -> GSE19915.GPL5186_eset.html [ SUCCESS ]
REDIRECT:file	 GSE19915.GPL5186_eset.html -> GSE19915.GPL5186_eset.html [ SUCCESS ]
    GSE31189_eset                           html  
REDIRECT:topic	  GSE31189_eset  -> GSE31189_eset.html [ SUCCESS ]
REDIRECT:file	 GSE31189_eset.html -> GSE31189_eset.html [ SUCCESS ]
    GSE31684_eset                           html  
REDIRECT:topic	  GSE31684_eset  -> GSE31684_eset.html [ SUCCESS ]
REDIRECT:file	 GSE31684_eset.html -> GSE31684_eset.html [ SUCCESS ]
    GSE32894_eset                           html  
REDIRECT:topic	  GSE32894_eset  -> GSE32894_eset.html [ SUCCESS ]
REDIRECT:file	 GSE32894_eset.html -> GSE32894_eset.html [ SUCCESS ]
    GSE37317_eset                           html  
REDIRECT:topic	  GSE37317_eset  -> GSE37317_eset.html [ SUCCESS ]
REDIRECT:file	 GSE37317_eset.html -> GSE37317_eset.html [ SUCCESS ]
    GSE5287_eset                            html  
REDIRECT:topic	  GSE5287_eset  -> GSE5287_eset.html [ SUCCESS ]
REDIRECT:file	 GSE5287_eset.html -> GSE5287_eset.html [ SUCCESS ]
    GSE89_eset                              html  
REDIRECT:topic	  GSE89_eset  -> GSE89_eset.html [ SUCCESS ]
REDIRECT:file	 GSE89_eset.html -> GSE89_eset.html [ SUCCESS ]
    PMID17099711.GPL8300_eset               html  
REDIRECT:topic	  PMID17099711.GPL8300_eset  -> PMID17099711.GPL8300_eset.html [ SUCCESS ]
REDIRECT:file	 PMID17099711.GPL8300_eset.html -> PMID17099711.GPL8300_eset.html [ SUCCESS ]
    PMID17099711.GPL91_eset                 html  
REDIRECT:topic	  PMID17099711.GPL91_eset  -> PMID17099711.GPL91_eset.html [ SUCCESS ]
REDIRECT:file	 PMID17099711.GPL91_eset.html -> PMID17099711.GPL91_eset.html [ SUCCESS ]
    curatedBladderData-package              html  
REDIRECT:topic	 curatedBladderData -> curatedBladderData-package.html [ SUCCESS ]
REDIRECT:file	 curatedBladderData-package.html -> curatedBladderData-package.html [ SUCCESS ]
** building package indices
** installing vignettes
** testing if installed package can be loaded from temporary location
** testing if installed package can be loaded from final location
** testing if installed package keeps a record of temporary installation path

install for x64

* installing *source* package 'curatedBladderData' ...
** testing if installed package can be loaded
* MD5 sums
packaged installation of 'curatedBladderData' as curatedBladderData_1.27.0.zip
* DONE (curatedBladderData)
* installing to library 'D:/biocbuild/bbs-3.13-bioc/R/library'
package 'curatedBladderData' successfully unpacked and MD5 sums checked