Back to Multiple platform build/check report for BioC 3.13 experimental data
AB[C]DEFGHIJKLMNOPQRSTUVWXYZ

BUILD report for curatedBladderData on riesling1

This page was generated on 2021-01-18 15:58:46 -0500 (Mon, 18 Jan 2021).

TO THE DEVELOPERS/MAINTAINERS OF THE curatedBladderData PACKAGE: Please make sure to use the following settings in order to reproduce any error or warning you see on this page.
Package 82/385HostnameOS / ArchINSTALLBUILDCHECK
curatedBladderData 1.27.0
Markus Riester
Snapshot Date: 2021-01-18 09:00:15 -0500 (Mon, 18 Jan 2021)
URL: https://git.bioconductor.org/packages/curatedBladderData
Branch: master
Last Commit: d804766
Last Changed Date: 2020-10-27 10:05:27 -0500 (Tue, 27 Oct 2020)
malbec2 Linux (Ubuntu 20.04.1 LTS) / x86_64  OK  OK  OK UNNEEDED, same version exists in internal repository
riesling1 Windows Server 2019 Standard / x64  OK [ OK ] OK 

Summary

Package: curatedBladderData
Version: 1.27.0
Command: chmod a+r curatedBladderData -R && D:\biocbuild\bbs-3.13-bioc\R\bin\R.exe CMD build --keep-empty-dirs --no-resave-data curatedBladderData
StartedAt: 2021-01-18 10:34:12 -0500 (Mon, 18 Jan 2021)
EndedAt: 2021-01-18 10:34:47 -0500 (Mon, 18 Jan 2021)
EllapsedTime: 35.4 seconds
RetCode: 0
Status:  OK  
PackageFile: curatedBladderData_1.27.0.tar.gz
PackageFileSize: 74.92 MiB

Command output

##############################################################################
##############################################################################
###
### Running command:
###
###   chmod a+r curatedBladderData -R && D:\biocbuild\bbs-3.13-bioc\R\bin\R.exe CMD build --keep-empty-dirs --no-resave-data curatedBladderData
###
##############################################################################
##############################################################################


* checking for file 'curatedBladderData/DESCRIPTION' ... OK
* preparing 'curatedBladderData':
* checking DESCRIPTION meta-information ... OK
* installing the package to process help pages
* building the PDF package manual
Hmm ... looks like a package
Converting Rd files to LaTeX .
Creating pdf output from LaTeX ...
Saving output to 'D:/biocbuild/bbs-3.13-data-experiment/tmpdir/Rtmp2p1Xzo/Rbuild1d6f44f1a374b/curatedBladderData/build/curatedBladderData.pdf' ...
Done
* creating vignettes ... OK
* checking for LF line-endings in source and make files and shell scripts
* checking for empty or unneeded directories
* looking to see if a 'data/datalist' file should be added
* building 'curatedBladderData_1.27.0.tar.gz'