Back to Multiple platform build/check report for BioC 3.13 experimental data
AB[C]DEFGHIJKLMNOPQRSTUVWXYZ

INSTALL report for curatedAdipoRNA on riesling1

This page was generated on 2021-01-21 16:01:26 -0500 (Thu, 21 Jan 2021).

TO THE DEVELOPERS/MAINTAINERS OF THE curatedAdipoRNA PACKAGE: Please make sure to use the following settings in order to reproduce any error or warning you see on this page.
Package 81/386HostnameOS / ArchINSTALLBUILDCHECK
curatedAdipoRNA 1.7.0
Mahmoud Ahmed
Snapshot Date: 2021-01-21 09:00:14 -0500 (Thu, 21 Jan 2021)
URL: https://git.bioconductor.org/packages/curatedAdipoRNA
Branch: master
Last Commit: 836b471
Last Changed Date: 2020-10-27 10:29:38 -0500 (Tue, 27 Oct 2020)
malbec2 Linux (Ubuntu 20.04.1 LTS) / x86_64  OK  OK  OK UNNEEDED, same version exists in internal repository
riesling1 Windows Server 2019 Standard / x64 [ OK ] OK  OK 

Summary

Package: curatedAdipoRNA
Version: 1.7.0
Command: C:\cygwin\bin\curl.exe -O http://172.29.0.4/BBS/3.13/data-experiment/src/contrib/curatedAdipoRNA_1.7.0.tar.gz && rm -rf curatedAdipoRNA.buildbin-libdir && mkdir curatedAdipoRNA.buildbin-libdir && D:\biocbuild\bbs-3.13-bioc\R\bin\R.exe CMD INSTALL --merge-multiarch --build --library=curatedAdipoRNA.buildbin-libdir curatedAdipoRNA_1.7.0.tar.gz && D:\biocbuild\bbs-3.13-bioc\R\bin\R.exe CMD INSTALL curatedAdipoRNA_1.7.0.zip && rm curatedAdipoRNA_1.7.0.tar.gz curatedAdipoRNA_1.7.0.zip
StartedAt: 2021-01-21 10:07:46 -0500 (Thu, 21 Jan 2021)
EndedAt: 2021-01-21 10:08:16 -0500 (Thu, 21 Jan 2021)
EllapsedTime: 30.0 seconds
RetCode: 0
Status:  OK  

Command output

##############################################################################
##############################################################################
###
### Running command:
###
###   C:\cygwin\bin\curl.exe -O http://172.29.0.4/BBS/3.13/data-experiment/src/contrib/curatedAdipoRNA_1.7.0.tar.gz && rm -rf curatedAdipoRNA.buildbin-libdir && mkdir curatedAdipoRNA.buildbin-libdir && D:\biocbuild\bbs-3.13-bioc\R\bin\R.exe CMD INSTALL --merge-multiarch --build --library=curatedAdipoRNA.buildbin-libdir curatedAdipoRNA_1.7.0.tar.gz && D:\biocbuild\bbs-3.13-bioc\R\bin\R.exe CMD INSTALL curatedAdipoRNA_1.7.0.zip && rm curatedAdipoRNA_1.7.0.tar.gz curatedAdipoRNA_1.7.0.zip
###
##############################################################################
##############################################################################


  % Total    % Received % Xferd  Average Speed   Time    Time     Time  Current
                                 Dload  Upload   Total   Spent    Left  Speed

  0     0    0     0    0     0      0      0 --:--:-- --:--:-- --:--:--     0
100 8868k  100 8868k    0     0  72.7M      0 --:--:-- --:--:-- --:--:-- 72.7M

install for i386

* installing *source* package 'curatedAdipoRNA' ...
** using staged installation
** R
** data
*** moving datasets to lazyload DB
** inst
** byte-compile and prepare package for lazy loading
** help
*** installing help indices
  converting help for package 'curatedAdipoRNA'
    finding HTML links ... done
    adipo_counts                            html  
REDIRECT:topic	 adipo_counts -> adipo_counts.html [ SUCCESS ]
    curatedAdipoRNA                         html  
REDIRECT:topic	 curatedAdipoRNA -> curatedAdipoRNA.html [ SUCCESS ]
REDIRECT:topic	 curatedAdipoRNA-package -> curatedAdipoRNA.html [ SUCCESS ]
** building package indices
** installing vignettes
** testing if installed package can be loaded from temporary location
** testing if installed package can be loaded from final location
** testing if installed package keeps a record of temporary installation path

install for x64

* installing *source* package 'curatedAdipoRNA' ...
** testing if installed package can be loaded
* MD5 sums
packaged installation of 'curatedAdipoRNA' as curatedAdipoRNA_1.7.0.zip
* DONE (curatedAdipoRNA)
* installing to library 'D:/biocbuild/bbs-3.13-bioc/R/library'
package 'curatedAdipoRNA' successfully unpacked and MD5 sums checked