Back to Multiple platform build/check report for BioC 3.13 experimental data
AB[C]DEFGHIJKLMNOPQRSTUVWXYZ

CHECK report for curatedAdipoRNA on riesling1

This page was generated on 2021-01-18 15:58:46 -0500 (Mon, 18 Jan 2021).

TO THE DEVELOPERS/MAINTAINERS OF THE curatedAdipoRNA PACKAGE: Please make sure to use the following settings in order to reproduce any error or warning you see on this page.
Package 81/385HostnameOS / ArchINSTALLBUILDCHECK
curatedAdipoRNA 1.7.0
Mahmoud Ahmed
Snapshot Date: 2021-01-18 09:00:15 -0500 (Mon, 18 Jan 2021)
URL: https://git.bioconductor.org/packages/curatedAdipoRNA
Branch: master
Last Commit: 836b471
Last Changed Date: 2020-10-27 10:29:38 -0500 (Tue, 27 Oct 2020)
malbec2 Linux (Ubuntu 20.04.1 LTS) / x86_64  OK  OK  OK UNNEEDED, same version exists in internal repository
riesling1 Windows Server 2019 Standard / x64  OK  OK [ OK ]

Summary

Package: curatedAdipoRNA
Version: 1.7.0
Command: D:\biocbuild\bbs-3.13-bioc\R\bin\R.exe CMD check --force-multiarch --install=check:curatedAdipoRNA.install-out.txt --library=D:\biocbuild\bbs-3.13-bioc\R\library --no-vignettes --timings curatedAdipoRNA_1.7.0.tar.gz
StartedAt: 2021-01-18 11:16:50 -0500 (Mon, 18 Jan 2021)
EndedAt: 2021-01-18 11:18:28 -0500 (Mon, 18 Jan 2021)
EllapsedTime: 97.5 seconds
RetCode: 0
Status:  OK  
CheckDir: curatedAdipoRNA.Rcheck
Warnings: 0

Command output

##############################################################################
##############################################################################
###
### Running command:
###
###   D:\biocbuild\bbs-3.13-bioc\R\bin\R.exe CMD check --force-multiarch --install=check:curatedAdipoRNA.install-out.txt --library=D:\biocbuild\bbs-3.13-bioc\R\library --no-vignettes --timings curatedAdipoRNA_1.7.0.tar.gz
###
##############################################################################
##############################################################################


* using log directory 'D:/biocbuild/bbs-3.13-data-experiment/meat/curatedAdipoRNA.Rcheck'
* using R Under development (unstable) (2020-12-30 r79736)
* using platform: x86_64-w64-mingw32 (64-bit)
* using session charset: ISO8859-1
* using option '--no-vignettes'
* checking for file 'curatedAdipoRNA/DESCRIPTION' ... OK
* checking extension type ... Package
* this is package 'curatedAdipoRNA' version '1.7.0'
* package encoding: UTF-8
* checking package namespace information ... OK
* checking package dependencies ... OK
* checking if this is a source package ... OK
* checking if there is a namespace ... OK
* checking for hidden files and directories ... OK
* checking for portable file names ... OK
* checking whether package 'curatedAdipoRNA' can be installed ... OK
* checking installed package size ... NOTE
  installed size is 11.8Mb
  sub-directories of 1Mb or more:
    data  11.7Mb
* checking package directory ... OK
* checking 'build' directory ... OK
* checking DESCRIPTION meta-information ... OK
* checking top-level files ... OK
* checking for left-over files ... OK
* checking index information ... OK
* checking package subdirectories ... OK
* checking R files for non-ASCII characters ... OK
* checking R files for syntax errors ... OK
* loading checks for arch 'i386'
** checking whether the package can be loaded ... OK
** checking whether the package can be loaded with stated dependencies ... OK
** checking whether the package can be unloaded cleanly ... OK
** checking whether the namespace can be loaded with stated dependencies ... OK
** checking whether the namespace can be unloaded cleanly ... OK
* loading checks for arch 'x64'
** checking whether the package can be loaded ... OK
** checking whether the package can be loaded with stated dependencies ... OK
** checking whether the package can be unloaded cleanly ... OK
** checking whether the namespace can be loaded with stated dependencies ... OK
** checking whether the namespace can be unloaded cleanly ... OK
* checking dependencies in R code ... NOTE
Package in Depends field not imported from: 'SummarizedExperiment'
  These packages need to be imported from (in the NAMESPACE file)
  for when this namespace is loaded but not attached.
* checking S3 generic/method consistency ... OK
* checking replacement functions ... OK
* checking foreign function calls ... OK
* checking R code for possible problems ... OK
* checking Rd files ... OK
* checking Rd metadata ... OK
* checking Rd cross-references ... OK
* checking for missing documentation entries ... OK
* checking for code/documentation mismatches ... OK
* checking Rd \usage sections ... OK
* checking Rd contents ... OK
* checking for unstated dependencies in examples ... OK
* checking contents of 'data' directory ... OK
* checking data for non-ASCII characters ... NOTE
  Note: found 1 marked UTF-8 string
* checking data for ASCII and uncompressed saves ... OK
* checking line endings in Makefiles ... OK
* checking for GNU extensions in Makefiles ... OK
* checking include directives in Makefiles ... OK
* checking files in 'vignettes' ... OK
* checking examples ...
** running examples for arch 'i386' ... OK
** running examples for arch 'x64' ... OK
* checking for unstated dependencies in vignettes ... OK
* checking package vignettes in 'inst/doc' ... OK
* checking running R code from vignettes ... SKIPPED
* checking re-building of vignette outputs ... SKIPPED
* checking PDF version of manual ... OK
* DONE

Status: 3 NOTEs
See
  'D:/biocbuild/bbs-3.13-data-experiment/meat/curatedAdipoRNA.Rcheck/00check.log'
for details.



Installation output

curatedAdipoRNA.Rcheck/00install.out

##############################################################################
##############################################################################
###
### Running command:
###
###   C:\cygwin\bin\curl.exe -O http://172.29.0.4/BBS/3.13/data-experiment/src/contrib/curatedAdipoRNA_1.7.0.tar.gz && rm -rf curatedAdipoRNA.buildbin-libdir && mkdir curatedAdipoRNA.buildbin-libdir && D:\biocbuild\bbs-3.13-bioc\R\bin\R.exe CMD INSTALL --merge-multiarch --build --library=curatedAdipoRNA.buildbin-libdir curatedAdipoRNA_1.7.0.tar.gz && D:\biocbuild\bbs-3.13-bioc\R\bin\R.exe CMD INSTALL curatedAdipoRNA_1.7.0.zip && rm curatedAdipoRNA_1.7.0.tar.gz curatedAdipoRNA_1.7.0.zip
###
##############################################################################
##############################################################################


  % Total    % Received % Xferd  Average Speed   Time    Time     Time  Current
                                 Dload  Upload   Total   Spent    Left  Speed

  0     0    0     0    0     0      0      0 --:--:-- --:--:-- --:--:--     0
100 8868k  100 8868k    0     0  19.8M      0 --:--:-- --:--:-- --:--:-- 19.8M

install for i386

* installing *source* package 'curatedAdipoRNA' ...
** using staged installation
** R
** data
*** moving datasets to lazyload DB
** inst
** byte-compile and prepare package for lazy loading
** help
*** installing help indices
  converting help for package 'curatedAdipoRNA'
    finding HTML links ... done
    adipo_counts                            html  
REDIRECT:topic	 adipo_counts -> adipo_counts.html [ SUCCESS ]
    curatedAdipoRNA                         html  
REDIRECT:topic	 curatedAdipoRNA -> curatedAdipoRNA.html [ SUCCESS ]
REDIRECT:topic	 curatedAdipoRNA-package -> curatedAdipoRNA.html [ SUCCESS ]
** building package indices
** installing vignettes
** testing if installed package can be loaded from temporary location
** testing if installed package can be loaded from final location
** testing if installed package keeps a record of temporary installation path

install for x64

* installing *source* package 'curatedAdipoRNA' ...
** testing if installed package can be loaded
* MD5 sums
packaged installation of 'curatedAdipoRNA' as curatedAdipoRNA_1.7.0.zip
* DONE (curatedAdipoRNA)
* installing to library 'D:/biocbuild/bbs-3.13-bioc/R/library'
package 'curatedAdipoRNA' successfully unpacked and MD5 sums checked

Tests output


Example timings

curatedAdipoRNA.Rcheck/examples_i386/curatedAdipoRNA-Ex.timings

nameusersystemelapsed
adipo_counts0.510.050.56

curatedAdipoRNA.Rcheck/examples_x64/curatedAdipoRNA-Ex.timings

nameusersystemelapsed
adipo_counts0.890.010.90