Back to Multiple platform build/check report for BioC 3.13 experimental data |
|
This page was generated on 2021-01-14 15:59:07 -0500 (Thu, 14 Jan 2021).
TO THE DEVELOPERS/MAINTAINERS OF THE curatedAdipoChIP PACKAGE: Please make sure to use the following settings in order to reproduce any error or warning you see on this page. |
Package 80/385 | Hostname | OS / Arch | INSTALL | BUILD | CHECK | ||||||
curatedAdipoChIP 1.7.0 Mahmoud Ahmed
| malbec2 | Linux (Ubuntu 20.04.1 LTS) / x86_64 | OK | OK | OK | ![]() | |||||
riesling1 | Windows Server 2019 Standard / x64 | [ OK ] | OK | OK |
Package: curatedAdipoChIP |
Version: 1.7.0 |
Command: C:\cygwin\bin\curl.exe -O http://172.29.0.4/BBS/3.13/data-experiment/src/contrib/curatedAdipoChIP_1.7.0.tar.gz && rm -rf curatedAdipoChIP.buildbin-libdir && mkdir curatedAdipoChIP.buildbin-libdir && D:\biocbuild\bbs-3.13-bioc\R\bin\R.exe CMD INSTALL --merge-multiarch --build --library=curatedAdipoChIP.buildbin-libdir curatedAdipoChIP_1.7.0.tar.gz && D:\biocbuild\bbs-3.13-bioc\R\bin\R.exe CMD INSTALL curatedAdipoChIP_1.7.0.zip && rm curatedAdipoChIP_1.7.0.tar.gz curatedAdipoChIP_1.7.0.zip |
StartedAt: 2021-01-14 10:11:02 -0500 (Thu, 14 Jan 2021) |
EndedAt: 2021-01-14 10:11:48 -0500 (Thu, 14 Jan 2021) |
EllapsedTime: 45.7 seconds |
RetCode: 0 |
Status: OK |
############################################################################## ############################################################################## ### ### Running command: ### ### C:\cygwin\bin\curl.exe -O http://172.29.0.4/BBS/3.13/data-experiment/src/contrib/curatedAdipoChIP_1.7.0.tar.gz && rm -rf curatedAdipoChIP.buildbin-libdir && mkdir curatedAdipoChIP.buildbin-libdir && D:\biocbuild\bbs-3.13-bioc\R\bin\R.exe CMD INSTALL --merge-multiarch --build --library=curatedAdipoChIP.buildbin-libdir curatedAdipoChIP_1.7.0.tar.gz && D:\biocbuild\bbs-3.13-bioc\R\bin\R.exe CMD INSTALL curatedAdipoChIP_1.7.0.zip && rm curatedAdipoChIP_1.7.0.tar.gz curatedAdipoChIP_1.7.0.zip ### ############################################################################## ############################################################################## % Total % Received % Xferd Average Speed Time Time Time Current Dload Upload Total Spent Left Speed 0 0 0 0 0 0 0 0 --:--:-- --:--:-- --:--:-- 0 100 16403 100 16403 0 0 400k 0 --:--:-- --:--:-- --:--:-- 400k install for i386 * installing *source* package 'curatedAdipoChIP' ... ** using staged installation ** R ** inst ** byte-compile and prepare package for lazy loading ** help *** installing help indices converting help for package 'curatedAdipoChIP' finding HTML links ... done curatedAdipoChIP html REDIRECT:topic curatedAdipoChIP -> curatedAdipoChIP.html [ SUCCESS ] REDIRECT:topic curatedAdipoChIP-package -> curatedAdipoChIP.html [ SUCCESS ] ** building package indices ** installing vignettes ** testing if installed package can be loaded from temporary location ** testing if installed package can be loaded from final location ** testing if installed package keeps a record of temporary installation path install for x64 * installing *source* package 'curatedAdipoChIP' ... ** testing if installed package can be loaded * MD5 sums packaged installation of 'curatedAdipoChIP' as curatedAdipoChIP_1.7.0.zip * DONE (curatedAdipoChIP) * installing to library 'D:/biocbuild/bbs-3.13-bioc/R/library' package 'curatedAdipoChIP' successfully unpacked and MD5 sums checked