Back to Multiple platform build/check report for BioC 3.13 experimental data
AB[C]DEFGHIJKLMNOPQRSTUVWXYZ

INSTALL report for cnvGSAdata on riesling1

This page was generated on 2021-01-11 15:59:29 -0500 (Mon, 11 Jan 2021).

TO THE DEVELOPERS/MAINTAINERS OF THE cnvGSAdata PACKAGE: Please make sure to use the following settings in order to reproduce any error or warning you see on this page.
Package 69/385HostnameOS / ArchINSTALLBUILDCHECK
cnvGSAdata 1.27.0
Joseph Lugo
Snapshot Date: 2021-01-11 09:00:09 -0500 (Mon, 11 Jan 2021)
URL: https://git.bioconductor.org/packages/cnvGSAdata
Branch: master
Last Commit: d259bce
Last Changed Date: 2020-10-27 09:55:27 -0500 (Tue, 27 Oct 2020)
malbec2 Linux (Ubuntu 20.04.1 LTS) / x86_64  OK  OK  WARNINGS UNNEEDED, same version exists in internal repository
riesling1 Windows Server 2019 Standard / x64 [ OK ] OK  WARNINGS 

Summary

Package: cnvGSAdata
Version: 1.27.0
Command: C:\cygwin\bin\curl.exe -O http://172.29.0.4/BBS/3.13/data-experiment/src/contrib/cnvGSAdata_1.27.0.tar.gz && rm -rf cnvGSAdata.buildbin-libdir && mkdir cnvGSAdata.buildbin-libdir && D:\biocbuild\bbs-3.13-bioc\R\bin\R.exe CMD INSTALL --merge-multiarch --build --library=cnvGSAdata.buildbin-libdir cnvGSAdata_1.27.0.tar.gz && D:\biocbuild\bbs-3.13-bioc\R\bin\R.exe CMD INSTALL cnvGSAdata_1.27.0.zip && rm cnvGSAdata_1.27.0.tar.gz cnvGSAdata_1.27.0.zip
StartedAt: 2021-01-11 10:08:22 -0500 (Mon, 11 Jan 2021)
EndedAt: 2021-01-11 10:08:54 -0500 (Mon, 11 Jan 2021)
EllapsedTime: 31.2 seconds
RetCode: 0
Status:  OK  

Command output

##############################################################################
##############################################################################
###
### Running command:
###
###   C:\cygwin\bin\curl.exe -O http://172.29.0.4/BBS/3.13/data-experiment/src/contrib/cnvGSAdata_1.27.0.tar.gz && rm -rf cnvGSAdata.buildbin-libdir && mkdir cnvGSAdata.buildbin-libdir && D:\biocbuild\bbs-3.13-bioc\R\bin\R.exe CMD INSTALL --merge-multiarch --build --library=cnvGSAdata.buildbin-libdir cnvGSAdata_1.27.0.tar.gz && D:\biocbuild\bbs-3.13-bioc\R\bin\R.exe CMD INSTALL cnvGSAdata_1.27.0.zip && rm cnvGSAdata_1.27.0.tar.gz cnvGSAdata_1.27.0.zip
###
##############################################################################
##############################################################################


  % Total    % Received % Xferd  Average Speed   Time    Time     Time  Current
                                 Dload  Upload   Total   Spent    Left  Speed

  0     0    0     0    0     0      0      0 --:--:-- --:--:-- --:--:--     0
100 6391k  100 6391k    0     0  54.7M      0 --:--:-- --:--:-- --:--:-- 54.7M

install for i386

* installing *source* package 'cnvGSAdata' ...
** using staged installation
** data
** inst
** help
*** installing help indices
  converting help for package 'cnvGSAdata'
    finding HTML links ... done
    cnvGSA_input_example                    html  
REDIRECT:topic	 cnvGSA_input_example.RData -> cnvGSA_input_example.html [ SUCCESS ]
REDIRECT:topic	 cnvGSA.in -> cnvGSA_input_example.html [ SUCCESS ]
REDIRECT:file	 cnvGSA_input_example.html -> cnvGSA_input_example.html [ SUCCESS ]
    cnvGSA_output_example                   html  
REDIRECT:topic	 cnvGSA_output_example.RData -> cnvGSA_output_example.html [ SUCCESS ]
REDIRECT:topic	 cnvGSA.out -> cnvGSA_output_example.html [ SUCCESS ]
REDIRECT:file	 cnvGSA_output_example.html -> cnvGSA_output_example.html [ SUCCESS ]
    cnvGSAdata-package                      html  
REDIRECT:topic	 cnvGSAdata-package -> cnvGSAdata-package.html [ SUCCESS ]
REDIRECT:topic	 cnvGSAdata -> cnvGSAdata-package.html [ SUCCESS ]
    cnv_AGP_demo.txt                        html  
REDIRECT:topic	 cnv_AGP_demo.txt -> cnv_AGP_demo.txt.html [ SUCCESS ]
    enrGMT_AGP_demo.gmt                     html  
REDIRECT:topic	 enrGMT_AGP_demo.gmt -> enrGMT_AGP_demo.gmt.html [ SUCCESS ]
    enrGeneric_AGP_demo.txt                 html  
REDIRECT:topic	 enrGeneric_AGP_demo.txt -> enrGeneric_AGP_demo.txt.html [ SUCCESS ]
    gene_ID_demo.txt                        html  
REDIRECT:topic	 gene_ID_demo.txt -> gene_ID_demo.txt.html [ SUCCESS ]
    gs_data_example                         html  
REDIRECT:topic	 gs_data_example.RData -> gs_data_example.html [ SUCCESS ]
REDIRECT:topic	 gsData -> gs_data_example.html [ SUCCESS ]
REDIRECT:file	 gs_data_example.html -> gs_data_example.html [ SUCCESS ]
    kl_gene_AGP_demo.txt                    html  
REDIRECT:topic	 kl_gene_AGP_demo.txt -> kl_gene_AGP_demo.txt.html [ SUCCESS ]
    kl_loci_AGP_demo.txt                    html  
REDIRECT:topic	 kl_loci_AGP_demo.txt -> kl_loci_AGP_demo.txt.html [ SUCCESS ]
    ph_AGP_demo.txt                         html  
REDIRECT:topic	 ph_AGP_demo.txt -> ph_AGP_demo.txt.html [ SUCCESS ]
** building package indices
** testing if installed package can be loaded from temporary location
** testing if installed package can be loaded from final location
** testing if installed package keeps a record of temporary installation path

install for x64

* installing *source* package 'cnvGSAdata' ...
** testing if installed package can be loaded
* MD5 sums
packaged installation of 'cnvGSAdata' as cnvGSAdata_1.27.0.zip
* DONE (cnvGSAdata)
* installing to library 'D:/biocbuild/bbs-3.13-bioc/R/library'
package 'cnvGSAdata' successfully unpacked and MD5 sums checked