Back to Multiple platform build/check report for BioC 3.13 experimental data
AB[C]DEFGHIJKLMNOPQRSTUVWXYZ

BUILD report for cnvGSAdata on riesling1

This page was generated on 2021-01-21 16:01:26 -0500 (Thu, 21 Jan 2021).

TO THE DEVELOPERS/MAINTAINERS OF THE cnvGSAdata PACKAGE: Please make sure to use the following settings in order to reproduce any error or warning you see on this page.
Package 69/386HostnameOS / ArchINSTALLBUILDCHECK
cnvGSAdata 1.27.0
Joseph Lugo
Snapshot Date: 2021-01-21 09:00:14 -0500 (Thu, 21 Jan 2021)
URL: https://git.bioconductor.org/packages/cnvGSAdata
Branch: master
Last Commit: d259bce
Last Changed Date: 2020-10-27 09:55:27 -0500 (Tue, 27 Oct 2020)
malbec2 Linux (Ubuntu 20.04.1 LTS) / x86_64  OK  OK  WARNINGS UNNEEDED, same version exists in internal repository
riesling1 Windows Server 2019 Standard / x64  OK [ OK ] WARNINGS 

Summary

Package: cnvGSAdata
Version: 1.27.0
Command: chmod a+r cnvGSAdata -R && D:\biocbuild\bbs-3.13-bioc\R\bin\R.exe CMD build --keep-empty-dirs --no-resave-data cnvGSAdata
StartedAt: 2021-01-21 10:33:14 -0500 (Thu, 21 Jan 2021)
EndedAt: 2021-01-21 10:33:16 -0500 (Thu, 21 Jan 2021)
EllapsedTime: 2.6 seconds
RetCode: 0
Status:  OK  
PackageFile: cnvGSAdata_1.27.0.tar.gz
PackageFileSize: 6.235 MiB

Command output

##############################################################################
##############################################################################
###
### Running command:
###
###   chmod a+r cnvGSAdata -R && D:\biocbuild\bbs-3.13-bioc\R\bin\R.exe CMD build --keep-empty-dirs --no-resave-data cnvGSAdata
###
##############################################################################
##############################################################################


* checking for file 'cnvGSAdata/DESCRIPTION' ... OK
* preparing 'cnvGSAdata':
* checking DESCRIPTION meta-information ... OK
* checking for LF line-endings in source and make files and shell scripts
* checking for empty or unneeded directories
* looking to see if a 'data/datalist' file should be added
* building 'cnvGSAdata_1.27.0.tar.gz'