Back to Multiple platform build/check report for BioC 3.13 experimental data
AB[C]DEFGHIJKLMNOPQRSTUVWXYZ

INSTALL report for chromstaRData on riesling1

This page was generated on 2021-01-14 15:59:07 -0500 (Thu, 14 Jan 2021).

TO THE DEVELOPERS/MAINTAINERS OF THE chromstaRData PACKAGE: Please make sure to use the following settings in order to reproduce any error or warning you see on this page.
Package 63/385HostnameOS / ArchINSTALLBUILDCHECK
chromstaRData 1.17.0
Aaron Taudt
Snapshot Date: 2021-01-14 09:00:13 -0500 (Thu, 14 Jan 2021)
URL: https://git.bioconductor.org/packages/chromstaRData
Branch: master
Last Commit: b830e91
Last Changed Date: 2020-10-27 10:20:48 -0500 (Tue, 27 Oct 2020)
malbec2 Linux (Ubuntu 20.04.1 LTS) / x86_64  OK  OK  OK UNNEEDED, same version exists in internal repository
riesling1 Windows Server 2019 Standard / x64 [ OK ] OK  OK 

Summary

Package: chromstaRData
Version: 1.17.0
Command: C:\cygwin\bin\curl.exe -O http://172.29.0.4/BBS/3.13/data-experiment/src/contrib/chromstaRData_1.17.0.tar.gz && rm -rf chromstaRData.buildbin-libdir && mkdir chromstaRData.buildbin-libdir && D:\biocbuild\bbs-3.13-bioc\R\bin\R.exe CMD INSTALL --merge-multiarch --build --library=chromstaRData.buildbin-libdir chromstaRData_1.17.0.tar.gz && D:\biocbuild\bbs-3.13-bioc\R\bin\R.exe CMD INSTALL chromstaRData_1.17.0.zip && rm chromstaRData_1.17.0.tar.gz chromstaRData_1.17.0.zip
StartedAt: 2021-01-14 10:00:14 -0500 (Thu, 14 Jan 2021)
EndedAt: 2021-01-14 10:00:55 -0500 (Thu, 14 Jan 2021)
EllapsedTime: 41.0 seconds
RetCode: 0
Status:  OK  

Command output

##############################################################################
##############################################################################
###
### Running command:
###
###   C:\cygwin\bin\curl.exe -O http://172.29.0.4/BBS/3.13/data-experiment/src/contrib/chromstaRData_1.17.0.tar.gz && rm -rf chromstaRData.buildbin-libdir && mkdir chromstaRData.buildbin-libdir && D:\biocbuild\bbs-3.13-bioc\R\bin\R.exe CMD INSTALL --merge-multiarch --build --library=chromstaRData.buildbin-libdir chromstaRData_1.17.0.tar.gz && D:\biocbuild\bbs-3.13-bioc\R\bin\R.exe CMD INSTALL chromstaRData_1.17.0.zip && rm chromstaRData_1.17.0.tar.gz chromstaRData_1.17.0.zip
###
##############################################################################
##############################################################################


  % Total    % Received % Xferd  Average Speed   Time    Time     Time  Current
                                 Dload  Upload   Total   Spent    Left  Speed

  0     0    0     0    0     0      0      0 --:--:-- --:--:-- --:--:--     0
 18  140M   18 26.5M    0     0  36.9M      0  0:00:03 --:--:--  0:00:03 36.8M
 98  140M   98  138M    0     0  80.5M      0  0:00:01  0:00:01 --:--:-- 80.5M
100  140M  100  140M    0     0  80.7M      0  0:00:01  0:00:01 --:--:-- 80.7M

install for i386

* installing *source* package 'chromstaRData' ...
** using staged installation
** R
** data
** inst
** byte-compile and prepare package for lazy loading
** help
*** installing help indices
  converting help for package 'chromstaRData'
    finding HTML links ... done
    chromstaRData                           html  
REDIRECT:topic	 chromstaRData -> chromstaRData.html [ SUCCESS ]
REDIRECT:topic	 euratrans -> chromstaRData.html [ SUCCESS ]
REDIRECT:topic	 rat -> chromstaRData.html [ SUCCESS ]
    experiment_table                        html  
REDIRECT:topic	 experiment_table -> experiment_table.html [ SUCCESS ]
    experiment_table_H4K20me1               html  
REDIRECT:topic	 experiment_table_H4K20me1 -> experiment_table_H4K20me1.html [ SUCCESS ]
    experiment_table_SHR                    html  
REDIRECT:topic	 experiment_table_SHR -> experiment_table_SHR.html [ SUCCESS ]
    expression_lv                           html  
REDIRECT:topic	 expression_lv -> expression_lv.html [ SUCCESS ]
    rn4_chrominfo                           html  
REDIRECT:topic	 rn4_chrominfo -> rn4_chrominfo.html [ SUCCESS ]
** building package indices
** testing if installed package can be loaded from temporary location
** testing if installed package can be loaded from final location
** testing if installed package keeps a record of temporary installation path

install for x64

* installing *source* package 'chromstaRData' ...
** testing if installed package can be loaded
* MD5 sums
packaged installation of 'chromstaRData' as chromstaRData_1.17.0.zip
* DONE (chromstaRData)
* installing to library 'D:/biocbuild/bbs-3.13-bioc/R/library'
package 'chromstaRData' successfully unpacked and MD5 sums checked