Back to Multiple platform build/check report for BioC 3.13 experimental data
AB[C]DEFGHIJKLMNOPQRSTUVWXYZ

CHECK report for chromstaRData on riesling1

This page was generated on 2021-01-21 16:01:26 -0500 (Thu, 21 Jan 2021).

TO THE DEVELOPERS/MAINTAINERS OF THE chromstaRData PACKAGE: Please make sure to use the following settings in order to reproduce any error or warning you see on this page.
Package 63/386HostnameOS / ArchINSTALLBUILDCHECK
chromstaRData 1.17.0
Aaron Taudt
Snapshot Date: 2021-01-21 09:00:14 -0500 (Thu, 21 Jan 2021)
URL: https://git.bioconductor.org/packages/chromstaRData
Branch: master
Last Commit: b830e91
Last Changed Date: 2020-10-27 10:20:48 -0500 (Tue, 27 Oct 2020)
malbec2 Linux (Ubuntu 20.04.1 LTS) / x86_64  OK  OK  OK UNNEEDED, same version exists in internal repository
riesling1 Windows Server 2019 Standard / x64  OK  OK [ OK ]

Summary

Package: chromstaRData
Version: 1.17.0
Command: D:\biocbuild\bbs-3.13-bioc\R\bin\R.exe CMD check --force-multiarch --install=check:chromstaRData.install-out.txt --library=D:\biocbuild\bbs-3.13-bioc\R\library --no-vignettes --timings chromstaRData_1.17.0.tar.gz
StartedAt: 2021-01-21 11:15:35 -0500 (Thu, 21 Jan 2021)
EndedAt: 2021-01-21 11:16:01 -0500 (Thu, 21 Jan 2021)
EllapsedTime: 25.8 seconds
RetCode: 0
Status:  OK  
CheckDir: chromstaRData.Rcheck
Warnings: 0

Command output

##############################################################################
##############################################################################
###
### Running command:
###
###   D:\biocbuild\bbs-3.13-bioc\R\bin\R.exe CMD check --force-multiarch --install=check:chromstaRData.install-out.txt --library=D:\biocbuild\bbs-3.13-bioc\R\library --no-vignettes --timings chromstaRData_1.17.0.tar.gz
###
##############################################################################
##############################################################################


* using log directory 'D:/biocbuild/bbs-3.13-data-experiment/meat/chromstaRData.Rcheck'
* using R Under development (unstable) (2020-12-30 r79736)
* using platform: x86_64-w64-mingw32 (64-bit)
* using session charset: ISO8859-1
* using option '--no-vignettes'
* checking for file 'chromstaRData/DESCRIPTION' ... OK
* checking extension type ... Package
* this is package 'chromstaRData' version '1.17.0'
* checking package namespace information ... OK
* checking package dependencies ... OK
* checking if this is a source package ... OK
* checking if there is a namespace ... OK
* checking for hidden files and directories ... OK
* checking for portable file names ... OK
* checking whether package 'chromstaRData' can be installed ... OK
* checking installed package size ... NOTE
  installed size is 141.3Mb
  sub-directories of 1Mb or more:
    extdata  141.1Mb
* checking package directory ... OK
* checking DESCRIPTION meta-information ... OK
* checking top-level files ... OK
* checking for left-over files ... OK
* checking index information ... OK
* checking package subdirectories ... OK
* checking R files for non-ASCII characters ... OK
* checking R files for syntax errors ... OK
* loading checks for arch 'i386'
** checking whether the package can be loaded ... OK
** checking whether the package can be loaded with stated dependencies ... OK
** checking whether the package can be unloaded cleanly ... OK
** checking whether the namespace can be loaded with stated dependencies ... OK
** checking whether the namespace can be unloaded cleanly ... OK
* loading checks for arch 'x64'
** checking whether the package can be loaded ... OK
** checking whether the package can be loaded with stated dependencies ... OK
** checking whether the package can be unloaded cleanly ... OK
** checking whether the namespace can be loaded with stated dependencies ... OK
** checking whether the namespace can be unloaded cleanly ... OK
* checking dependencies in R code ... OK
* checking S3 generic/method consistency ... OK
* checking replacement functions ... OK
* checking foreign function calls ... OK
* checking R code for possible problems ... OK
* checking Rd files ... OK
* checking Rd metadata ... OK
* checking Rd cross-references ... OK
* checking for missing documentation entries ... OK
* checking for code/documentation mismatches ... OK
* checking Rd \usage sections ... OK
* checking Rd contents ... OK
* checking for unstated dependencies in examples ... OK
* checking contents of 'data' directory ... OK
* checking data for non-ASCII characters ... OK
* checking data for ASCII and uncompressed saves ... OK
* checking examples ... NONE
* checking PDF version of manual ... OK
* DONE

Status: 1 NOTE
See
  'D:/biocbuild/bbs-3.13-data-experiment/meat/chromstaRData.Rcheck/00check.log'
for details.



Installation output

chromstaRData.Rcheck/00install.out

##############################################################################
##############################################################################
###
### Running command:
###
###   C:\cygwin\bin\curl.exe -O http://172.29.0.4/BBS/3.13/data-experiment/src/contrib/chromstaRData_1.17.0.tar.gz && rm -rf chromstaRData.buildbin-libdir && mkdir chromstaRData.buildbin-libdir && D:\biocbuild\bbs-3.13-bioc\R\bin\R.exe CMD INSTALL --merge-multiarch --build --library=chromstaRData.buildbin-libdir chromstaRData_1.17.0.tar.gz && D:\biocbuild\bbs-3.13-bioc\R\bin\R.exe CMD INSTALL chromstaRData_1.17.0.zip && rm chromstaRData_1.17.0.tar.gz chromstaRData_1.17.0.zip
###
##############################################################################
##############################################################################


  % Total    % Received % Xferd  Average Speed   Time    Time     Time  Current
                                 Dload  Upload   Total   Spent    Left  Speed

  0     0    0     0    0     0      0      0 --:--:-- --:--:-- --:--:--     0
  0  140M    0  349k    0     0   409k      0  0:05:50 --:--:--  0:05:50  409k
  1  140M    1 1669k    0     0   904k      0  0:02:38  0:00:01  0:02:37  904k
 19  140M   19 27.1M    0     0  9976k      0  0:00:14  0:00:02  0:00:12 9972k
 89  140M   89  126M    0     0  32.5M      0  0:00:04  0:00:03  0:00:01 32.5M
 97  140M   97  136M    0     0  27.7M      0  0:00:05  0:00:04  0:00:01 27.7M
100  140M  100  140M    0     0  28.1M      0  0:00:04  0:00:04 --:--:-- 33.9M

install for i386

* installing *source* package 'chromstaRData' ...
** using staged installation
** R
** data
** inst
** byte-compile and prepare package for lazy loading
** help
*** installing help indices
  converting help for package 'chromstaRData'
    finding HTML links ... done
    chromstaRData                           html  
REDIRECT:topic	 chromstaRData -> chromstaRData.html [ SUCCESS ]
REDIRECT:topic	 euratrans -> chromstaRData.html [ SUCCESS ]
REDIRECT:topic	 rat -> chromstaRData.html [ SUCCESS ]
    experiment_table                        html  
REDIRECT:topic	 experiment_table -> experiment_table.html [ SUCCESS ]
    experiment_table_H4K20me1               html  
REDIRECT:topic	 experiment_table_H4K20me1 -> experiment_table_H4K20me1.html [ SUCCESS ]
    experiment_table_SHR                    html  
REDIRECT:topic	 experiment_table_SHR -> experiment_table_SHR.html [ SUCCESS ]
    expression_lv                           html  
REDIRECT:topic	 expression_lv -> expression_lv.html [ SUCCESS ]
    rn4_chrominfo                           html  
REDIRECT:topic	 rn4_chrominfo -> rn4_chrominfo.html [ SUCCESS ]
** building package indices
** testing if installed package can be loaded from temporary location
** testing if installed package can be loaded from final location
** testing if installed package keeps a record of temporary installation path

install for x64

* installing *source* package 'chromstaRData' ...
** testing if installed package can be loaded
* MD5 sums
packaged installation of 'chromstaRData' as chromstaRData_1.17.0.zip
* DONE (chromstaRData)
* installing to library 'D:/biocbuild/bbs-3.13-bioc/R/library'
package 'chromstaRData' successfully unpacked and MD5 sums checked

Tests output


Example timings