Name | Last modified | Size | Description | |
---|---|---|---|---|
Parent Directory | - | |||
install-out.txt | 17-Oct-2021 04:58 | 949 | ||
checksrc-summary.dcf | 17-Oct-2021 04:58 | 447 | ||
checksrc-out.txt | 17-Oct-2021 04:58 | 3.2K | ||
buildsrc-summary.dcf | 17-Oct-2021 04:58 | 435 | ||
buildsrc-out.txt | 17-Oct-2021 04:58 | 821 | ||
install-summary.dcf | 17-Oct-2021 04:58 | 270 | ||