Back to Multiple platform build/check report for BioC 3.13 experimental data
AB[C]DEFGHIJKLMNOPQRSTUVWXYZ

INSTALL report for chipseqDBData on riesling1

This page was generated on 2021-01-21 16:01:26 -0500 (Thu, 21 Jan 2021).

TO THE DEVELOPERS/MAINTAINERS OF THE chipseqDBData PACKAGE: Please make sure to use the following settings in order to reproduce any error or warning you see on this page.
Package 61/386HostnameOS / ArchINSTALLBUILDCHECK
chipseqDBData 1.7.0
Aaron Lun
Snapshot Date: 2021-01-21 09:00:14 -0500 (Thu, 21 Jan 2021)
URL: https://git.bioconductor.org/packages/chipseqDBData
Branch: master
Last Commit: 96984e6
Last Changed Date: 2020-10-27 10:29:02 -0500 (Tue, 27 Oct 2020)
malbec2 Linux (Ubuntu 20.04.1 LTS) / x86_64  OK  OK  OK UNNEEDED, same version exists in internal repository
riesling1 Windows Server 2019 Standard / x64 [ OK ] OK  OK 

Summary

Package: chipseqDBData
Version: 1.7.0
Command: C:\cygwin\bin\curl.exe -O http://172.29.0.4/BBS/3.13/data-experiment/src/contrib/chipseqDBData_1.7.0.tar.gz && rm -rf chipseqDBData.buildbin-libdir && mkdir chipseqDBData.buildbin-libdir && D:\biocbuild\bbs-3.13-bioc\R\bin\R.exe CMD INSTALL --merge-multiarch --build --library=chipseqDBData.buildbin-libdir chipseqDBData_1.7.0.tar.gz && D:\biocbuild\bbs-3.13-bioc\R\bin\R.exe CMD INSTALL chipseqDBData_1.7.0.zip && rm chipseqDBData_1.7.0.tar.gz chipseqDBData_1.7.0.zip
StartedAt: 2021-01-21 10:10:51 -0500 (Thu, 21 Jan 2021)
EndedAt: 2021-01-21 10:11:09 -0500 (Thu, 21 Jan 2021)
EllapsedTime: 18.1 seconds
RetCode: 0
Status:  OK  

Command output

##############################################################################
##############################################################################
###
### Running command:
###
###   C:\cygwin\bin\curl.exe -O http://172.29.0.4/BBS/3.13/data-experiment/src/contrib/chipseqDBData_1.7.0.tar.gz && rm -rf chipseqDBData.buildbin-libdir && mkdir chipseqDBData.buildbin-libdir && D:\biocbuild\bbs-3.13-bioc\R\bin\R.exe CMD INSTALL --merge-multiarch --build --library=chipseqDBData.buildbin-libdir chipseqDBData_1.7.0.tar.gz && D:\biocbuild\bbs-3.13-bioc\R\bin\R.exe CMD INSTALL chipseqDBData_1.7.0.zip && rm chipseqDBData_1.7.0.tar.gz chipseqDBData_1.7.0.zip
###
##############################################################################
##############################################################################


  % Total    % Received % Xferd  Average Speed   Time    Time     Time  Current
                                 Dload  Upload   Total   Spent    Left  Speed

  0     0    0     0    0     0      0      0 --:--:-- --:--:-- --:--:--     0
100 11079  100 11079    0     0  85883      0 --:--:-- --:--:-- --:--:-- 86554

install for i386

* installing *source* package 'chipseqDBData' ...
** using staged installation
** R
** inst
** byte-compile and prepare package for lazy loading
** help
*** installing help indices
  converting help for package 'chipseqDBData'
    finding HTML links ... done
    datasets                                html  
REDIRECT:topic	 H3K9acData -> datasets.html [ SUCCESS ]
REDIRECT:topic	 CBPData -> datasets.html [ SUCCESS ]
REDIRECT:topic	 H3K4me3Data -> datasets.html [ SUCCESS ]
REDIRECT:topic	 H3K27me3Data -> datasets.html [ SUCCESS ]
REDIRECT:topic	 NFYAData -> datasets.html [ SUCCESS ]
REDIRECT:file	 datasets.html -> datasets.html [ SUCCESS ]
    finding level-2 HTML links ... done

** building package indices
** installing vignettes
** testing if installed package can be loaded from temporary location
** testing if installed package can be loaded from final location
** testing if installed package keeps a record of temporary installation path

install for x64

* installing *source* package 'chipseqDBData' ...
** testing if installed package can be loaded
* MD5 sums
packaged installation of 'chipseqDBData' as chipseqDBData_1.7.0.zip
* DONE (chipseqDBData)
* installing to library 'D:/biocbuild/bbs-3.13-bioc/R/library'
package 'chipseqDBData' successfully unpacked and MD5 sums checked