Back to Multiple platform build/check report for BioC 3.13 experimental data
AB[C]DEFGHIJKLMNOPQRSTUVWXYZ

CHECK report for chipseqDBData on riesling1

This page was generated on 2021-01-21 16:01:26 -0500 (Thu, 21 Jan 2021).

TO THE DEVELOPERS/MAINTAINERS OF THE chipseqDBData PACKAGE: Please make sure to use the following settings in order to reproduce any error or warning you see on this page.
Package 61/386HostnameOS / ArchINSTALLBUILDCHECK
chipseqDBData 1.7.0
Aaron Lun
Snapshot Date: 2021-01-21 09:00:14 -0500 (Thu, 21 Jan 2021)
URL: https://git.bioconductor.org/packages/chipseqDBData
Branch: master
Last Commit: 96984e6
Last Changed Date: 2020-10-27 10:29:02 -0500 (Tue, 27 Oct 2020)
malbec2 Linux (Ubuntu 20.04.1 LTS) / x86_64  OK  OK  OK UNNEEDED, same version exists in internal repository
riesling1 Windows Server 2019 Standard / x64  OK  OK [ OK ]

Summary

Package: chipseqDBData
Version: 1.7.0
Command: D:\biocbuild\bbs-3.13-bioc\R\bin\R.exe CMD check --force-multiarch --install=check:chipseqDBData.install-out.txt --library=D:\biocbuild\bbs-3.13-bioc\R\library --no-vignettes --timings chipseqDBData_1.7.0.tar.gz
StartedAt: 2021-01-21 11:15:32 -0500 (Thu, 21 Jan 2021)
EndedAt: 2021-01-21 11:17:41 -0500 (Thu, 21 Jan 2021)
EllapsedTime: 129.0 seconds
RetCode: 0
Status:  OK  
CheckDir: chipseqDBData.Rcheck
Warnings: 0

Command output

##############################################################################
##############################################################################
###
### Running command:
###
###   D:\biocbuild\bbs-3.13-bioc\R\bin\R.exe CMD check --force-multiarch --install=check:chipseqDBData.install-out.txt --library=D:\biocbuild\bbs-3.13-bioc\R\library --no-vignettes --timings chipseqDBData_1.7.0.tar.gz
###
##############################################################################
##############################################################################


* using log directory 'D:/biocbuild/bbs-3.13-data-experiment/meat/chipseqDBData.Rcheck'
* using R Under development (unstable) (2020-12-30 r79736)
* using platform: x86_64-w64-mingw32 (64-bit)
* using session charset: ISO8859-1
* using option '--no-vignettes'
* checking for file 'chipseqDBData/DESCRIPTION' ... OK
* this is package 'chipseqDBData' version '1.7.0'
* checking package namespace information ... OK
* checking package dependencies ... OK
* checking if this is a source package ... OK
* checking if there is a namespace ... OK
* checking for hidden files and directories ... OK
* checking for portable file names ... OK
* checking whether package 'chipseqDBData' can be installed ... OK
* checking installed package size ... OK
* checking package directory ... OK
* checking 'build' directory ... OK
* checking DESCRIPTION meta-information ... OK
* checking top-level files ... OK
* checking for left-over files ... OK
* checking index information ... OK
* checking package subdirectories ... OK
* checking R files for non-ASCII characters ... OK
* checking R files for syntax errors ... OK
* loading checks for arch 'i386'
** checking whether the package can be loaded ... OK
** checking whether the package can be loaded with stated dependencies ... OK
** checking whether the package can be unloaded cleanly ... OK
** checking whether the namespace can be loaded with stated dependencies ... OK
** checking whether the namespace can be unloaded cleanly ... OK
* loading checks for arch 'x64'
** checking whether the package can be loaded ... OK
** checking whether the package can be loaded with stated dependencies ... OK
** checking whether the package can be unloaded cleanly ... OK
** checking whether the namespace can be loaded with stated dependencies ... OK
** checking whether the namespace can be unloaded cleanly ... OK
* checking dependencies in R code ... NOTE
Namespace in Imports field not imported from: 'AnnotationHub'
  All declared Imports should be used.
* checking S3 generic/method consistency ... OK
* checking replacement functions ... OK
* checking foreign function calls ... OK
* checking R code for possible problems ... OK
* checking Rd files ... OK
* checking Rd metadata ... OK
* checking Rd cross-references ... OK
* checking for missing documentation entries ... OK
* checking for code/documentation mismatches ... OK
* checking Rd \usage sections ... OK
* checking Rd contents ... OK
* checking for unstated dependencies in examples ... OK
* checking files in 'vignettes' ... OK
* checking examples ...
** running examples for arch 'i386' ... OK
Examples with CPU (user + system) or elapsed time > 5s
         user system elapsed
datasets 10.9   1.34   15.47
** running examples for arch 'x64' ... OK
Examples with CPU (user + system) or elapsed time > 5s
          user system elapsed
datasets 12.22   1.41   15.89
* checking for unstated dependencies in vignettes ... OK
* checking package vignettes in 'inst/doc' ... OK
* checking running R code from vignettes ... SKIPPED
* checking re-building of vignette outputs ... SKIPPED
* checking PDF version of manual ... OK
* DONE

Status: 1 NOTE
See
  'D:/biocbuild/bbs-3.13-data-experiment/meat/chipseqDBData.Rcheck/00check.log'
for details.



Installation output

chipseqDBData.Rcheck/00install.out

##############################################################################
##############################################################################
###
### Running command:
###
###   C:\cygwin\bin\curl.exe -O http://172.29.0.4/BBS/3.13/data-experiment/src/contrib/chipseqDBData_1.7.0.tar.gz && rm -rf chipseqDBData.buildbin-libdir && mkdir chipseqDBData.buildbin-libdir && D:\biocbuild\bbs-3.13-bioc\R\bin\R.exe CMD INSTALL --merge-multiarch --build --library=chipseqDBData.buildbin-libdir chipseqDBData_1.7.0.tar.gz && D:\biocbuild\bbs-3.13-bioc\R\bin\R.exe CMD INSTALL chipseqDBData_1.7.0.zip && rm chipseqDBData_1.7.0.tar.gz chipseqDBData_1.7.0.zip
###
##############################################################################
##############################################################################


  % Total    % Received % Xferd  Average Speed   Time    Time     Time  Current
                                 Dload  Upload   Total   Spent    Left  Speed

  0     0    0     0    0     0      0      0 --:--:-- --:--:-- --:--:--     0
100 11079  100 11079    0     0  85883      0 --:--:-- --:--:-- --:--:-- 86554

install for i386

* installing *source* package 'chipseqDBData' ...
** using staged installation
** R
** inst
** byte-compile and prepare package for lazy loading
** help
*** installing help indices
  converting help for package 'chipseqDBData'
    finding HTML links ... done
    datasets                                html  
REDIRECT:topic	 H3K9acData -> datasets.html [ SUCCESS ]
REDIRECT:topic	 CBPData -> datasets.html [ SUCCESS ]
REDIRECT:topic	 H3K4me3Data -> datasets.html [ SUCCESS ]
REDIRECT:topic	 H3K27me3Data -> datasets.html [ SUCCESS ]
REDIRECT:topic	 NFYAData -> datasets.html [ SUCCESS ]
REDIRECT:file	 datasets.html -> datasets.html [ SUCCESS ]
    finding level-2 HTML links ... done

** building package indices
** installing vignettes
** testing if installed package can be loaded from temporary location
** testing if installed package can be loaded from final location
** testing if installed package keeps a record of temporary installation path

install for x64

* installing *source* package 'chipseqDBData' ...
** testing if installed package can be loaded
* MD5 sums
packaged installation of 'chipseqDBData' as chipseqDBData_1.7.0.zip
* DONE (chipseqDBData)
* installing to library 'D:/biocbuild/bbs-3.13-bioc/R/library'
package 'chipseqDBData' successfully unpacked and MD5 sums checked

Tests output


Example timings

chipseqDBData.Rcheck/examples_i386/chipseqDBData-Ex.timings

nameusersystemelapsed
datasets10.90 1.3415.47

chipseqDBData.Rcheck/examples_x64/chipseqDBData-Ex.timings

nameusersystemelapsed
datasets12.22 1.4115.89