Back to Multiple platform build/check report for BioC 3.13 experimental data |
|
This page was generated on 2021-01-14 15:59:07 -0500 (Thu, 14 Jan 2021).
TO THE DEVELOPERS/MAINTAINERS OF THE chipenrich.data PACKAGE: Please make sure to use the following settings in order to reproduce any error or warning you see on this page. |
Package 59/385 | Hostname | OS / Arch | INSTALL | BUILD | CHECK | ||||||
chipenrich.data 2.15.0 Raymond G. Cavalcante
| malbec2 | Linux (Ubuntu 20.04.1 LTS) / x86_64 | OK | OK | OK | ![]() | |||||
riesling1 | Windows Server 2019 Standard / x64 | [ OK ] | OK | OK |
Package: chipenrich.data |
Version: 2.15.0 |
Command: C:\cygwin\bin\curl.exe -O http://172.29.0.4/BBS/3.13/data-experiment/src/contrib/chipenrich.data_2.15.0.tar.gz && rm -rf chipenrich.data.buildbin-libdir && mkdir chipenrich.data.buildbin-libdir && D:\biocbuild\bbs-3.13-bioc\R\bin\R.exe CMD INSTALL --merge-multiarch --build --library=chipenrich.data.buildbin-libdir chipenrich.data_2.15.0.tar.gz && D:\biocbuild\bbs-3.13-bioc\R\bin\R.exe CMD INSTALL chipenrich.data_2.15.0.zip && rm chipenrich.data_2.15.0.tar.gz chipenrich.data_2.15.0.zip |
StartedAt: 2021-01-14 10:08:45 -0500 (Thu, 14 Jan 2021) |
EndedAt: 2021-01-14 10:12:22 -0500 (Thu, 14 Jan 2021) |
EllapsedTime: 217.2 seconds |
RetCode: 0 |
Status: OK |
############################################################################## ############################################################################## ### ### Running command: ### ### C:\cygwin\bin\curl.exe -O http://172.29.0.4/BBS/3.13/data-experiment/src/contrib/chipenrich.data_2.15.0.tar.gz && rm -rf chipenrich.data.buildbin-libdir && mkdir chipenrich.data.buildbin-libdir && D:\biocbuild\bbs-3.13-bioc\R\bin\R.exe CMD INSTALL --merge-multiarch --build --library=chipenrich.data.buildbin-libdir chipenrich.data_2.15.0.tar.gz && D:\biocbuild\bbs-3.13-bioc\R\bin\R.exe CMD INSTALL chipenrich.data_2.15.0.zip && rm chipenrich.data_2.15.0.tar.gz chipenrich.data_2.15.0.zip ### ############################################################################## ############################################################################## % Total % Received % Xferd Average Speed Time Time Time Current Dload Upload Total Spent Left Speed 0 0 0 0 0 0 0 0 --:--:-- --:--:-- --:--:-- 0 0 236M 0 619k 0 0 4959k 0 0:00:48 --:--:-- 0:00:48 4920k 35 236M 35 83.6M 0 0 76.6M 0 0:00:03 0:00:01 0:00:02 76.5M 67 236M 67 159M 0 0 76.0M 0 0:00:03 0:00:02 0:00:01 76.0M 100 236M 100 236M 0 0 83.5M 0 0:00:02 0:00:02 --:--:-- 83.4M install for i386 * installing *source* package 'chipenrich.data' ... ** using staged installation ** R ** data *** moving datasets to lazyload DB ** inst ** byte-compile and prepare package for lazy loading ** help *** installing help indices converting help for package 'chipenrich.data' finding HTML links ... done GeneSet-class html REDIRECT:topic GeneSet-class -> GeneSet-class.html [ SUCCESS ] LocusDefinition-class html REDIRECT:topic LocusDefinition-class -> LocusDefinition-class.html [ SUCCESS ] chipenrich.data html REDIRECT:topic chipenrich.data -> chipenrich.data.html [ SUCCESS ] REDIRECT:topic chipenrich.data-package -> chipenrich.data.html [ SUCCESS ] enhancer.dnase_thurman.0 html REDIRECT:topic enhancer.dnase_thurman.0 -> enhancer.dnase_thurman.0.html [ SUCCESS ] gene.enh.desc html REDIRECT:topic gene.enh.desc -> gene.enh.desc.html [ SUCCESS ] geneset.GOBP.dme html REDIRECT:topic geneset.GOBP.dme -> geneset.GOBP.dme.html [ SUCCESS ] geneset.GOBP.dre html REDIRECT:topic geneset.GOBP.dre -> geneset.GOBP.dre.html [ SUCCESS ] geneset.GOBP.hsa html REDIRECT:topic geneset.GOBP.hsa -> geneset.GOBP.hsa.html [ SUCCESS ] geneset.GOBP.mmu html REDIRECT:topic geneset.GOBP.mmu -> geneset.GOBP.mmu.html [ SUCCESS ] geneset.GOBP.rno html REDIRECT:topic geneset.GOBP.rno -> geneset.GOBP.rno.html [ SUCCESS ] geneset.GOCC.dme html REDIRECT:topic geneset.GOCC.dme -> geneset.GOCC.dme.html [ SUCCESS ] geneset.GOCC.dre html REDIRECT:topic geneset.GOCC.dre -> geneset.GOCC.dre.html [ SUCCESS ] geneset.GOCC.hsa html REDIRECT:topic geneset.GOCC.hsa -> geneset.GOCC.hsa.html [ SUCCESS ] geneset.GOCC.mmu html REDIRECT:topic geneset.GOCC.mmu -> geneset.GOCC.mmu.html [ SUCCESS ] geneset.GOCC.rno html REDIRECT:topic geneset.GOCC.rno -> geneset.GOCC.rno.html [ SUCCESS ] geneset.GOMF.dme html REDIRECT:topic geneset.GOMF.dme -> geneset.GOMF.dme.html [ SUCCESS ] geneset.GOMF.dre html REDIRECT:topic geneset.GOMF.dre -> geneset.GOMF.dre.html [ SUCCESS ] geneset.GOMF.hsa html REDIRECT:topic geneset.GOMF.hsa -> geneset.GOMF.hsa.html [ SUCCESS ] geneset.GOMF.mmu html REDIRECT:topic geneset.GOMF.mmu -> geneset.GOMF.mmu.html [ SUCCESS ] geneset.GOMF.rno html REDIRECT:topic geneset.GOMF.rno -> geneset.GOMF.rno.html [ SUCCESS ] geneset.biocarta_pathway.hsa html REDIRECT:topic geneset.biocarta_pathway.hsa -> geneset.biocarta_pathway.hsa.html [ SUCCESS ] geneset.biocarta_pathway.mmu html REDIRECT:topic geneset.biocarta_pathway.mmu -> geneset.biocarta_pathway.mmu.html [ SUCCESS ] geneset.biocarta_pathway.rno html REDIRECT:topic geneset.biocarta_pathway.rno -> geneset.biocarta_pathway.rno.html [ SUCCESS ] geneset.ctd.hsa html REDIRECT:topic geneset.ctd.hsa -> geneset.ctd.hsa.html [ SUCCESS ] geneset.ctd.mmu html REDIRECT:topic geneset.ctd.mmu -> geneset.ctd.mmu.html [ SUCCESS ] geneset.cytoband.hsa html REDIRECT:topic geneset.cytoband.hsa -> geneset.cytoband.hsa.html [ SUCCESS ] geneset.drug_bank.hsa html REDIRECT:topic geneset.drug_bank.hsa -> geneset.drug_bank.hsa.html [ SUCCESS ] geneset.drug_bank.mmu html REDIRECT:topic geneset.drug_bank.mmu -> geneset.drug_bank.mmu.html [ SUCCESS ] geneset.drug_bank.rno html REDIRECT:topic geneset.drug_bank.rno -> geneset.drug_bank.rno.html [ SUCCESS ] geneset.hallmark.hsa html REDIRECT:topic geneset.hallmark.hsa -> geneset.hallmark.hsa.html [ SUCCESS ] geneset.immunologic.hsa html REDIRECT:topic geneset.immunologic.hsa -> geneset.immunologic.hsa.html [ SUCCESS ] geneset.kegg_pathway.hsa html REDIRECT:topic geneset.kegg_pathway.hsa -> geneset.kegg_pathway.hsa.html [ SUCCESS ] geneset.kegg_pathway.mmu html REDIRECT:topic geneset.kegg_pathway.mmu -> geneset.kegg_pathway.mmu.html [ SUCCESS ] geneset.kegg_pathway.rno html REDIRECT:topic geneset.kegg_pathway.rno -> geneset.kegg_pathway.rno.html [ SUCCESS ] geneset.mesh.hsa html REDIRECT:topic geneset.mesh.hsa -> geneset.mesh.hsa.html [ SUCCESS ] geneset.mesh.mmu html REDIRECT:topic geneset.mesh.mmu -> geneset.mesh.mmu.html [ SUCCESS ] geneset.mesh.rno html REDIRECT:topic geneset.mesh.rno -> geneset.mesh.rno.html [ SUCCESS ] geneset.metabolite.hsa html REDIRECT:topic geneset.metabolite.hsa -> geneset.metabolite.hsa.html [ SUCCESS ] geneset.metabolite.mmu html REDIRECT:topic geneset.metabolite.mmu -> geneset.metabolite.mmu.html [ SUCCESS ] geneset.metabolite.rno html REDIRECT:topic geneset.metabolite.rno -> geneset.metabolite.rno.html [ SUCCESS ] geneset.microrna.hsa html REDIRECT:topic geneset.microrna.hsa -> geneset.microrna.hsa.html [ SUCCESS ] geneset.oncogenic.hsa html REDIRECT:topic geneset.oncogenic.hsa -> geneset.oncogenic.hsa.html [ SUCCESS ] geneset.panther_pathway.hsa html REDIRECT:topic geneset.panther_pathway.hsa -> geneset.panther_pathway.hsa.html [ SUCCESS ] geneset.panther_pathway.mmu html REDIRECT:topic geneset.panther_pathway.mmu -> geneset.panther_pathway.mmu.html [ SUCCESS ] geneset.panther_pathway.rno html REDIRECT:topic geneset.panther_pathway.rno -> geneset.panther_pathway.rno.html [ SUCCESS ] geneset.pfam.hsa html REDIRECT:topic geneset.pfam.hsa -> geneset.pfam.hsa.html [ SUCCESS ] geneset.pfam.mmu html REDIRECT:topic geneset.pfam.mmu -> geneset.pfam.mmu.html [ SUCCESS ] geneset.pfam.rno html REDIRECT:topic geneset.pfam.rno -> geneset.pfam.rno.html [ SUCCESS ] geneset.protein_interaction_biogrid.hsa html REDIRECT:topic geneset.protein_interaction_biogrid.hsa -> geneset.protein_interaction_biogrid.hsa.html [ SUCCESS ] geneset.reactome.dme html REDIRECT:topic geneset.reactome.dme -> geneset.reactome.dme.html [ SUCCESS ] geneset.reactome.dre html REDIRECT:topic geneset.reactome.dre -> geneset.reactome.dre.html [ SUCCESS ] geneset.reactome.hsa html REDIRECT:topic geneset.reactome.hsa -> geneset.reactome.hsa.html [ SUCCESS ] geneset.reactome.mmu html REDIRECT:topic geneset.reactome.mmu -> geneset.reactome.mmu.html [ SUCCESS ] geneset.reactome.rno html REDIRECT:topic geneset.reactome.rno -> geneset.reactome.rno.html [ SUCCESS ] geneset.transcription_factors.hsa html REDIRECT:topic geneset.transcription_factors.hsa -> geneset.transcription_factors.hsa.html [ SUCCESS ] geneset.transcription_factors.mmu html REDIRECT:topic geneset.transcription_factors.mmu -> geneset.transcription_factors.mmu.html [ SUCCESS ] geneset.transcription_factors.rno html REDIRECT:topic geneset.transcription_factors.rno -> geneset.transcription_factors.rno.html [ SUCCESS ] locusdef.danRer10.10kb html REDIRECT:topic locusdef.danRer10.10kb -> locusdef.danRer10.10kb.html [ SUCCESS ] locusdef.danRer10.10kb_outside html REDIRECT:topic locusdef.danRer10.10kb_outside -> locusdef.danRer10.10kb_outside.html [ SUCCESS ] locusdef.danRer10.10kb_outside_upstream html REDIRECT:topic locusdef.danRer10.10kb_outside_upstream -> locusdef.danRer10.10kb_outside_upstream.html [ SUCCESS ] locusdef.danRer10.1kb html REDIRECT:topic locusdef.danRer10.1kb -> locusdef.danRer10.1kb.html [ SUCCESS ] locusdef.danRer10.1kb_outside html REDIRECT:topic locusdef.danRer10.1kb_outside -> locusdef.danRer10.1kb_outside.html [ SUCCESS ] locusdef.danRer10.1kb_outside_upstream html REDIRECT:topic locusdef.danRer10.1kb_outside_upstream -> locusdef.danRer10.1kb_outside_upstream.html [ SUCCESS ] locusdef.danRer10.5kb html REDIRECT:topic locusdef.danRer10.5kb -> locusdef.danRer10.5kb.html [ SUCCESS ] locusdef.danRer10.5kb_outside html REDIRECT:topic locusdef.danRer10.5kb_outside -> locusdef.danRer10.5kb_outside.html [ SUCCESS ] locusdef.danRer10.5kb_outside_upstream html REDIRECT:topic locusdef.danRer10.5kb_outside_upstream -> locusdef.danRer10.5kb_outside_upstream.html [ SUCCESS ] locusdef.danRer10.exon html REDIRECT:topic locusdef.danRer10.exon -> locusdef.danRer10.exon.html [ SUCCESS ] locusdef.danRer10.intron html REDIRECT:topic locusdef.danRer10.intron -> locusdef.danRer10.intron.html [ SUCCESS ] locusdef.danRer10.nearest_gene html REDIRECT:topic locusdef.danRer10.nearest_gene -> locusdef.danRer10.nearest_gene.html [ SUCCESS ] locusdef.danRer10.nearest_tss html REDIRECT:topic locusdef.danRer10.nearest_tss -> locusdef.danRer10.nearest_tss.html [ SUCCESS ] locusdef.dm3.10kb html REDIRECT:topic locusdef.dm3.10kb -> locusdef.dm3.10kb.html [ SUCCESS ] locusdef.dm3.10kb_outside html REDIRECT:topic locusdef.dm3.10kb_outside -> locusdef.dm3.10kb_outside.html [ SUCCESS ] locusdef.dm3.10kb_outside_upstream html REDIRECT:topic locusdef.dm3.10kb_outside_upstream -> locusdef.dm3.10kb_outside_upstream.html [ SUCCESS ] locusdef.dm3.1kb html REDIRECT:topic locusdef.dm3.1kb -> locusdef.dm3.1kb.html [ SUCCESS ] locusdef.dm3.1kb_outside html REDIRECT:topic locusdef.dm3.1kb_outside -> locusdef.dm3.1kb_outside.html [ SUCCESS ] locusdef.dm3.1kb_outside_upstream html REDIRECT:topic locusdef.dm3.1kb_outside_upstream -> locusdef.dm3.1kb_outside_upstream.html [ SUCCESS ] locusdef.dm3.5kb html REDIRECT:topic locusdef.dm3.5kb -> locusdef.dm3.5kb.html [ SUCCESS ] locusdef.dm3.5kb_outside html REDIRECT:topic locusdef.dm3.5kb_outside -> locusdef.dm3.5kb_outside.html [ SUCCESS ] locusdef.dm3.5kb_outside_upstream html REDIRECT:topic locusdef.dm3.5kb_outside_upstream -> locusdef.dm3.5kb_outside_upstream.html [ SUCCESS ] locusdef.dm3.exon html REDIRECT:topic locusdef.dm3.exon -> locusdef.dm3.exon.html [ SUCCESS ] locusdef.dm3.intron html REDIRECT:topic locusdef.dm3.intron -> locusdef.dm3.intron.html [ SUCCESS ] locusdef.dm3.nearest_gene html REDIRECT:topic locusdef.dm3.nearest_gene -> locusdef.dm3.nearest_gene.html [ SUCCESS ] locusdef.dm3.nearest_tss html REDIRECT:topic locusdef.dm3.nearest_tss -> locusdef.dm3.nearest_tss.html [ SUCCESS ] locusdef.dm6.10kb html REDIRECT:topic locusdef.dm6.10kb -> locusdef.dm6.10kb.html [ SUCCESS ] locusdef.dm6.10kb_outside html REDIRECT:topic locusdef.dm6.10kb_outside -> locusdef.dm6.10kb_outside.html [ SUCCESS ] locusdef.dm6.10kb_outside_upstream html REDIRECT:topic locusdef.dm6.10kb_outside_upstream -> locusdef.dm6.10kb_outside_upstream.html [ SUCCESS ] locusdef.dm6.1kb html REDIRECT:topic locusdef.dm6.1kb -> locusdef.dm6.1kb.html [ SUCCESS ] locusdef.dm6.1kb_outside html REDIRECT:topic locusdef.dm6.1kb_outside -> locusdef.dm6.1kb_outside.html [ SUCCESS ] locusdef.dm6.1kb_outside_upstream html REDIRECT:topic locusdef.dm6.1kb_outside_upstream -> locusdef.dm6.1kb_outside_upstream.html [ SUCCESS ] locusdef.dm6.5kb html REDIRECT:topic locusdef.dm6.5kb -> locusdef.dm6.5kb.html [ SUCCESS ] locusdef.dm6.5kb_outside html REDIRECT:topic locusdef.dm6.5kb_outside -> locusdef.dm6.5kb_outside.html [ SUCCESS ] locusdef.dm6.5kb_outside_upstream html REDIRECT:topic locusdef.dm6.5kb_outside_upstream -> locusdef.dm6.5kb_outside_upstream.html [ SUCCESS ] locusdef.dm6.exon html REDIRECT:topic locusdef.dm6.exon -> locusdef.dm6.exon.html [ SUCCESS ] locusdef.dm6.intron html REDIRECT:topic locusdef.dm6.intron -> locusdef.dm6.intron.html [ SUCCESS ] locusdef.dm6.nearest_gene html REDIRECT:topic locusdef.dm6.nearest_gene -> locusdef.dm6.nearest_gene.html [ SUCCESS ] locusdef.dm6.nearest_tss html REDIRECT:topic locusdef.dm6.nearest_tss -> locusdef.dm6.nearest_tss.html [ SUCCESS ] locusdef.hg19.10kb html REDIRECT:topic locusdef.hg19.10kb -> locusdef.hg19.10kb.html [ SUCCESS ] locusdef.hg19.10kb_outside html REDIRECT:topic locusdef.hg19.10kb_outside -> locusdef.hg19.10kb_outside.html [ SUCCESS ] locusdef.hg19.10kb_outside_upstream html REDIRECT:topic locusdef.hg19.10kb_outside_upstream -> locusdef.hg19.10kb_outside_upstream.html [ SUCCESS ] locusdef.hg19.1kb html REDIRECT:topic locusdef.hg19.1kb -> locusdef.hg19.1kb.html [ SUCCESS ] locusdef.hg19.1kb_outside html REDIRECT:topic locusdef.hg19.1kb_outside -> locusdef.hg19.1kb_outside.html [ SUCCESS ] locusdef.hg19.1kb_outside_upstream html REDIRECT:topic locusdef.hg19.1kb_outside_upstream -> locusdef.hg19.1kb_outside_upstream.html [ SUCCESS ] locusdef.hg19.5kb html REDIRECT:topic locusdef.hg19.5kb -> locusdef.hg19.5kb.html [ SUCCESS ] locusdef.hg19.5kb_outside html REDIRECT:topic locusdef.hg19.5kb_outside -> locusdef.hg19.5kb_outside.html [ SUCCESS ] locusdef.hg19.5kb_outside_upstream html REDIRECT:topic locusdef.hg19.5kb_outside_upstream -> locusdef.hg19.5kb_outside_upstream.html [ SUCCESS ] locusdef.hg19.exon html REDIRECT:topic locusdef.hg19.exon -> locusdef.hg19.exon.html [ SUCCESS ] locusdef.hg19.intron html REDIRECT:topic locusdef.hg19.intron -> locusdef.hg19.intron.html [ SUCCESS ] locusdef.hg19.nearest_gene html REDIRECT:topic locusdef.hg19.nearest_gene -> locusdef.hg19.nearest_gene.html [ SUCCESS ] locusdef.hg19.nearest_tss html REDIRECT:topic locusdef.hg19.nearest_tss -> locusdef.hg19.nearest_tss.html [ SUCCESS ] locusdef.hg38.10kb html REDIRECT:topic locusdef.hg38.10kb -> locusdef.hg38.10kb.html [ SUCCESS ] locusdef.hg38.10kb_outside html REDIRECT:topic locusdef.hg38.10kb_outside -> locusdef.hg38.10kb_outside.html [ SUCCESS ] locusdef.hg38.10kb_outside_upstream html REDIRECT:topic locusdef.hg38.10kb_outside_upstream -> locusdef.hg38.10kb_outside_upstream.html [ SUCCESS ] locusdef.hg38.1kb html REDIRECT:topic locusdef.hg38.1kb -> locusdef.hg38.1kb.html [ SUCCESS ] locusdef.hg38.1kb_outside html REDIRECT:topic locusdef.hg38.1kb_outside -> locusdef.hg38.1kb_outside.html [ SUCCESS ] locusdef.hg38.1kb_outside_upstream html REDIRECT:topic locusdef.hg38.1kb_outside_upstream -> locusdef.hg38.1kb_outside_upstream.html [ SUCCESS ] locusdef.hg38.5kb html REDIRECT:topic locusdef.hg38.5kb -> locusdef.hg38.5kb.html [ SUCCESS ] locusdef.hg38.5kb_outside html REDIRECT:topic locusdef.hg38.5kb_outside -> locusdef.hg38.5kb_outside.html [ SUCCESS ] locusdef.hg38.5kb_outside_upstream html REDIRECT:topic locusdef.hg38.5kb_outside_upstream -> locusdef.hg38.5kb_outside_upstream.html [ SUCCESS ] locusdef.hg38.exon html REDIRECT:topic locusdef.hg38.exon -> locusdef.hg38.exon.html [ SUCCESS ] locusdef.hg38.intron html REDIRECT:topic locusdef.hg38.intron -> locusdef.hg38.intron.html [ SUCCESS ] locusdef.hg38.nearest_gene html REDIRECT:topic locusdef.hg38.nearest_gene -> locusdef.hg38.nearest_gene.html [ SUCCESS ] locusdef.hg38.nearest_tss html REDIRECT:topic locusdef.hg38.nearest_tss -> locusdef.hg38.nearest_tss.html [ SUCCESS ] locusdef.mm10.10kb html REDIRECT:topic locusdef.mm10.10kb -> locusdef.mm10.10kb.html [ SUCCESS ] locusdef.mm10.10kb_outside html REDIRECT:topic locusdef.mm10.10kb_outside -> locusdef.mm10.10kb_outside.html [ SUCCESS ] locusdef.mm10.10kb_outside_upstream html REDIRECT:topic locusdef.mm10.10kb_outside_upstream -> locusdef.mm10.10kb_outside_upstream.html [ SUCCESS ] locusdef.mm10.1kb html REDIRECT:topic locusdef.mm10.1kb -> locusdef.mm10.1kb.html [ SUCCESS ] locusdef.mm10.1kb_outside html REDIRECT:topic locusdef.mm10.1kb_outside -> locusdef.mm10.1kb_outside.html [ SUCCESS ] locusdef.mm10.1kb_outside_upstream html REDIRECT:topic locusdef.mm10.1kb_outside_upstream -> locusdef.mm10.1kb_outside_upstream.html [ SUCCESS ] locusdef.mm10.5kb html REDIRECT:topic locusdef.mm10.5kb -> locusdef.mm10.5kb.html [ SUCCESS ] locusdef.mm10.5kb_outside html REDIRECT:topic locusdef.mm10.5kb_outside -> locusdef.mm10.5kb_outside.html [ SUCCESS ] locusdef.mm10.5kb_outside_upstream html REDIRECT:topic locusdef.mm10.5kb_outside_upstream -> locusdef.mm10.5kb_outside_upstream.html [ SUCCESS ] locusdef.mm10.exon html REDIRECT:topic locusdef.mm10.exon -> locusdef.mm10.exon.html [ SUCCESS ] locusdef.mm10.intron html REDIRECT:topic locusdef.mm10.intron -> locusdef.mm10.intron.html [ SUCCESS ] locusdef.mm10.nearest_gene html REDIRECT:topic locusdef.mm10.nearest_gene -> locusdef.mm10.nearest_gene.html [ SUCCESS ] locusdef.mm10.nearest_tss html REDIRECT:topic locusdef.mm10.nearest_tss -> locusdef.mm10.nearest_tss.html [ SUCCESS ] locusdef.mm9.10kb html REDIRECT:topic locusdef.mm9.10kb -> locusdef.mm9.10kb.html [ SUCCESS ] locusdef.mm9.10kb_outside html REDIRECT:topic locusdef.mm9.10kb_outside -> locusdef.mm9.10kb_outside.html [ SUCCESS ] locusdef.mm9.10kb_outside_upstream html REDIRECT:topic locusdef.mm9.10kb_outside_upstream -> locusdef.mm9.10kb_outside_upstream.html [ SUCCESS ] locusdef.mm9.1kb html REDIRECT:topic locusdef.mm9.1kb -> locusdef.mm9.1kb.html [ SUCCESS ] locusdef.mm9.1kb_outside html REDIRECT:topic locusdef.mm9.1kb_outside -> locusdef.mm9.1kb_outside.html [ SUCCESS ] locusdef.mm9.1kb_outside_upstream html REDIRECT:topic locusdef.mm9.1kb_outside_upstream -> locusdef.mm9.1kb_outside_upstream.html [ SUCCESS ] locusdef.mm9.5kb html REDIRECT:topic locusdef.mm9.5kb -> locusdef.mm9.5kb.html [ SUCCESS ] locusdef.mm9.5kb_outside html REDIRECT:topic locusdef.mm9.5kb_outside -> locusdef.mm9.5kb_outside.html [ SUCCESS ] locusdef.mm9.5kb_outside_upstream html REDIRECT:topic locusdef.mm9.5kb_outside_upstream -> locusdef.mm9.5kb_outside_upstream.html [ SUCCESS ] locusdef.mm9.exon html REDIRECT:topic locusdef.mm9.exon -> locusdef.mm9.exon.html [ SUCCESS ] locusdef.mm9.intron html REDIRECT:topic locusdef.mm9.intron -> locusdef.mm9.intron.html [ SUCCESS ] locusdef.mm9.nearest_gene html REDIRECT:topic locusdef.mm9.nearest_gene -> locusdef.mm9.nearest_gene.html [ SUCCESS ] locusdef.mm9.nearest_tss html REDIRECT:topic locusdef.mm9.nearest_tss -> locusdef.mm9.nearest_tss.html [ SUCCESS ] locusdef.rn4.10kb html REDIRECT:topic locusdef.rn4.10kb -> locusdef.rn4.10kb.html [ SUCCESS ] locusdef.rn4.10kb_outside html REDIRECT:topic locusdef.rn4.10kb_outside -> locusdef.rn4.10kb_outside.html [ SUCCESS ] locusdef.rn4.10kb_outside_upstream html REDIRECT:topic locusdef.rn4.10kb_outside_upstream -> locusdef.rn4.10kb_outside_upstream.html [ SUCCESS ] locusdef.rn4.1kb html REDIRECT:topic locusdef.rn4.1kb -> locusdef.rn4.1kb.html [ SUCCESS ] locusdef.rn4.1kb_outside html REDIRECT:topic locusdef.rn4.1kb_outside -> locusdef.rn4.1kb_outside.html [ SUCCESS ] locusdef.rn4.1kb_outside_upstream html REDIRECT:topic locusdef.rn4.1kb_outside_upstream -> locusdef.rn4.1kb_outside_upstream.html [ SUCCESS ] locusdef.rn4.5kb html REDIRECT:topic locusdef.rn4.5kb -> locusdef.rn4.5kb.html [ SUCCESS ] locusdef.rn4.5kb_outside html REDIRECT:topic locusdef.rn4.5kb_outside -> locusdef.rn4.5kb_outside.html [ SUCCESS ] locusdef.rn4.5kb_outside_upstream html REDIRECT:topic locusdef.rn4.5kb_outside_upstream -> locusdef.rn4.5kb_outside_upstream.html [ SUCCESS ] locusdef.rn4.exon html REDIRECT:topic locusdef.rn4.exon -> locusdef.rn4.exon.html [ SUCCESS ] locusdef.rn4.intron html REDIRECT:topic locusdef.rn4.intron -> locusdef.rn4.intron.html [ SUCCESS ] locusdef.rn4.nearest_gene html REDIRECT:topic locusdef.rn4.nearest_gene -> locusdef.rn4.nearest_gene.html [ SUCCESS ] locusdef.rn4.nearest_tss html REDIRECT:topic locusdef.rn4.nearest_tss -> locusdef.rn4.nearest_tss.html [ SUCCESS ] locusdef.rn5.10kb html REDIRECT:topic locusdef.rn5.10kb -> locusdef.rn5.10kb.html [ SUCCESS ] locusdef.rn5.10kb_outside html REDIRECT:topic locusdef.rn5.10kb_outside -> locusdef.rn5.10kb_outside.html [ SUCCESS ] locusdef.rn5.10kb_outside_upstream html REDIRECT:topic locusdef.rn5.10kb_outside_upstream -> locusdef.rn5.10kb_outside_upstream.html [ SUCCESS ] locusdef.rn5.1kb html REDIRECT:topic locusdef.rn5.1kb -> locusdef.rn5.1kb.html [ SUCCESS ] locusdef.rn5.1kb_outside html REDIRECT:topic locusdef.rn5.1kb_outside -> locusdef.rn5.1kb_outside.html [ SUCCESS ] locusdef.rn5.1kb_outside_upstream html REDIRECT:topic locusdef.rn5.1kb_outside_upstream -> locusdef.rn5.1kb_outside_upstream.html [ SUCCESS ] locusdef.rn5.5kb html REDIRECT:topic locusdef.rn5.5kb -> locusdef.rn5.5kb.html [ SUCCESS ] locusdef.rn5.5kb_outside html REDIRECT:topic locusdef.rn5.5kb_outside -> locusdef.rn5.5kb_outside.html [ SUCCESS ] locusdef.rn5.5kb_outside_upstream html REDIRECT:topic locusdef.rn5.5kb_outside_upstream -> locusdef.rn5.5kb_outside_upstream.html [ SUCCESS ] locusdef.rn5.exon html REDIRECT:topic locusdef.rn5.exon -> locusdef.rn5.exon.html [ SUCCESS ] locusdef.rn5.intron html REDIRECT:topic locusdef.rn5.intron -> locusdef.rn5.intron.html [ SUCCESS ] locusdef.rn5.nearest_gene html REDIRECT:topic locusdef.rn5.nearest_gene -> locusdef.rn5.nearest_gene.html [ SUCCESS ] locusdef.rn5.nearest_tss html REDIRECT:topic locusdef.rn5.nearest_tss -> locusdef.rn5.nearest_tss.html [ SUCCESS ] locusdef.rn6.10kb html REDIRECT:topic locusdef.rn6.10kb -> locusdef.rn6.10kb.html [ SUCCESS ] locusdef.rn6.10kb_outside html REDIRECT:topic locusdef.rn6.10kb_outside -> locusdef.rn6.10kb_outside.html [ SUCCESS ] locusdef.rn6.10kb_outside_upstream html REDIRECT:topic locusdef.rn6.10kb_outside_upstream -> locusdef.rn6.10kb_outside_upstream.html [ SUCCESS ] locusdef.rn6.1kb html REDIRECT:topic locusdef.rn6.1kb -> locusdef.rn6.1kb.html [ SUCCESS ] locusdef.rn6.1kb_outside html REDIRECT:topic locusdef.rn6.1kb_outside -> locusdef.rn6.1kb_outside.html [ SUCCESS ] locusdef.rn6.1kb_outside_upstream html REDIRECT:topic locusdef.rn6.1kb_outside_upstream -> locusdef.rn6.1kb_outside_upstream.html [ SUCCESS ] locusdef.rn6.5kb html REDIRECT:topic locusdef.rn6.5kb -> locusdef.rn6.5kb.html [ SUCCESS ] locusdef.rn6.5kb_outside html REDIRECT:topic locusdef.rn6.5kb_outside -> locusdef.rn6.5kb_outside.html [ SUCCESS ] locusdef.rn6.5kb_outside_upstream html REDIRECT:topic locusdef.rn6.5kb_outside_upstream -> locusdef.rn6.5kb_outside_upstream.html [ SUCCESS ] locusdef.rn6.exon html REDIRECT:topic locusdef.rn6.exon -> locusdef.rn6.exon.html [ SUCCESS ] locusdef.rn6.intron html REDIRECT:topic locusdef.rn6.intron -> locusdef.rn6.intron.html [ SUCCESS ] locusdef.rn6.nearest_gene html REDIRECT:topic locusdef.rn6.nearest_gene -> locusdef.rn6.nearest_gene.html [ SUCCESS ] locusdef.rn6.nearest_tss html REDIRECT:topic locusdef.rn6.nearest_tss -> locusdef.rn6.nearest_tss.html [ SUCCESS ] mappa.hg19.10kb.100mer html REDIRECT:topic mappa.hg19.10kb.100mer -> mappa.hg19.10kb.100mer.html [ SUCCESS ] mappa.hg19.10kb.24mer html REDIRECT:topic mappa.hg19.10kb.24mer -> mappa.hg19.10kb.24mer.html [ SUCCESS ] mappa.hg19.10kb.36mer html REDIRECT:topic mappa.hg19.10kb.36mer -> mappa.hg19.10kb.36mer.html [ SUCCESS ] mappa.hg19.10kb.40mer html REDIRECT:topic mappa.hg19.10kb.40mer -> mappa.hg19.10kb.40mer.html [ SUCCESS ] mappa.hg19.10kb.50mer html REDIRECT:topic mappa.hg19.10kb.50mer -> mappa.hg19.10kb.50mer.html [ SUCCESS ] mappa.hg19.10kb.75mer html REDIRECT:topic mappa.hg19.10kb.75mer -> mappa.hg19.10kb.75mer.html [ SUCCESS ] mappa.hg19.1kb.100mer html REDIRECT:topic mappa.hg19.1kb.100mer -> mappa.hg19.1kb.100mer.html [ SUCCESS ] mappa.hg19.1kb.24mer html REDIRECT:topic mappa.hg19.1kb.24mer -> mappa.hg19.1kb.24mer.html [ SUCCESS ] mappa.hg19.1kb.36mer html REDIRECT:topic mappa.hg19.1kb.36mer -> mappa.hg19.1kb.36mer.html [ SUCCESS ] mappa.hg19.1kb.40mer html REDIRECT:topic mappa.hg19.1kb.40mer -> mappa.hg19.1kb.40mer.html [ SUCCESS ] mappa.hg19.1kb.50mer html REDIRECT:topic mappa.hg19.1kb.50mer -> mappa.hg19.1kb.50mer.html [ SUCCESS ] mappa.hg19.1kb.75mer html REDIRECT:topic mappa.hg19.1kb.75mer -> mappa.hg19.1kb.75mer.html [ SUCCESS ] mappa.hg19.5kb.100mer html REDIRECT:topic mappa.hg19.5kb.100mer -> mappa.hg19.5kb.100mer.html [ SUCCESS ] mappa.hg19.5kb.24mer html REDIRECT:topic mappa.hg19.5kb.24mer -> mappa.hg19.5kb.24mer.html [ SUCCESS ] mappa.hg19.5kb.36mer html REDIRECT:topic mappa.hg19.5kb.36mer -> mappa.hg19.5kb.36mer.html [ SUCCESS ] mappa.hg19.5kb.40mer html REDIRECT:topic mappa.hg19.5kb.40mer -> mappa.hg19.5kb.40mer.html [ SUCCESS ] mappa.hg19.5kb.50mer html REDIRECT:topic mappa.hg19.5kb.50mer -> mappa.hg19.5kb.50mer.html [ SUCCESS ] mappa.hg19.5kb.75mer html REDIRECT:topic mappa.hg19.5kb.75mer -> mappa.hg19.5kb.75mer.html [ SUCCESS ] mappa.hg19.exon.100mer html REDIRECT:topic mappa.hg19.exon.100mer -> mappa.hg19.exon.100mer.html [ SUCCESS ] mappa.hg19.exon.24mer html REDIRECT:topic mappa.hg19.exon.24mer -> mappa.hg19.exon.24mer.html [ SUCCESS ] mappa.hg19.exon.36mer html REDIRECT:topic mappa.hg19.exon.36mer -> mappa.hg19.exon.36mer.html [ SUCCESS ] mappa.hg19.exon.40mer html REDIRECT:topic mappa.hg19.exon.40mer -> mappa.hg19.exon.40mer.html [ SUCCESS ] mappa.hg19.exon.50mer html REDIRECT:topic mappa.hg19.exon.50mer -> mappa.hg19.exon.50mer.html [ SUCCESS ] mappa.hg19.exon.75mer html REDIRECT:topic mappa.hg19.exon.75mer -> mappa.hg19.exon.75mer.html [ SUCCESS ] mappa.hg19.intron.100mer html REDIRECT:topic mappa.hg19.intron.100mer -> mappa.hg19.intron.100mer.html [ SUCCESS ] mappa.hg19.intron.24mer html REDIRECT:topic mappa.hg19.intron.24mer -> mappa.hg19.intron.24mer.html [ SUCCESS ] mappa.hg19.intron.36mer html REDIRECT:topic mappa.hg19.intron.36mer -> mappa.hg19.intron.36mer.html [ SUCCESS ] mappa.hg19.intron.40mer html REDIRECT:topic mappa.hg19.intron.40mer -> mappa.hg19.intron.40mer.html [ SUCCESS ] mappa.hg19.intron.50mer html REDIRECT:topic mappa.hg19.intron.50mer -> mappa.hg19.intron.50mer.html [ SUCCESS ] mappa.hg19.intron.75mer html REDIRECT:topic mappa.hg19.intron.75mer -> mappa.hg19.intron.75mer.html [ SUCCESS ] mappa.hg19.nearest_gene.100mer html REDIRECT:topic mappa.hg19.nearest_gene.100mer -> mappa.hg19.nearest_gene.100mer.html [ SUCCESS ] mappa.hg19.nearest_gene.24mer html REDIRECT:topic mappa.hg19.nearest_gene.24mer -> mappa.hg19.nearest_gene.24mer.html [ SUCCESS ] mappa.hg19.nearest_gene.36mer html REDIRECT:topic mappa.hg19.nearest_gene.36mer -> mappa.hg19.nearest_gene.36mer.html [ SUCCESS ] mappa.hg19.nearest_gene.40mer html REDIRECT:topic mappa.hg19.nearest_gene.40mer -> mappa.hg19.nearest_gene.40mer.html [ SUCCESS ] mappa.hg19.nearest_gene.50mer html REDIRECT:topic mappa.hg19.nearest_gene.50mer -> mappa.hg19.nearest_gene.50mer.html [ SUCCESS ] mappa.hg19.nearest_gene.75mer html REDIRECT:topic mappa.hg19.nearest_gene.75mer -> mappa.hg19.nearest_gene.75mer.html [ SUCCESS ] mappa.hg19.nearest_tss.100mer html REDIRECT:topic mappa.hg19.nearest_tss.100mer -> mappa.hg19.nearest_tss.100mer.html [ SUCCESS ] mappa.hg19.nearest_tss.24mer html REDIRECT:topic mappa.hg19.nearest_tss.24mer -> mappa.hg19.nearest_tss.24mer.html [ SUCCESS ] mappa.hg19.nearest_tss.36mer html REDIRECT:topic mappa.hg19.nearest_tss.36mer -> mappa.hg19.nearest_tss.36mer.html [ SUCCESS ] mappa.hg19.nearest_tss.40mer html REDIRECT:topic mappa.hg19.nearest_tss.40mer -> mappa.hg19.nearest_tss.40mer.html [ SUCCESS ] mappa.hg19.nearest_tss.50mer html REDIRECT:topic mappa.hg19.nearest_tss.50mer -> mappa.hg19.nearest_tss.50mer.html [ SUCCESS ] mappa.hg19.nearest_tss.75mer html REDIRECT:topic mappa.hg19.nearest_tss.75mer -> mappa.hg19.nearest_tss.75mer.html [ SUCCESS ] mappa.mm9.10kb.100mer html REDIRECT:topic mappa.mm9.10kb.100mer -> mappa.mm9.10kb.100mer.html [ SUCCESS ] mappa.mm9.10kb.36mer html REDIRECT:topic mappa.mm9.10kb.36mer -> mappa.mm9.10kb.36mer.html [ SUCCESS ] mappa.mm9.10kb.40mer html REDIRECT:topic mappa.mm9.10kb.40mer -> mappa.mm9.10kb.40mer.html [ SUCCESS ] mappa.mm9.10kb.50mer html REDIRECT:topic mappa.mm9.10kb.50mer -> mappa.mm9.10kb.50mer.html [ SUCCESS ] mappa.mm9.10kb.75mer html REDIRECT:topic mappa.mm9.10kb.75mer -> mappa.mm9.10kb.75mer.html [ SUCCESS ] mappa.mm9.1kb.100mer html REDIRECT:topic mappa.mm9.1kb.100mer -> mappa.mm9.1kb.100mer.html [ SUCCESS ] mappa.mm9.1kb.36mer html REDIRECT:topic mappa.mm9.1kb.36mer -> mappa.mm9.1kb.36mer.html [ SUCCESS ] mappa.mm9.1kb.40mer html REDIRECT:topic mappa.mm9.1kb.40mer -> mappa.mm9.1kb.40mer.html [ SUCCESS ] mappa.mm9.1kb.50mer html REDIRECT:topic mappa.mm9.1kb.50mer -> mappa.mm9.1kb.50mer.html [ SUCCESS ] mappa.mm9.1kb.75mer html REDIRECT:topic mappa.mm9.1kb.75mer -> mappa.mm9.1kb.75mer.html [ SUCCESS ] mappa.mm9.5kb.100mer html REDIRECT:topic mappa.mm9.5kb.100mer -> mappa.mm9.5kb.100mer.html [ SUCCESS ] mappa.mm9.5kb.36mer html REDIRECT:topic mappa.mm9.5kb.36mer -> mappa.mm9.5kb.36mer.html [ SUCCESS ] mappa.mm9.5kb.40mer html REDIRECT:topic mappa.mm9.5kb.40mer -> mappa.mm9.5kb.40mer.html [ SUCCESS ] mappa.mm9.5kb.50mer html REDIRECT:topic mappa.mm9.5kb.50mer -> mappa.mm9.5kb.50mer.html [ SUCCESS ] mappa.mm9.5kb.75mer html REDIRECT:topic mappa.mm9.5kb.75mer -> mappa.mm9.5kb.75mer.html [ SUCCESS ] mappa.mm9.exon.100mer html REDIRECT:topic mappa.mm9.exon.100mer -> mappa.mm9.exon.100mer.html [ SUCCESS ] mappa.mm9.exon.36mer html REDIRECT:topic mappa.mm9.exon.36mer -> mappa.mm9.exon.36mer.html [ SUCCESS ] mappa.mm9.exon.40mer html REDIRECT:topic mappa.mm9.exon.40mer -> mappa.mm9.exon.40mer.html [ SUCCESS ] mappa.mm9.exon.50mer html REDIRECT:topic mappa.mm9.exon.50mer -> mappa.mm9.exon.50mer.html [ SUCCESS ] mappa.mm9.exon.75mer html REDIRECT:topic mappa.mm9.exon.75mer -> mappa.mm9.exon.75mer.html [ SUCCESS ] mappa.mm9.intron.100mer html REDIRECT:topic mappa.mm9.intron.100mer -> mappa.mm9.intron.100mer.html [ SUCCESS ] mappa.mm9.intron.36mer html REDIRECT:topic mappa.mm9.intron.36mer -> mappa.mm9.intron.36mer.html [ SUCCESS ] mappa.mm9.intron.40mer html REDIRECT:topic mappa.mm9.intron.40mer -> mappa.mm9.intron.40mer.html [ SUCCESS ] mappa.mm9.intron.50mer html REDIRECT:topic mappa.mm9.intron.50mer -> mappa.mm9.intron.50mer.html [ SUCCESS ] mappa.mm9.intron.75mer html REDIRECT:topic mappa.mm9.intron.75mer -> mappa.mm9.intron.75mer.html [ SUCCESS ] mappa.mm9.nearest_gene.100mer html REDIRECT:topic mappa.mm9.nearest_gene.100mer -> mappa.mm9.nearest_gene.100mer.html [ SUCCESS ] mappa.mm9.nearest_gene.36mer html REDIRECT:topic mappa.mm9.nearest_gene.36mer -> mappa.mm9.nearest_gene.36mer.html [ SUCCESS ] mappa.mm9.nearest_gene.40mer html REDIRECT:topic mappa.mm9.nearest_gene.40mer -> mappa.mm9.nearest_gene.40mer.html [ SUCCESS ] mappa.mm9.nearest_gene.50mer html REDIRECT:topic mappa.mm9.nearest_gene.50mer -> mappa.mm9.nearest_gene.50mer.html [ SUCCESS ] mappa.mm9.nearest_gene.75mer html REDIRECT:topic mappa.mm9.nearest_gene.75mer -> mappa.mm9.nearest_gene.75mer.html [ SUCCESS ] mappa.mm9.nearest_tss.100mer html REDIRECT:topic mappa.mm9.nearest_tss.100mer -> mappa.mm9.nearest_tss.100mer.html [ SUCCESS ] mappa.mm9.nearest_tss.36mer html REDIRECT:topic mappa.mm9.nearest_tss.36mer -> mappa.mm9.nearest_tss.36mer.html [ SUCCESS ] mappa.mm9.nearest_tss.40mer html REDIRECT:topic mappa.mm9.nearest_tss.40mer -> mappa.mm9.nearest_tss.40mer.html [ SUCCESS ] mappa.mm9.nearest_tss.50mer html REDIRECT:topic mappa.mm9.nearest_tss.50mer -> mappa.mm9.nearest_tss.50mer.html [ SUCCESS ] mappa.mm9.nearest_tss.75mer html REDIRECT:topic mappa.mm9.nearest_tss.75mer -> mappa.mm9.nearest_tss.75mer.html [ SUCCESS ] peaks_E2F4 html REDIRECT:topic peaks_E2F4 -> peaks_E2F4.html [ SUCCESS ] peaks_H3K4me3_GM12878 html REDIRECT:topic peaks_H3K4me3_GM12878 -> peaks_H3K4me3_GM12878.html [ SUCCESS ] spline.log_dtss.90ENCODE html REDIRECT:topic spline.log_dtss.90ENCODE -> spline.log_dtss.90ENCODE.html [ SUCCESS ] tss.danRer10 html REDIRECT:topic tss.danRer10 -> tss.danRer10.html [ SUCCESS ] tss.dm3 html REDIRECT:topic tss.dm3 -> tss.dm3.html [ SUCCESS ] tss.dm6 html REDIRECT:topic tss.dm6 -> tss.dm6.html [ SUCCESS ] tss.hg19 html REDIRECT:topic tss.hg19 -> tss.hg19.html [ SUCCESS ] tss.hg38 html REDIRECT:topic tss.hg38 -> tss.hg38.html [ SUCCESS ] tss.mm10 html REDIRECT:topic tss.mm10 -> tss.mm10.html [ SUCCESS ] tss.mm9 html REDIRECT:topic tss.mm9 -> tss.mm9.html [ SUCCESS ] tss.rn4 html REDIRECT:topic tss.rn4 -> tss.rn4.html [ SUCCESS ] tss.rn5 html REDIRECT:topic tss.rn5 -> tss.rn5.html [ SUCCESS ] tss.rn6 html REDIRECT:topic tss.rn6 -> tss.rn6.html [ SUCCESS ] ** building package indices ** installing vignettes ** testing if installed package can be loaded from temporary location ** testing if installed package can be loaded from final location ** testing if installed package keeps a record of temporary installation path install for x64 * installing *source* package 'chipenrich.data' ... ** testing if installed package can be loaded * MD5 sums packaged installation of 'chipenrich.data' as chipenrich.data_2.15.0.zip * DONE (chipenrich.data) * installing to library 'D:/biocbuild/bbs-3.13-bioc/R/library' package 'chipenrich.data' successfully unpacked and MD5 sums checked