Name | Last modified | Size | Description | |
---|---|---|---|---|
Parent Directory | - | |||
install-summary.dcf | 17-Oct-2021 04:58 | 276 | ||
buildsrc-summary.dcf | 17-Oct-2021 04:58 | 442 | ||
checksrc-summary.dcf | 17-Oct-2021 04:58 | 462 | ||
install-out.txt | 17-Oct-2021 04:58 | 1.1K | ||
buildsrc-out.txt | 17-Oct-2021 04:58 | 1.9K | ||
checksrc-out.txt | 17-Oct-2021 04:58 | 4.6K | ||