Index of /checkResults/3.13/data-experiment-LATEST/cgdv17/raw-results/malbec2
Name
Last modified
Size
Description
Parent Directory
-
buildsrc-out.txt
17-Oct-2021 04:58
4.3K
buildsrc-summary.dcf
17-Oct-2021 04:58
331
install-out.txt
17-Oct-2021 04:58
1.1K
install-summary.dcf
17-Oct-2021 04:58
257