Back to Multiple platform build/check report for BioC 3.13 experimental data
AB[C]DEFGHIJKLMNOPQRSTUVWXYZ

INSTALL report for ceuhm3 on riesling1

This page was generated on 2021-01-18 15:58:45 -0500 (Mon, 18 Jan 2021).

TO THE DEVELOPERS/MAINTAINERS OF THE ceuhm3 PACKAGE: Please make sure to use the following settings in order to reproduce any error or warning you see on this page.
Package 54/385HostnameOS / ArchINSTALLBUILDCHECK
ceuhm3 0.29.1
VJ Carey
Snapshot Date: 2021-01-18 09:00:15 -0500 (Mon, 18 Jan 2021)
URL: https://git.bioconductor.org/packages/ceuhm3
Branch: master
Last Commit: 27a06f7
Last Changed Date: 2020-11-30 08:20:45 -0500 (Mon, 30 Nov 2020)
malbec2 Linux (Ubuntu 20.04.1 LTS) / x86_64  ERROR  OK  ERROR 
riesling1 Windows Server 2019 Standard / x64 [ ERROR ] OK  ERROR 

Summary

Package: ceuhm3
Version: 0.29.1
Command: C:\cygwin\bin\curl.exe -O http://172.29.0.4/BBS/3.13/data-experiment/src/contrib/ceuhm3_0.29.1.tar.gz && rm -rf ceuhm3.buildbin-libdir && mkdir ceuhm3.buildbin-libdir && D:\biocbuild\bbs-3.13-bioc\R\bin\R.exe CMD INSTALL --merge-multiarch --build --library=ceuhm3.buildbin-libdir ceuhm3_0.29.1.tar.gz && D:\biocbuild\bbs-3.13-bioc\R\bin\R.exe CMD INSTALL ceuhm3_0.29.1.zip && rm ceuhm3_0.29.1.tar.gz ceuhm3_0.29.1.zip
StartedAt: 2021-01-18 10:26:12 -0500 (Mon, 18 Jan 2021)
EndedAt: 2021-01-18 10:26:15 -0500 (Mon, 18 Jan 2021)
EllapsedTime: 2.1 seconds
RetCode: 1
Status:  ERROR  

Command output

##############################################################################
##############################################################################
###
### Running command:
###
###   C:\cygwin\bin\curl.exe -O http://172.29.0.4/BBS/3.13/data-experiment/src/contrib/ceuhm3_0.29.1.tar.gz && rm -rf ceuhm3.buildbin-libdir && mkdir ceuhm3.buildbin-libdir && D:\biocbuild\bbs-3.13-bioc\R\bin\R.exe CMD INSTALL --merge-multiarch --build --library=ceuhm3.buildbin-libdir ceuhm3_0.29.1.tar.gz && D:\biocbuild\bbs-3.13-bioc\R\bin\R.exe CMD INSTALL ceuhm3_0.29.1.zip && rm ceuhm3_0.29.1.tar.gz ceuhm3_0.29.1.zip
###
##############################################################################
##############################################################################


  % Total    % Received % Xferd  Average Speed   Time    Time     Time  Current
                                 Dload  Upload   Total   Spent    Left  Speed

  0     0    0     0    0     0      0      0 --:--:-- --:--:-- --:--:--     0
100 45.0M  100 45.0M    0     0   106M      0 --:--:-- --:--:-- --:--:--  107M

install for i386

ERROR: dependencies 'GGBase', 'GGtools' are not available for package 'ceuhm3'
* removing 'D:/biocbuild/bbs-3.13-data-experiment/meat/ceuhm3.buildbin-libdir/ceuhm3'