Back to Multiple platform build/check report for BioC 3.13 experimental data
AB[C]DEFGHIJKLMNOPQRSTUVWXYZ

INSTALL report for ceu1kgv on riesling1

This page was generated on 2021-01-14 15:59:07 -0500 (Thu, 14 Jan 2021).

TO THE DEVELOPERS/MAINTAINERS OF THE ceu1kgv PACKAGE: Please make sure to use the following settings in order to reproduce any error or warning you see on this page.
Package 53/385HostnameOS / ArchINSTALLBUILDCHECK
ceu1kgv 0.33.1
VJ Carey
Snapshot Date: 2021-01-14 09:00:13 -0500 (Thu, 14 Jan 2021)
URL: https://git.bioconductor.org/packages/ceu1kgv
Branch: master
Last Commit: aaa6b5c
Last Changed Date: 2020-11-30 08:19:41 -0500 (Mon, 30 Nov 2020)
malbec2 Linux (Ubuntu 20.04.1 LTS) / x86_64  ERROR  ERROR  skipped 
riesling1 Windows Server 2019 Standard / x64 [ ERROR ] ERROR  skipped 

Summary

Package: ceu1kgv
Version: 0.33.1
Command: C:\cygwin\bin\curl.exe -O http://172.29.0.4/BBS/3.13/data-experiment/src/contrib/ceu1kgv_0.33.1.tar.gz && rm -rf ceu1kgv.buildbin-libdir && mkdir ceu1kgv.buildbin-libdir && D:\biocbuild\bbs-3.13-bioc\R\bin\R.exe CMD INSTALL --merge-multiarch --build --library=ceu1kgv.buildbin-libdir ceu1kgv_0.33.1.tar.gz && D:\biocbuild\bbs-3.13-bioc\R\bin\R.exe CMD INSTALL ceu1kgv_0.33.1.zip && rm ceu1kgv_0.33.1.tar.gz ceu1kgv_0.33.1.zip
StartedAt: 2021-01-14 10:23:33 -0500 (Thu, 14 Jan 2021)
EndedAt: 2021-01-14 10:23:43 -0500 (Thu, 14 Jan 2021)
EllapsedTime: 10.2 seconds
RetCode: 1
Status:  ERROR  

Command output

##############################################################################
##############################################################################
###
### Running command:
###
###   C:\cygwin\bin\curl.exe -O http://172.29.0.4/BBS/3.13/data-experiment/src/contrib/ceu1kgv_0.33.1.tar.gz && rm -rf ceu1kgv.buildbin-libdir && mkdir ceu1kgv.buildbin-libdir && D:\biocbuild\bbs-3.13-bioc\R\bin\R.exe CMD INSTALL --merge-multiarch --build --library=ceu1kgv.buildbin-libdir ceu1kgv_0.33.1.tar.gz && D:\biocbuild\bbs-3.13-bioc\R\bin\R.exe CMD INSTALL ceu1kgv_0.33.1.zip && rm ceu1kgv_0.33.1.tar.gz ceu1kgv_0.33.1.zip
###
##############################################################################
##############################################################################


  % Total    % Received % Xferd  Average Speed   Time    Time     Time  Current
                                 Dload  Upload   Total   Spent    Left  Speed

  0     0    0     0    0     0      0      0 --:--:-- --:--:-- --:--:--     0
 16  276M   16 46.2M    0     0  91.6M      0  0:00:03 --:--:--  0:00:03 91.5M
 51  276M   51  142M    0     0  95.4M      0  0:00:02  0:00:01  0:00:01 95.3M
 74  276M   74  206M    0     0  82.8M      0  0:00:03  0:00:02  0:00:01 82.8M
100  276M  100  276M    0     0  81.7M      0  0:00:03  0:00:03 --:--:-- 81.7M

install for i386

ERROR: dependency 'GGBase' is not available for package 'ceu1kgv'
* removing 'D:/biocbuild/bbs-3.13-data-experiment/meat/ceu1kgv.buildbin-libdir/ceu1kgv'