Back to Multiple platform build/check report for BioC 3.13 experimental data
AB[C]DEFGHIJKLMNOPQRSTUVWXYZ

INSTALL report for ceu1kg on riesling1

This page was generated on 2021-01-18 15:58:45 -0500 (Mon, 18 Jan 2021).

TO THE DEVELOPERS/MAINTAINERS OF THE ceu1kg PACKAGE: Please make sure to use the following settings in order to reproduce any error or warning you see on this page.
Package 52/385HostnameOS / ArchINSTALLBUILDCHECK
ceu1kg 0.29.1
VJ Carey
Snapshot Date: 2021-01-18 09:00:15 -0500 (Mon, 18 Jan 2021)
URL: https://git.bioconductor.org/packages/ceu1kg
Branch: master
Last Commit: fdea3e5
Last Changed Date: 2020-11-30 08:18:42 -0500 (Mon, 30 Nov 2020)
malbec2 Linux (Ubuntu 20.04.1 LTS) / x86_64  ERROR  ERROR  skipped 
riesling1 Windows Server 2019 Standard / x64 [ ERROR ] ERROR  skipped 

Summary

Package: ceu1kg
Version: 0.29.1
Command: C:\cygwin\bin\curl.exe -O http://172.29.0.4/BBS/3.13/data-experiment/src/contrib/ceu1kg_0.29.1.tar.gz && rm -rf ceu1kg.buildbin-libdir && mkdir ceu1kg.buildbin-libdir && D:\biocbuild\bbs-3.13-bioc\R\bin\R.exe CMD INSTALL --merge-multiarch --build --library=ceu1kg.buildbin-libdir ceu1kg_0.29.1.tar.gz && D:\biocbuild\bbs-3.13-bioc\R\bin\R.exe CMD INSTALL ceu1kg_0.29.1.zip && rm ceu1kg_0.29.1.tar.gz ceu1kg_0.29.1.zip
StartedAt: 2021-01-18 10:25:01 -0500 (Mon, 18 Jan 2021)
EndedAt: 2021-01-18 10:25:04 -0500 (Mon, 18 Jan 2021)
EllapsedTime: 3.6 seconds
RetCode: 1
Status:  ERROR  

Command output

##############################################################################
##############################################################################
###
### Running command:
###
###   C:\cygwin\bin\curl.exe -O http://172.29.0.4/BBS/3.13/data-experiment/src/contrib/ceu1kg_0.29.1.tar.gz && rm -rf ceu1kg.buildbin-libdir && mkdir ceu1kg.buildbin-libdir && D:\biocbuild\bbs-3.13-bioc\R\bin\R.exe CMD INSTALL --merge-multiarch --build --library=ceu1kg.buildbin-libdir ceu1kg_0.29.1.tar.gz && D:\biocbuild\bbs-3.13-bioc\R\bin\R.exe CMD INSTALL ceu1kg_0.29.1.zip && rm ceu1kg_0.29.1.tar.gz ceu1kg_0.29.1.zip
###
##############################################################################
##############################################################################


  % Total    % Received % Xferd  Average Speed   Time    Time     Time  Current
                                 Dload  Upload   Total   Spent    Left  Speed

  0     0    0     0    0     0      0      0 --:--:-- --:--:-- --:--:--     0
 90 79.9M   90 72.6M    0     0  93.4M      0 --:--:-- --:--:-- --:--:-- 93.3M
100 79.9M  100 79.9M    0     0  94.9M      0 --:--:-- --:--:-- --:--:-- 94.8M

install for i386

ERROR: dependencies 'GGBase', 'GGtools' are not available for package 'ceu1kg'
* removing 'D:/biocbuild/bbs-3.13-data-experiment/meat/ceu1kg.buildbin-libdir/ceu1kg'