Back to Multiple platform build/check report for BioC 3.13 experimental data
AB[C]DEFGHIJKLMNOPQRSTUVWXYZ

BUILD report for ceu1kg on riesling1

This page was generated on 2021-01-18 15:58:45 -0500 (Mon, 18 Jan 2021).

TO THE DEVELOPERS/MAINTAINERS OF THE ceu1kg PACKAGE: Please make sure to use the following settings in order to reproduce any error or warning you see on this page.
Package 52/385HostnameOS / ArchINSTALLBUILDCHECK
ceu1kg 0.29.1
VJ Carey
Snapshot Date: 2021-01-18 09:00:15 -0500 (Mon, 18 Jan 2021)
URL: https://git.bioconductor.org/packages/ceu1kg
Branch: master
Last Commit: fdea3e5
Last Changed Date: 2020-11-30 08:18:42 -0500 (Mon, 30 Nov 2020)
malbec2 Linux (Ubuntu 20.04.1 LTS) / x86_64  ERROR  ERROR  skipped 
riesling1 Windows Server 2019 Standard / x64  ERROR [ ERROR ] skipped 

Summary

Package: ceu1kg
Version: 0.29.1
Command: chmod a+r ceu1kg -R && D:\biocbuild\bbs-3.13-bioc\R\bin\R.exe CMD build --keep-empty-dirs --no-resave-data ceu1kg
StartedAt: 2021-01-18 10:30:12 -0500 (Mon, 18 Jan 2021)
EndedAt: 2021-01-18 10:30:32 -0500 (Mon, 18 Jan 2021)
EllapsedTime: 19.1 seconds
RetCode: 1
Status:  ERROR  
PackageFile: ceu1kg_0.29.1.tar.gz
PackageFileSize: 79.92 MiB

Command output

##############################################################################
##############################################################################
###
### Running command:
###
###   chmod a+r ceu1kg -R && D:\biocbuild\bbs-3.13-bioc\R\bin\R.exe CMD build --keep-empty-dirs --no-resave-data ceu1kg
###
##############################################################################
##############################################################################


* checking for file 'ceu1kg/DESCRIPTION' ... OK
* preparing 'ceu1kg':
* checking DESCRIPTION meta-information ... OK
* installing the package to build vignettes
      -----------------------------------
ERROR: dependencies 'GGBase', 'GGtools' are not available for package 'ceu1kg'
* removing 'D:/biocbuild/bbs-3.13-data-experiment/tmpdir/RtmpcLul59/Rinstb6078846154/ceu1kg'
      -----------------------------------
ERROR: package installation failed