Back to Multiple platform build/check report for BioC 3.13 experimental data
AB[C]DEFGHIJKLMNOPQRSTUVWXYZ

INSTALL report for celldex on riesling1

This page was generated on 2021-01-14 15:59:07 -0500 (Thu, 14 Jan 2021).

TO THE DEVELOPERS/MAINTAINERS OF THE celldex PACKAGE: Please make sure to use the following settings in order to reproduce any error or warning you see on this page.
Package 50/385HostnameOS / ArchINSTALLBUILDCHECK
celldex 1.1.0
Aaron Lun
Snapshot Date: 2021-01-14 09:00:13 -0500 (Thu, 14 Jan 2021)
URL: https://git.bioconductor.org/packages/celldex
Branch: master
Last Commit: e3fabad
Last Changed Date: 2020-10-27 10:32:01 -0500 (Tue, 27 Oct 2020)
malbec2 Linux (Ubuntu 20.04.1 LTS) / x86_64  OK  OK  OK UNNEEDED, same version exists in internal repository
riesling1 Windows Server 2019 Standard / x64 [ OK ] OK  OK 

Summary

Package: celldex
Version: 1.1.0
Command: C:\cygwin\bin\curl.exe -O http://172.29.0.4/BBS/3.13/data-experiment/src/contrib/celldex_1.1.0.tar.gz && rm -rf celldex.buildbin-libdir && mkdir celldex.buildbin-libdir && D:\biocbuild\bbs-3.13-bioc\R\bin\R.exe CMD INSTALL --merge-multiarch --build --library=celldex.buildbin-libdir celldex_1.1.0.tar.gz && D:\biocbuild\bbs-3.13-bioc\R\bin\R.exe CMD INSTALL celldex_1.1.0.zip && rm celldex_1.1.0.tar.gz celldex_1.1.0.zip
StartedAt: 2021-01-14 10:10:27 -0500 (Thu, 14 Jan 2021)
EndedAt: 2021-01-14 10:10:52 -0500 (Thu, 14 Jan 2021)
EllapsedTime: 25.6 seconds
RetCode: 0
Status:  OK  

Command output

##############################################################################
##############################################################################
###
### Running command:
###
###   C:\cygwin\bin\curl.exe -O http://172.29.0.4/BBS/3.13/data-experiment/src/contrib/celldex_1.1.0.tar.gz && rm -rf celldex.buildbin-libdir && mkdir celldex.buildbin-libdir && D:\biocbuild\bbs-3.13-bioc\R\bin\R.exe CMD INSTALL --merge-multiarch --build --library=celldex.buildbin-libdir celldex_1.1.0.tar.gz && D:\biocbuild\bbs-3.13-bioc\R\bin\R.exe CMD INSTALL celldex_1.1.0.zip && rm celldex_1.1.0.tar.gz celldex_1.1.0.zip
###
##############################################################################
##############################################################################


  % Total    % Received % Xferd  Average Speed   Time    Time     Time  Current
                                 Dload  Upload   Total   Spent    Left  Speed

  0     0    0     0    0     0      0      0 --:--:-- --:--:-- --:--:--     0
100 29294  100 29294    0     0  2200k      0 --:--:-- --:--:-- --:--:-- 2383k

install for i386

* installing *source* package 'celldex' ...
** using staged installation
** R
** inst
** byte-compile and prepare package for lazy loading
** help
*** installing help indices
  converting help for package 'celldex'
    finding HTML links ... done
    BlueprintEncodeData                     html  
REDIRECT:topic	 BlueprintEncodeData -> BlueprintEncodeData.html [ SUCCESS ]
    finding level-2 HTML links ... done

    DatabaseImmuneCellExpressionData        html  
REDIRECT:topic	 DatabaseImmuneCellExpressionData -> DatabaseImmuneCellExpressionData.html [ SUCCESS ]
    HumanPrimaryCellAtlasData               html  
REDIRECT:topic	 HumanPrimaryCellAtlasData -> HumanPrimaryCellAtlasData.html [ SUCCESS ]
    ImmGenData                              html  
REDIRECT:topic	 ImmGenData -> ImmGenData.html [ SUCCESS ]
    MonacoImmuneData                        html  
REDIRECT:topic	 MonacoImmuneData -> MonacoImmuneData.html [ SUCCESS ]
    MouseRNAseqData                         html  
REDIRECT:topic	 MouseRNAseqData -> MouseRNAseqData.html [ SUCCESS ]
    NovershternHematopoieticData            html  
REDIRECT:topic	 NovershternHematopoieticData -> NovershternHematopoieticData.html [ SUCCESS ]
** building package indices
** installing vignettes
** testing if installed package can be loaded from temporary location
** testing if installed package can be loaded from final location
** testing if installed package keeps a record of temporary installation path

install for x64

* installing *source* package 'celldex' ...
** testing if installed package can be loaded
* MD5 sums
packaged installation of 'celldex' as celldex_1.1.0.zip
* DONE (celldex)
* installing to library 'D:/biocbuild/bbs-3.13-bioc/R/library'
package 'celldex' successfully unpacked and MD5 sums checked