Back to Multiple platform build/check report for BioC 3.13 experimental data
AB[C]DEFGHIJKLMNOPQRSTUVWXYZ

INSTALL report for ccTutorial on riesling1

This page was generated on 2021-01-14 15:59:07 -0500 (Thu, 14 Jan 2021).

TO THE DEVELOPERS/MAINTAINERS OF THE ccTutorial PACKAGE: Please make sure to use the following settings in order to reproduce any error or warning you see on this page.
Package 48/385HostnameOS / ArchINSTALLBUILDCHECK
ccTutorial 1.29.0
Joern Toedling
Snapshot Date: 2021-01-14 09:00:13 -0500 (Thu, 14 Jan 2021)
URL: https://git.bioconductor.org/packages/ccTutorial
Branch: master
Last Commit: edfce2d
Last Changed Date: 2020-10-27 09:49:38 -0500 (Tue, 27 Oct 2020)
malbec2 Linux (Ubuntu 20.04.1 LTS) / x86_64  OK  OK  OK UNNEEDED, same version exists in internal repository
riesling1 Windows Server 2019 Standard / x64 [ OK ] OK  OK 

Summary

Package: ccTutorial
Version: 1.29.0
Command: C:\cygwin\bin\curl.exe -O http://172.29.0.4/BBS/3.13/data-experiment/src/contrib/ccTutorial_1.29.0.tar.gz && rm -rf ccTutorial.buildbin-libdir && mkdir ccTutorial.buildbin-libdir && D:\biocbuild\bbs-3.13-bioc\R\bin\R.exe CMD INSTALL --merge-multiarch --build --library=ccTutorial.buildbin-libdir ccTutorial_1.29.0.tar.gz && D:\biocbuild\bbs-3.13-bioc\R\bin\R.exe CMD INSTALL ccTutorial_1.29.0.zip && rm ccTutorial_1.29.0.tar.gz ccTutorial_1.29.0.zip
StartedAt: 2021-01-14 10:13:50 -0500 (Thu, 14 Jan 2021)
EndedAt: 2021-01-14 10:19:04 -0500 (Thu, 14 Jan 2021)
EllapsedTime: 314.5 seconds
RetCode: 0
Status:  OK  

Command output

##############################################################################
##############################################################################
###
### Running command:
###
###   C:\cygwin\bin\curl.exe -O http://172.29.0.4/BBS/3.13/data-experiment/src/contrib/ccTutorial_1.29.0.tar.gz && rm -rf ccTutorial.buildbin-libdir && mkdir ccTutorial.buildbin-libdir && D:\biocbuild\bbs-3.13-bioc\R\bin\R.exe CMD INSTALL --merge-multiarch --build --library=ccTutorial.buildbin-libdir ccTutorial_1.29.0.tar.gz && D:\biocbuild\bbs-3.13-bioc\R\bin\R.exe CMD INSTALL ccTutorial_1.29.0.zip && rm ccTutorial_1.29.0.tar.gz ccTutorial_1.29.0.zip
###
##############################################################################
##############################################################################


  % Total    % Received % Xferd  Average Speed   Time    Time     Time  Current
                                 Dload  Upload   Total   Spent    Left  Speed

  0     0    0     0    0     0      0      0 --:--:-- --:--:-- --:--:--     0
 25  277M   25 70.0M    0     0   110M      0  0:00:02 --:--:--  0:00:02  110M
 65  277M   65  181M    0     0   111M      0  0:00:02  0:00:01  0:00:01  111M
 96  277M   96  269M    0     0   101M      0  0:00:02  0:00:02 --:--:--  101M
100  277M  100  277M    0     0   100M      0  0:00:02  0:00:02 --:--:--  100M

install for i386

* installing *source* package 'ccTutorial' ...
** using staged installation
** R
** data
** inst
** byte-compile and prepare package for lazy loading

groupGOTerms: 	GOBPTerm, GOMFTerm, GOCCTerm environments built.
** help
*** installing help indices
  converting help for package 'ccTutorial'
    finding HTML links ... done
    X                                       html  
REDIRECT:topic	 X -> X.html [ SUCCESS ]
    arrayGenesToProbeSets                   html  
REDIRECT:topic	 arrayGenesToProbeSets -> arrayGenesToProbeSets.html [ SUCCESS ]
    barreraExpressionX                      html  
REDIRECT:topic	 barreraExpressionX -> barreraExpressionX.html [ SUCCESS ]
    ccTutorial-package                      html  
REDIRECT:topic	 ccTutorial-package -> ccTutorial-package.html [ SUCCESS ]
REDIRECT:topic	 ccTutorial -> ccTutorial-package.html [ SUCCESS ]
    chersX                                  html  
REDIRECT:topic	 chersX -> chersX.html [ SUCCESS ]
    mm9g2p                                  html  
REDIRECT:topic	 mm9.g2p -> mm9g2p.html [ SUCCESS ]
REDIRECT:file	 mm9g2p.html -> mm9g2p.html [ SUCCESS ]
    mm9gene2GO                              html  
REDIRECT:topic	 mm9.gene2GO -> mm9gene2GO.html [ SUCCESS ]
REDIRECT:file	 mm9gene2GO.html -> mm9gene2GO.html [ SUCCESS ]
    mm9genes                                html  
REDIRECT:topic	 mm9genes -> mm9genes.html [ SUCCESS ]
    probeAnno                               html  
REDIRECT:topic	 probeAnno -> probeAnno.html [ SUCCESS ]
** building package indices
** installing vignettes
** testing if installed package can be loaded from temporary location

groupGOTerms: 	GOBPTerm, GOMFTerm, GOCCTerm environments built.
** testing if installed package can be loaded from final location

groupGOTerms: 	GOBPTerm, GOMFTerm, GOCCTerm environments built.
** testing if installed package keeps a record of temporary installation path

install for x64

* installing *source* package 'ccTutorial' ...
** testing if installed package can be loaded

groupGOTerms: 	GOBPTerm, GOMFTerm, GOCCTerm environments built.
* MD5 sums
packaged installation of 'ccTutorial' as ccTutorial_1.29.0.zip
* DONE (ccTutorial)
* installing to library 'D:/biocbuild/bbs-3.13-bioc/R/library'
package 'ccTutorial' successfully unpacked and MD5 sums checked