Back to Multiple platform build/check report for BioC 3.13 experimental data
AB[C]DEFGHIJKLMNOPQRSTUVWXYZ

INSTALL report for cancerdata on riesling1

This page was generated on 2021-01-21 16:01:25 -0500 (Thu, 21 Jan 2021).

TO THE DEVELOPERS/MAINTAINERS OF THE cancerdata PACKAGE: Please make sure to use the following settings in order to reproduce any error or warning you see on this page.
Package 44/386HostnameOS / ArchINSTALLBUILDCHECK
cancerdata 1.29.0
Daniel Kosztyla
Snapshot Date: 2021-01-21 09:00:14 -0500 (Thu, 21 Jan 2021)
URL: https://git.bioconductor.org/packages/cancerdata
Branch: master
Last Commit: 45b4aad
Last Changed Date: 2020-10-27 09:55:31 -0500 (Tue, 27 Oct 2020)
malbec2 Linux (Ubuntu 20.04.1 LTS) / x86_64  OK  OK  OK UNNEEDED, same version exists in internal repository
riesling1 Windows Server 2019 Standard / x64 [ OK ] OK  OK 

Summary

Package: cancerdata
Version: 1.29.0
Command: C:\cygwin\bin\curl.exe -O http://172.29.0.4/BBS/3.13/data-experiment/src/contrib/cancerdata_1.29.0.tar.gz && rm -rf cancerdata.buildbin-libdir && mkdir cancerdata.buildbin-libdir && D:\biocbuild\bbs-3.13-bioc\R\bin\R.exe CMD INSTALL --merge-multiarch --build --library=cancerdata.buildbin-libdir cancerdata_1.29.0.tar.gz && D:\biocbuild\bbs-3.13-bioc\R\bin\R.exe CMD INSTALL cancerdata_1.29.0.zip && rm cancerdata_1.29.0.tar.gz cancerdata_1.29.0.zip
StartedAt: 2021-01-21 10:02:50 -0500 (Thu, 21 Jan 2021)
EndedAt: 2021-01-21 10:03:08 -0500 (Thu, 21 Jan 2021)
EllapsedTime: 18.1 seconds
RetCode: 0
Status:  OK  

Command output

##############################################################################
##############################################################################
###
### Running command:
###
###   C:\cygwin\bin\curl.exe -O http://172.29.0.4/BBS/3.13/data-experiment/src/contrib/cancerdata_1.29.0.tar.gz && rm -rf cancerdata.buildbin-libdir && mkdir cancerdata.buildbin-libdir && D:\biocbuild\bbs-3.13-bioc\R\bin\R.exe CMD INSTALL --merge-multiarch --build --library=cancerdata.buildbin-libdir cancerdata_1.29.0.tar.gz && D:\biocbuild\bbs-3.13-bioc\R\bin\R.exe CMD INSTALL cancerdata_1.29.0.zip && rm cancerdata_1.29.0.tar.gz cancerdata_1.29.0.zip
###
##############################################################################
##############################################################################


  % Total    % Received % Xferd  Average Speed   Time    Time     Time  Current
                                 Dload  Upload   Total   Spent    Left  Speed

  0     0    0     0    0     0      0      0 --:--:-- --:--:-- --:--:--     0
100 26.6M  100 26.6M    0     0   100M      0 --:--:-- --:--:-- --:--:--  100M

install for i386

* installing *source* package 'cancerdata' ...
** using staged installation
** R
** data
** byte-compile and prepare package for lazy loading
** help
*** installing help indices
  converting help for package 'cancerdata'
    finding HTML links ... done
    VEER                                    html  
REDIRECT:topic	 VEER -> VEER.html [ SUCCESS ]
REDIRECT:topic	 VEER1 -> VEER.html [ SUCCESS ]
    VIJVER                                  html  
REDIRECT:topic	 VIJVER -> VIJVER.html [ SUCCESS ]
REDIRECT:topic	 VIJVER1 -> VIJVER.html [ SUCCESS ]
    YOUNG                                   html  
REDIRECT:topic	 YOUNG -> YOUNG.html [ SUCCESS ]
REDIRECT:topic	 YOUNG1 -> YOUNG.html [ SUCCESS ]
    cancerdata-package                      html  
REDIRECT:topic	 cancerdata -> cancerdata-package.html [ SUCCESS ]
REDIRECT:file	 cancerdata-package.html -> cancerdata-package.html [ SUCCESS ]
** building package indices
** testing if installed package can be loaded from temporary location
** testing if installed package can be loaded from final location
** testing if installed package keeps a record of temporary installation path

install for x64

* installing *source* package 'cancerdata' ...
** testing if installed package can be loaded
* MD5 sums
packaged installation of 'cancerdata' as cancerdata_1.29.0.zip
* DONE (cancerdata)
* installing to library 'D:/biocbuild/bbs-3.13-bioc/R/library'
package 'cancerdata' successfully unpacked and MD5 sums checked