Back to Multiple platform build/check report for BioC 3.13 experimental data
AB[C]DEFGHIJKLMNOPQRSTUVWXYZ

INSTALL report for cMap2data on riesling1

This page was generated on 2021-01-21 16:01:26 -0500 (Thu, 21 Jan 2021).

TO THE DEVELOPERS/MAINTAINERS OF THE cMap2data PACKAGE: Please make sure to use the following settings in order to reproduce any error or warning you see on this page.
Package 68/386HostnameOS / ArchINSTALLBUILDCHECK
cMap2data 1.27.0
J. Saez-Rodriguez
Snapshot Date: 2021-01-21 09:00:14 -0500 (Thu, 21 Jan 2021)
URL: https://git.bioconductor.org/packages/cMap2data
Branch: master
Last Commit: 0fb2788
Last Changed Date: 2020-10-27 10:01:03 -0500 (Tue, 27 Oct 2020)
malbec2 Linux (Ubuntu 20.04.1 LTS) / x86_64  OK  OK  OK UNNEEDED, same version exists in internal repository
riesling1 Windows Server 2019 Standard / x64 [ OK ] OK  OK 

Summary

Package: cMap2data
Version: 1.27.0
Command: C:\cygwin\bin\curl.exe -O http://172.29.0.4/BBS/3.13/data-experiment/src/contrib/cMap2data_1.27.0.tar.gz && rm -rf cMap2data.buildbin-libdir && mkdir cMap2data.buildbin-libdir && D:\biocbuild\bbs-3.13-bioc\R\bin\R.exe CMD INSTALL --merge-multiarch --build --library=cMap2data.buildbin-libdir cMap2data_1.27.0.tar.gz && D:\biocbuild\bbs-3.13-bioc\R\bin\R.exe CMD INSTALL cMap2data_1.27.0.zip && rm cMap2data_1.27.0.tar.gz cMap2data_1.27.0.zip
StartedAt: 2021-01-21 09:53:13 -0500 (Thu, 21 Jan 2021)
EndedAt: 2021-01-21 09:58:19 -0500 (Thu, 21 Jan 2021)
EllapsedTime: 306.3 seconds
RetCode: 0
Status:  OK  

Command output

##############################################################################
##############################################################################
###
### Running command:
###
###   C:\cygwin\bin\curl.exe -O http://172.29.0.4/BBS/3.13/data-experiment/src/contrib/cMap2data_1.27.0.tar.gz && rm -rf cMap2data.buildbin-libdir && mkdir cMap2data.buildbin-libdir && D:\biocbuild\bbs-3.13-bioc\R\bin\R.exe CMD INSTALL --merge-multiarch --build --library=cMap2data.buildbin-libdir cMap2data_1.27.0.tar.gz && D:\biocbuild\bbs-3.13-bioc\R\bin\R.exe CMD INSTALL cMap2data_1.27.0.zip && rm cMap2data_1.27.0.tar.gz cMap2data_1.27.0.zip
###
##############################################################################
##############################################################################


  % Total    % Received % Xferd  Average Speed   Time    Time     Time  Current
                                 Dload  Upload   Total   Spent    Left  Speed

  0     0    0     0    0     0      0      0 --:--:-- --:--:-- --:--:--     0
  1 27.7M    1  448k    0     0   604k      0  0:00:47 --:--:--  0:00:47  604k
100 27.7M  100 27.7M    0     0  22.4M      0  0:00:01  0:00:01 --:--:-- 22.4M

install for i386

* installing *source* package 'cMap2data' ...
** using staged installation
** data
*** moving datasets to lazyload DB
** help
*** installing help indices
  converting help for package 'cMap2data'
    finding HTML links ... done
    cMap2data-package                       html  
REDIRECT:topic	 cMap2data-package -> cMap2data-package.html [ SUCCESS ]
REDIRECT:topic	 cMap2data -> cMap2data-package.html [ SUCCESS ]
    cytodrug                                html  
REDIRECT:topic	 cytodrug -> cytodrug.html [ SUCCESS ]
    drugClusters                            html  
REDIRECT:topic	 drugClusters -> drugClusters.html [ SUCCESS ]
    drugRL                                  html  
REDIRECT:topic	 drugRL -> drugRL.html [ SUCCESS ]
    druglabels                              html  
REDIRECT:topic	 druglabels -> druglabels.html [ SUCCESS ]
    genelist                                html  
REDIRECT:topic	 genelist -> genelist.html [ SUCCESS ]
** building package indices
** installing vignettes
** testing if installed package can be loaded from temporary location
** testing if installed package can be loaded from final location
** testing if installed package keeps a record of temporary installation path

install for x64

* installing *source* package 'cMap2data' ...
** testing if installed package can be loaded
* MD5 sums
packaged installation of 'cMap2data' as cMap2data_1.27.0.zip
* DONE (cMap2data)
* installing to library 'D:/biocbuild/bbs-3.13-bioc/R/library'
package 'cMap2data' successfully unpacked and MD5 sums checked