Back to Multiple platform build/check report for BioC 3.13 experimental data
AB[C]DEFGHIJKLMNOPQRSTUVWXYZ

BUILD report for cMap2data on riesling1

This page was generated on 2021-01-21 16:01:26 -0500 (Thu, 21 Jan 2021).

TO THE DEVELOPERS/MAINTAINERS OF THE cMap2data PACKAGE: Please make sure to use the following settings in order to reproduce any error or warning you see on this page.
Package 68/386HostnameOS / ArchINSTALLBUILDCHECK
cMap2data 1.27.0
J. Saez-Rodriguez
Snapshot Date: 2021-01-21 09:00:14 -0500 (Thu, 21 Jan 2021)
URL: https://git.bioconductor.org/packages/cMap2data
Branch: master
Last Commit: 0fb2788
Last Changed Date: 2020-10-27 10:01:03 -0500 (Tue, 27 Oct 2020)
malbec2 Linux (Ubuntu 20.04.1 LTS) / x86_64  OK  OK  OK UNNEEDED, same version exists in internal repository
riesling1 Windows Server 2019 Standard / x64  OK [ OK ] OK 

Summary

Package: cMap2data
Version: 1.27.0
Command: chmod a+r cMap2data -R && D:\biocbuild\bbs-3.13-bioc\R\bin\R.exe CMD build --keep-empty-dirs --no-resave-data cMap2data
StartedAt: 2021-01-21 10:33:08 -0500 (Thu, 21 Jan 2021)
EndedAt: 2021-01-21 10:33:34 -0500 (Thu, 21 Jan 2021)
EllapsedTime: 25.4 seconds
RetCode: 0
Status:  OK  
PackageFile: cMap2data_1.27.0.tar.gz
PackageFileSize: 27.88 MiB

Command output

##############################################################################
##############################################################################
###
### Running command:
###
###   chmod a+r cMap2data -R && D:\biocbuild\bbs-3.13-bioc\R\bin\R.exe CMD build --keep-empty-dirs --no-resave-data cMap2data
###
##############################################################################
##############################################################################


* checking for file 'cMap2data/DESCRIPTION' ... OK
* preparing 'cMap2data':
* checking DESCRIPTION meta-information ... OK
* installing the package to build vignettes
* creating vignettes ... OK
* checking for LF line-endings in source and make files and shell scripts
* checking for empty or unneeded directories
* building 'cMap2data_1.27.0.tar.gz'