Back to Multiple platform build/check report for BioC 3.13 experimental data
A[B]CDEFGHIJKLMNOPQRSTUVWXYZ

INSTALL report for bsseqData on riesling1

This page was generated on 2021-01-14 15:59:06 -0500 (Thu, 14 Jan 2021).

TO THE DEVELOPERS/MAINTAINERS OF THE bsseqData PACKAGE: Please make sure to use the following settings in order to reproduce any error or warning you see on this page.
Package 43/385HostnameOS / ArchINSTALLBUILDCHECK
bsseqData 0.29.0
Kasper Daniel Hansen
Snapshot Date: 2021-01-14 09:00:13 -0500 (Thu, 14 Jan 2021)
URL: https://git.bioconductor.org/packages/bsseqData
Branch: master
Last Commit: 05f855c
Last Changed Date: 2020-10-27 09:56:15 -0500 (Tue, 27 Oct 2020)
malbec2 Linux (Ubuntu 20.04.1 LTS) / x86_64  OK  OK  OK UNNEEDED, same version exists in internal repository
riesling1 Windows Server 2019 Standard / x64 [ OK ] OK  OK 

Summary

Package: bsseqData
Version: 0.29.0
Command: C:\cygwin\bin\curl.exe -O http://172.29.0.4/BBS/3.13/data-experiment/src/contrib/bsseqData_0.29.0.tar.gz && rm -rf bsseqData.buildbin-libdir && mkdir bsseqData.buildbin-libdir && D:\biocbuild\bbs-3.13-bioc\R\bin\R.exe CMD INSTALL --merge-multiarch --build --library=bsseqData.buildbin-libdir bsseqData_0.29.0.tar.gz && D:\biocbuild\bbs-3.13-bioc\R\bin\R.exe CMD INSTALL bsseqData_0.29.0.zip && rm bsseqData_0.29.0.tar.gz bsseqData_0.29.0.zip
StartedAt: 2021-01-14 10:14:06 -0500 (Thu, 14 Jan 2021)
EndedAt: 2021-01-14 10:15:23 -0500 (Thu, 14 Jan 2021)
EllapsedTime: 76.8 seconds
RetCode: 0
Status:  OK  

Command output

##############################################################################
##############################################################################
###
### Running command:
###
###   C:\cygwin\bin\curl.exe -O http://172.29.0.4/BBS/3.13/data-experiment/src/contrib/bsseqData_0.29.0.tar.gz && rm -rf bsseqData.buildbin-libdir && mkdir bsseqData.buildbin-libdir && D:\biocbuild\bbs-3.13-bioc\R\bin\R.exe CMD INSTALL --merge-multiarch --build --library=bsseqData.buildbin-libdir bsseqData_0.29.0.tar.gz && D:\biocbuild\bbs-3.13-bioc\R\bin\R.exe CMD INSTALL bsseqData_0.29.0.zip && rm bsseqData_0.29.0.tar.gz bsseqData_0.29.0.zip
###
##############################################################################
##############################################################################


  % Total    % Received % Xferd  Average Speed   Time    Time     Time  Current
                                 Dload  Upload   Total   Spent    Left  Speed

  0     0    0     0    0     0      0      0 --:--:-- --:--:-- --:--:--     0
 36  128M   36 47.2M    0     0   101M      0  0:00:01 --:--:--  0:00:01  101M
 87  128M   87  112M    0     0  76.5M      0  0:00:01  0:00:01 --:--:-- 76.4M
100  128M  100  128M    0     0  79.8M      0  0:00:01  0:00:01 --:--:-- 79.8M

install for i386

* installing *source* package 'bsseqData' ...
** using staged installation
** data
*** moving datasets to lazyload DB
** inst
** help
*** installing help indices
  converting help for package 'bsseqData'
    finding HTML links ... done
    BS.cancer.ex                            html  
REDIRECT:topic	 BS.cancer.ex -> BS.cancer.ex.html [ SUCCESS ]
    BS.cancer.ex.fit                        html  
REDIRECT:topic	 BS.cancer.ex.fit -> BS.cancer.ex.fit.html [ SUCCESS ]
    BS.cancer.ex.tstat                      html  
REDIRECT:topic	 BS.cancer.ex.tstat -> BS.cancer.ex.tstat.html [ SUCCESS ]
    keepLoci.ex                             html  
REDIRECT:topic	 keepLoci.ex -> keepLoci.ex.html [ SUCCESS ]
** building package indices
** testing if installed package can be loaded from temporary location
** testing if installed package can be loaded from final location
** testing if installed package keeps a record of temporary installation path

install for x64

* installing *source* package 'bsseqData' ...
** testing if installed package can be loaded
* MD5 sums
packaged installation of 'bsseqData' as bsseqData_0.29.0.zip
* DONE (bsseqData)
* installing to library 'D:/biocbuild/bbs-3.13-bioc/R/library'
package 'bsseqData' successfully unpacked and MD5 sums checked