Back to Multiple platform build/check report for BioC 3.13 experimental data |
|
This page was generated on 2021-01-14 15:59:06 -0500 (Thu, 14 Jan 2021).
TO THE DEVELOPERS/MAINTAINERS OF THE bronchialIL13 PACKAGE: Please make sure to use the following settings in order to reproduce any error or warning you see on this page. |
Package 42/385 | Hostname | OS / Arch | INSTALL | BUILD | CHECK | ||||||
bronchialIL13 1.29.0 Vince Carey
| malbec2 | Linux (Ubuntu 20.04.1 LTS) / x86_64 | OK | OK | OK | ![]() | |||||
riesling1 | Windows Server 2019 Standard / x64 | [ OK ] | OK | OK |
Package: bronchialIL13 |
Version: 1.29.0 |
Command: C:\cygwin\bin\curl.exe -O http://172.29.0.4/BBS/3.13/data-experiment/src/contrib/bronchialIL13_1.29.0.tar.gz && rm -rf bronchialIL13.buildbin-libdir && mkdir bronchialIL13.buildbin-libdir && D:\biocbuild\bbs-3.13-bioc\R\bin\R.exe CMD INSTALL --merge-multiarch --build --library=bronchialIL13.buildbin-libdir bronchialIL13_1.29.0.tar.gz && D:\biocbuild\bbs-3.13-bioc\R\bin\R.exe CMD INSTALL bronchialIL13_1.29.0.zip && rm bronchialIL13_1.29.0.tar.gz bronchialIL13_1.29.0.zip |
StartedAt: 2021-01-14 10:03:39 -0500 (Thu, 14 Jan 2021) |
EndedAt: 2021-01-14 10:04:04 -0500 (Thu, 14 Jan 2021) |
EllapsedTime: 24.7 seconds |
RetCode: 0 |
Status: OK |
############################################################################## ############################################################################## ### ### Running command: ### ### C:\cygwin\bin\curl.exe -O http://172.29.0.4/BBS/3.13/data-experiment/src/contrib/bronchialIL13_1.29.0.tar.gz && rm -rf bronchialIL13.buildbin-libdir && mkdir bronchialIL13.buildbin-libdir && D:\biocbuild\bbs-3.13-bioc\R\bin\R.exe CMD INSTALL --merge-multiarch --build --library=bronchialIL13.buildbin-libdir bronchialIL13_1.29.0.tar.gz && D:\biocbuild\bbs-3.13-bioc\R\bin\R.exe CMD INSTALL bronchialIL13_1.29.0.zip && rm bronchialIL13_1.29.0.tar.gz bronchialIL13_1.29.0.zip ### ############################################################################## ############################################################################## % Total % Received % Xferd Average Speed Time Time Time Current Dload Upload Total Spent Left Speed 0 0 0 0 0 0 0 0 --:--:-- --:--:-- --:--:-- 0 100 69.1M 100 69.1M 0 0 109M 0 --:--:-- --:--:-- --:--:-- 109M install for i386 * installing *source* package 'bronchialIL13' ... ** using staged installation ** data ** inst ** help *** installing help indices converting help for package 'bronchialIL13' finding HTML links ... done il13tc html REDIRECT:topic HAHrma -> il13tc.html [ SUCCESS ] REDIRECT:topic HAH -> il13tc.html [ SUCCESS ] REDIRECT:file il13tc.html -> il13tc.html [ SUCCESS ] ** building package indices ** testing if installed package can be loaded from temporary location ** testing if installed package can be loaded from final location ** testing if installed package keeps a record of temporary installation path install for x64 * installing *source* package 'bronchialIL13' ... ** testing if installed package can be loaded * MD5 sums packaged installation of 'bronchialIL13' as bronchialIL13_1.29.0.zip * DONE (bronchialIL13) * installing to library 'D:/biocbuild/bbs-3.13-bioc/R/library' package 'bronchialIL13' successfully unpacked and MD5 sums checked