Back to Multiple platform build/check report for BioC 3.13 experimental data |
|
This page was generated on 2021-01-21 16:01:25 -0500 (Thu, 21 Jan 2021).
TO THE DEVELOPERS/MAINTAINERS OF THE bronchialIL13 PACKAGE: Please make sure to use the following settings in order to reproduce any error or warning you see on this page. |
Package 42/386 | Hostname | OS / Arch | INSTALL | BUILD | CHECK | ||||||
bronchialIL13 1.29.0 Vince Carey
| malbec2 | Linux (Ubuntu 20.04.1 LTS) / x86_64 | OK | OK | OK | ![]() | |||||
riesling1 | Windows Server 2019 Standard / x64 | OK | OK | [ OK ] |
Package: bronchialIL13 |
Version: 1.29.0 |
Command: D:\biocbuild\bbs-3.13-bioc\R\bin\R.exe CMD check --force-multiarch --install=check:bronchialIL13.install-out.txt --library=D:\biocbuild\bbs-3.13-bioc\R\library --no-vignettes --timings bronchialIL13_1.29.0.tar.gz |
StartedAt: 2021-01-21 11:13:21 -0500 (Thu, 21 Jan 2021) |
EndedAt: 2021-01-21 11:13:46 -0500 (Thu, 21 Jan 2021) |
EllapsedTime: 25.4 seconds |
RetCode: 0 |
Status: OK |
CheckDir: bronchialIL13.Rcheck |
Warnings: 0 |
############################################################################## ############################################################################## ### ### Running command: ### ### D:\biocbuild\bbs-3.13-bioc\R\bin\R.exe CMD check --force-multiarch --install=check:bronchialIL13.install-out.txt --library=D:\biocbuild\bbs-3.13-bioc\R\library --no-vignettes --timings bronchialIL13_1.29.0.tar.gz ### ############################################################################## ############################################################################## * using log directory 'D:/biocbuild/bbs-3.13-data-experiment/meat/bronchialIL13.Rcheck' * using R Under development (unstable) (2020-12-30 r79736) * using platform: x86_64-w64-mingw32 (64-bit) * using session charset: ISO8859-1 * using option '--no-vignettes' * checking for file 'bronchialIL13/DESCRIPTION' ... OK * this is package 'bronchialIL13' version '1.29.0' * checking package namespace information ... OK * checking package dependencies ... OK * checking if this is a source package ... OK * checking if there is a namespace ... OK * checking for hidden files and directories ... OK * checking for portable file names ... OK * checking whether package 'bronchialIL13' can be installed ... OK * checking installed package size ... NOTE installed size is 69.2Mb sub-directories of 1Mb or more: cel 53.5Mb data 15.7Mb * checking package directory ... OK * checking DESCRIPTION meta-information ... NOTE Malformed Description field: should contain one or more complete sentences. * checking top-level files ... OK * checking for left-over files ... OK * checking index information ... OK * checking package subdirectories ... OK * loading checks for arch 'i386' ** checking whether the package can be loaded ... OK ** checking whether the package can be loaded with stated dependencies ... OK ** checking whether the package can be unloaded cleanly ... OK ** checking whether the namespace can be loaded with stated dependencies ... OK ** checking whether the namespace can be unloaded cleanly ... OK * loading checks for arch 'x64' ** checking whether the package can be loaded ... OK ** checking whether the package can be loaded with stated dependencies ... OK ** checking whether the package can be unloaded cleanly ... OK ** checking whether the namespace can be loaded with stated dependencies ... OK ** checking whether the namespace can be unloaded cleanly ... OK * checking Rd files ... OK * checking Rd metadata ... OK * checking Rd cross-references ... OK * checking for missing documentation entries ... OK * checking for code/documentation mismatches ... OK * checking Rd \usage sections ... OK * checking Rd contents ... OK * checking for unstated dependencies in examples ... OK * checking contents of 'data' directory ... OK * checking data for non-ASCII characters ... OK * checking data for ASCII and uncompressed saves ... OK * checking examples ... ** running examples for arch 'i386' ... OK ** running examples for arch 'x64' ... OK * checking PDF version of manual ... OK * DONE Status: 2 NOTEs See 'D:/biocbuild/bbs-3.13-data-experiment/meat/bronchialIL13.Rcheck/00check.log' for details.
bronchialIL13.Rcheck/00install.out
############################################################################## ############################################################################## ### ### Running command: ### ### C:\cygwin\bin\curl.exe -O http://172.29.0.4/BBS/3.13/data-experiment/src/contrib/bronchialIL13_1.29.0.tar.gz && rm -rf bronchialIL13.buildbin-libdir && mkdir bronchialIL13.buildbin-libdir && D:\biocbuild\bbs-3.13-bioc\R\bin\R.exe CMD INSTALL --merge-multiarch --build --library=bronchialIL13.buildbin-libdir bronchialIL13_1.29.0.tar.gz && D:\biocbuild\bbs-3.13-bioc\R\bin\R.exe CMD INSTALL bronchialIL13_1.29.0.zip && rm bronchialIL13_1.29.0.tar.gz bronchialIL13_1.29.0.zip ### ############################################################################## ############################################################################## % Total % Received % Xferd Average Speed Time Time Time Current Dload Upload Total Spent Left Speed 0 0 0 0 0 0 0 0 --:--:-- --:--:-- --:--:-- 0 4 69.1M 4 2898k 0 0 13.6M 0 0:00:05 --:--:-- 0:00:05 13.6M 100 69.1M 100 69.1M 0 0 71.2M 0 --:--:-- --:--:-- --:--:-- 71.1M install for i386 * installing *source* package 'bronchialIL13' ... ** using staged installation ** data ** inst ** help *** installing help indices converting help for package 'bronchialIL13' finding HTML links ... done il13tc html REDIRECT:topic HAHrma -> il13tc.html [ SUCCESS ] REDIRECT:topic HAH -> il13tc.html [ SUCCESS ] REDIRECT:file il13tc.html -> il13tc.html [ SUCCESS ] ** building package indices ** testing if installed package can be loaded from temporary location ** testing if installed package can be loaded from final location ** testing if installed package keeps a record of temporary installation path install for x64 * installing *source* package 'bronchialIL13' ... ** testing if installed package can be loaded * MD5 sums packaged installation of 'bronchialIL13' as bronchialIL13_1.29.0.zip * DONE (bronchialIL13) * installing to library 'D:/biocbuild/bbs-3.13-bioc/R/library' package 'bronchialIL13' successfully unpacked and MD5 sums checked
bronchialIL13.Rcheck/examples_i386/bronchialIL13-Ex.timings
|
bronchialIL13.Rcheck/examples_x64/bronchialIL13-Ex.timings
|