Back to Multiple platform build/check report for BioC 3.13 experimental data
A[B]CDEFGHIJKLMNOPQRSTUVWXYZ

BUILD report for bronchialIL13 on riesling1

This page was generated on 2021-01-21 16:01:25 -0500 (Thu, 21 Jan 2021).

TO THE DEVELOPERS/MAINTAINERS OF THE bronchialIL13 PACKAGE: Please make sure to use the following settings in order to reproduce any error or warning you see on this page.
Package 42/386HostnameOS / ArchINSTALLBUILDCHECK
bronchialIL13 1.29.0
Vince Carey
Snapshot Date: 2021-01-21 09:00:14 -0500 (Thu, 21 Jan 2021)
URL: https://git.bioconductor.org/packages/bronchialIL13
Branch: master
Last Commit: 2d5adca
Last Changed Date: 2020-10-27 09:44:55 -0500 (Tue, 27 Oct 2020)
malbec2 Linux (Ubuntu 20.04.1 LTS) / x86_64  OK  OK  OK UNNEEDED, same version exists in internal repository
riesling1 Windows Server 2019 Standard / x64  OK [ OK ] OK 

Summary

Package: bronchialIL13
Version: 1.29.0
Command: chmod a+r bronchialIL13 -R && D:\biocbuild\bbs-3.13-bioc\R\bin\R.exe CMD build --keep-empty-dirs --no-resave-data bronchialIL13
StartedAt: 2021-01-21 10:29:26 -0500 (Thu, 21 Jan 2021)
EndedAt: 2021-01-21 10:29:48 -0500 (Thu, 21 Jan 2021)
EllapsedTime: 22.1 seconds
RetCode: 0
Status:  OK  
PackageFile: bronchialIL13_1.29.0.tar.gz
PackageFileSize: 69.13 MiB

Command output

##############################################################################
##############################################################################
###
### Running command:
###
###   chmod a+r bronchialIL13 -R && D:\biocbuild\bbs-3.13-bioc\R\bin\R.exe CMD build --keep-empty-dirs --no-resave-data bronchialIL13
###
##############################################################################
##############################################################################


* checking for file 'bronchialIL13/DESCRIPTION' ... OK
* preparing 'bronchialIL13':
* checking DESCRIPTION meta-information ... OK
* checking for LF line-endings in source and make files and shell scripts
* checking for empty or unneeded directories
* looking to see if a 'data/datalist' file should be added
* building 'bronchialIL13_1.29.0.tar.gz'