Back to Multiple platform build/check report for BioC 3.13 experimental data
A[B]CDEFGHIJKLMNOPQRSTUVWXYZ

INSTALL report for brgedata on riesling1

This page was generated on 2021-01-21 16:01:25 -0500 (Thu, 21 Jan 2021).

TO THE DEVELOPERS/MAINTAINERS OF THE brgedata PACKAGE: Please make sure to use the following settings in order to reproduce any error or warning you see on this page.
Package 41/386HostnameOS / ArchINSTALLBUILDCHECK
brgedata 1.13.0
Carlos Ruiz-Arenas
Snapshot Date: 2021-01-21 09:00:14 -0500 (Thu, 21 Jan 2021)
URL: https://git.bioconductor.org/packages/brgedata
Branch: master
Last Commit: c9c7e98
Last Changed Date: 2020-10-27 10:23:31 -0500 (Tue, 27 Oct 2020)
malbec2 Linux (Ubuntu 20.04.1 LTS) / x86_64  OK  OK  WARNINGS UNNEEDED, same version exists in internal repository
riesling1 Windows Server 2019 Standard / x64 [ OK ] OK  WARNINGS 

Summary

Package: brgedata
Version: 1.13.0
Command: C:\cygwin\bin\curl.exe -O http://172.29.0.4/BBS/3.13/data-experiment/src/contrib/brgedata_1.13.0.tar.gz && rm -rf brgedata.buildbin-libdir && mkdir brgedata.buildbin-libdir && D:\biocbuild\bbs-3.13-bioc\R\bin\R.exe CMD INSTALL --merge-multiarch --build --library=brgedata.buildbin-libdir brgedata_1.13.0.tar.gz && D:\biocbuild\bbs-3.13-bioc\R\bin\R.exe CMD INSTALL brgedata_1.13.0.zip && rm brgedata_1.13.0.tar.gz brgedata_1.13.0.zip
StartedAt: 2021-01-21 10:08:19 -0500 (Thu, 21 Jan 2021)
EndedAt: 2021-01-21 10:13:06 -0500 (Thu, 21 Jan 2021)
EllapsedTime: 286.9 seconds
RetCode: 0
Status:  OK  

Command output

##############################################################################
##############################################################################
###
### Running command:
###
###   C:\cygwin\bin\curl.exe -O http://172.29.0.4/BBS/3.13/data-experiment/src/contrib/brgedata_1.13.0.tar.gz && rm -rf brgedata.buildbin-libdir && mkdir brgedata.buildbin-libdir && D:\biocbuild\bbs-3.13-bioc\R\bin\R.exe CMD INSTALL --merge-multiarch --build --library=brgedata.buildbin-libdir brgedata_1.13.0.tar.gz && D:\biocbuild\bbs-3.13-bioc\R\bin\R.exe CMD INSTALL brgedata_1.13.0.zip && rm brgedata_1.13.0.tar.gz brgedata_1.13.0.zip
###
##############################################################################
##############################################################################


  % Total    % Received % Xferd  Average Speed   Time    Time     Time  Current
                                 Dload  Upload   Total   Spent    Left  Speed

  0     0    0     0    0     0      0      0 --:--:-- --:--:-- --:--:--     0
 10  284M   10 29.1M    0     0   102M      0  0:00:02 --:--:--  0:00:02  102M
 44  284M   44  127M    0     0  93.6M      0  0:00:03  0:00:01  0:00:02 93.5M
 67  284M   67  192M    0     0  84.4M      0  0:00:03  0:00:02  0:00:01 84.3M
100  284M  100  284M    0     0  88.0M      0  0:00:03  0:00:03 --:--:-- 88.1M

install for i386

* installing *source* package 'brgedata' ...
** using staged installation
** R
** data
*** moving datasets to lazyload DB
** inst
** byte-compile and prepare package for lazy loading
** help
*** installing help indices
  converting help for package 'brgedata'
    finding HTML links ... done
    BRGEdata                                html  
REDIRECT:topic	 brgedata -> BRGEdata.html [ SUCCESS ]
REDIRECT:topic	 brgedata-package -> BRGEdata.html [ SUCCESS ]
    brge_expo                               html  
REDIRECT:topic	 brge_expo -> brge_expo.html [ SUCCESS ]
    brge_gexp                               html  
REDIRECT:topic	 brge_gexp -> brge_gexp.html [ SUCCESS ]
    brge_methy                              html  
REDIRECT:topic	 brge_methy -> brge_methy.html [ SUCCESS ]
    brge_prot                               html  
REDIRECT:topic	 brge_prot -> brge_prot.html [ SUCCESS ]
** building package indices
** installing vignettes
** testing if installed package can be loaded from temporary location
** testing if installed package can be loaded from final location
** testing if installed package keeps a record of temporary installation path

install for x64

* installing *source* package 'brgedata' ...
** testing if installed package can be loaded
* MD5 sums
packaged installation of 'brgedata' as brgedata_1.13.0.zip
* DONE (brgedata)
* installing to library 'D:/biocbuild/bbs-3.13-bioc/R/library'
package 'brgedata' successfully unpacked and MD5 sums checked