Back to Multiple platform build/check report for BioC 3.13 experimental data
A[B]CDEFGHIJKLMNOPQRSTUVWXYZ

INSTALL report for breastCancerUPP on riesling1

This page was generated on 2021-01-14 15:59:06 -0500 (Thu, 14 Jan 2021).

TO THE DEVELOPERS/MAINTAINERS OF THE breastCancerUPP PACKAGE: Please make sure to use the following settings in order to reproduce any error or warning you see on this page.
Package 39/385HostnameOS / ArchINSTALLBUILDCHECK
breastCancerUPP 1.29.0
Markus Schroeder , Benjamin Haibe-Kains
Snapshot Date: 2021-01-14 09:00:13 -0500 (Thu, 14 Jan 2021)
URL: https://git.bioconductor.org/packages/breastCancerUPP
Branch: master
Last Commit: fb59a90
Last Changed Date: 2020-10-27 09:52:54 -0500 (Tue, 27 Oct 2020)
malbec2 Linux (Ubuntu 20.04.1 LTS) / x86_64  OK  OK  WARNINGS UNNEEDED, same version exists in internal repository
riesling1 Windows Server 2019 Standard / x64 [ OK ] OK  WARNINGS 

Summary

Package: breastCancerUPP
Version: 1.29.0
Command: C:\cygwin\bin\curl.exe -O http://172.29.0.4/BBS/3.13/data-experiment/src/contrib/breastCancerUPP_1.29.0.tar.gz && rm -rf breastCancerUPP.buildbin-libdir && mkdir breastCancerUPP.buildbin-libdir && D:\biocbuild\bbs-3.13-bioc\R\bin\R.exe CMD INSTALL --merge-multiarch --build --library=breastCancerUPP.buildbin-libdir breastCancerUPP_1.29.0.tar.gz && D:\biocbuild\bbs-3.13-bioc\R\bin\R.exe CMD INSTALL breastCancerUPP_1.29.0.zip && rm breastCancerUPP_1.29.0.tar.gz breastCancerUPP_1.29.0.zip
StartedAt: 2021-01-14 10:00:24 -0500 (Thu, 14 Jan 2021)
EndedAt: 2021-01-14 10:01:01 -0500 (Thu, 14 Jan 2021)
EllapsedTime: 37.6 seconds
RetCode: 0
Status:  OK  

Command output

##############################################################################
##############################################################################
###
### Running command:
###
###   C:\cygwin\bin\curl.exe -O http://172.29.0.4/BBS/3.13/data-experiment/src/contrib/breastCancerUPP_1.29.0.tar.gz && rm -rf breastCancerUPP.buildbin-libdir && mkdir breastCancerUPP.buildbin-libdir && D:\biocbuild\bbs-3.13-bioc\R\bin\R.exe CMD INSTALL --merge-multiarch --build --library=breastCancerUPP.buildbin-libdir breastCancerUPP_1.29.0.tar.gz && D:\biocbuild\bbs-3.13-bioc\R\bin\R.exe CMD INSTALL breastCancerUPP_1.29.0.zip && rm breastCancerUPP_1.29.0.tar.gz breastCancerUPP_1.29.0.zip
###
##############################################################################
##############################################################################


  % Total    % Received % Xferd  Average Speed   Time    Time     Time  Current
                                 Dload  Upload   Total   Spent    Left  Speed

  0     0    0     0    0     0      0      0 --:--:-- --:--:-- --:--:--     0
  0 29.5M    0 91733    0     0   231k      0  0:02:10 --:--:--  0:02:10  231k
 12 29.5M   12 3706k    0     0  2711k      0  0:00:11  0:00:01  0:00:10 2709k
 24 29.5M   24 7543k    0     0  3110k      0  0:00:09  0:00:02  0:00:07 3109k
100 29.5M  100 29.5M    0     0  9559k      0  0:00:03  0:00:03 --:--:-- 9559k

install for i386

* installing *source* package 'breastCancerUPP' ...
** using staged installation
** data
** help
*** installing help indices
  converting help for package 'breastCancerUPP'
    finding HTML links ... done
    upp                                     html  
REDIRECT:topic	 upp -> upp.html [ SUCCESS ]
** building package indices
** testing if installed package can be loaded from temporary location
** testing if installed package can be loaded from final location
** testing if installed package keeps a record of temporary installation path

install for x64

* installing *source* package 'breastCancerUPP' ...
** testing if installed package can be loaded
* MD5 sums
packaged installation of 'breastCancerUPP' as breastCancerUPP_1.29.0.zip
* DONE (breastCancerUPP)
* installing to library 'D:/biocbuild/bbs-3.13-bioc/R/library'
package 'breastCancerUPP' successfully unpacked and MD5 sums checked