Back to Multiple platform build/check report for BioC 3.13 experimental data
A[B]CDEFGHIJKLMNOPQRSTUVWXYZ

BUILD report for breastCancerUPP on riesling1

This page was generated on 2021-01-11 15:59:28 -0500 (Mon, 11 Jan 2021).

TO THE DEVELOPERS/MAINTAINERS OF THE breastCancerUPP PACKAGE: Please make sure to use the following settings in order to reproduce any error or warning you see on this page.
Package 39/385HostnameOS / ArchINSTALLBUILDCHECK
breastCancerUPP 1.29.0
Markus Schroeder , Benjamin Haibe-Kains
Snapshot Date: 2021-01-11 09:00:09 -0500 (Mon, 11 Jan 2021)
URL: https://git.bioconductor.org/packages/breastCancerUPP
Branch: master
Last Commit: fb59a90
Last Changed Date: 2020-10-27 09:52:54 -0500 (Tue, 27 Oct 2020)
malbec2 Linux (Ubuntu 20.04.1 LTS) / x86_64  OK  OK  WARNINGS UNNEEDED, same version exists in internal repository
riesling1 Windows Server 2019 Standard / x64  OK [ OK ] WARNINGS 

Summary

Package: breastCancerUPP
Version: 1.29.0
Command: chmod a+r breastCancerUPP -R && D:\biocbuild\bbs-3.13-bioc\R\bin\R.exe CMD build --keep-empty-dirs --no-resave-data breastCancerUPP
StartedAt: 2021-01-11 10:31:01 -0500 (Mon, 11 Jan 2021)
EndedAt: 2021-01-11 10:31:11 -0500 (Mon, 11 Jan 2021)
EllapsedTime: 10.1 seconds
RetCode: 0
Status:  OK  
PackageFile: breastCancerUPP_1.29.0.tar.gz
PackageFileSize: 29.59 MiB

Command output

##############################################################################
##############################################################################
###
### Running command:
###
###   chmod a+r breastCancerUPP -R && D:\biocbuild\bbs-3.13-bioc\R\bin\R.exe CMD build --keep-empty-dirs --no-resave-data breastCancerUPP
###
##############################################################################
##############################################################################


* checking for file 'breastCancerUPP/DESCRIPTION' ... OK
* preparing 'breastCancerUPP':
* checking DESCRIPTION meta-information ... OK
* checking whether 'INDEX' is up-to-date ... NO
* use '--force' to remove the existing 'INDEX'
* checking for LF line-endings in source and make files and shell scripts
* checking for empty or unneeded directories
* looking to see if a 'data/datalist' file should be added
* building 'breastCancerUPP_1.29.0.tar.gz'