Back to Multiple platform build/check report for BioC 3.13 experimental data
A[B]CDEFGHIJKLMNOPQRSTUVWXYZ

INSTALL report for breastCancerUNT on riesling1

This page was generated on 2021-01-11 15:59:28 -0500 (Mon, 11 Jan 2021).

TO THE DEVELOPERS/MAINTAINERS OF THE breastCancerUNT PACKAGE: Please make sure to use the following settings in order to reproduce any error or warning you see on this page.
Package 38/385HostnameOS / ArchINSTALLBUILDCHECK
breastCancerUNT 1.29.0
Markus Schroeder , Benjamin Haibe-Kains
Snapshot Date: 2021-01-11 09:00:09 -0500 (Mon, 11 Jan 2021)
URL: https://git.bioconductor.org/packages/breastCancerUNT
Branch: master
Last Commit: 8e9b7ca
Last Changed Date: 2020-10-27 09:52:50 -0500 (Tue, 27 Oct 2020)
malbec2 Linux (Ubuntu 20.04.1 LTS) / x86_64  OK  OK  WARNINGS UNNEEDED, same version exists in internal repository
riesling1 Windows Server 2019 Standard / x64 [ OK ] OK  WARNINGS 

Summary

Package: breastCancerUNT
Version: 1.29.0
Command: C:\cygwin\bin\curl.exe -O http://172.29.0.4/BBS/3.13/data-experiment/src/contrib/breastCancerUNT_1.29.0.tar.gz && rm -rf breastCancerUNT.buildbin-libdir && mkdir breastCancerUNT.buildbin-libdir && D:\biocbuild\bbs-3.13-bioc\R\bin\R.exe CMD INSTALL --merge-multiarch --build --library=breastCancerUNT.buildbin-libdir breastCancerUNT_1.29.0.tar.gz && D:\biocbuild\bbs-3.13-bioc\R\bin\R.exe CMD INSTALL breastCancerUNT_1.29.0.zip && rm breastCancerUNT_1.29.0.tar.gz breastCancerUNT_1.29.0.zip
StartedAt: 2021-01-11 09:50:12 -0500 (Mon, 11 Jan 2021)
EndedAt: 2021-01-11 09:50:30 -0500 (Mon, 11 Jan 2021)
EllapsedTime: 18.6 seconds
RetCode: 0
Status:  OK  

Command output

##############################################################################
##############################################################################
###
### Running command:
###
###   C:\cygwin\bin\curl.exe -O http://172.29.0.4/BBS/3.13/data-experiment/src/contrib/breastCancerUNT_1.29.0.tar.gz && rm -rf breastCancerUNT.buildbin-libdir && mkdir breastCancerUNT.buildbin-libdir && D:\biocbuild\bbs-3.13-bioc\R\bin\R.exe CMD INSTALL --merge-multiarch --build --library=breastCancerUNT.buildbin-libdir breastCancerUNT_1.29.0.tar.gz && D:\biocbuild\bbs-3.13-bioc\R\bin\R.exe CMD INSTALL breastCancerUNT_1.29.0.zip && rm breastCancerUNT_1.29.0.tar.gz breastCancerUNT_1.29.0.zip
###
##############################################################################
##############################################################################


  % Total    % Received % Xferd  Average Speed   Time    Time     Time  Current
                                 Dload  Upload   Total   Spent    Left  Speed

  0     0    0     0    0     0      0      0 --:--:-- --:--:-- --:--:--     0
  1 48.3M    1  568k    0     0  1047k      0  0:00:47 --:--:--  0:00:47 1045k
 16 48.3M   16 7991k    0     0  5388k      0  0:00:09  0:00:01  0:00:08 5384k
 30 48.3M   30 14.7M    0     0  5971k      0  0:00:08  0:00:02  0:00:06 5968k
 36 48.3M   36 17.5M    0     0  4918k      0  0:00:10  0:00:03  0:00:07 4918k
 39 48.3M   39 19.0M    0     0  4281k      0  0:00:11  0:00:04  0:00:07 4280k
 47 48.3M   47 23.0M    0     0  4304k      0  0:00:11  0:00:05  0:00:06 4662k
 51 48.3M   51 24.6M    0     0  3808k      0  0:00:12  0:00:06  0:00:06 3352k
 53 48.3M   53 26.0M    0     0  3549k      0  0:00:13  0:00:07  0:00:06 2325k
100 48.3M  100 48.3M    0     0  5895k      0  0:00:08  0:00:08 --:--:-- 6653k

install for i386

* installing *source* package 'breastCancerUNT' ...
** using staged installation
** data
** help
*** installing help indices
  converting help for package 'breastCancerUNT'
    finding HTML links ... done
    unt                                     html  
REDIRECT:topic	 unt -> unt.html [ SUCCESS ]
** building package indices
** testing if installed package can be loaded from temporary location
** testing if installed package can be loaded from final location
** testing if installed package keeps a record of temporary installation path

install for x64

* installing *source* package 'breastCancerUNT' ...
** testing if installed package can be loaded
* MD5 sums
packaged installation of 'breastCancerUNT' as breastCancerUNT_1.29.0.zip
* DONE (breastCancerUNT)
* installing to library 'D:/biocbuild/bbs-3.13-bioc/R/library'
package 'breastCancerUNT' successfully unpacked and MD5 sums checked