Back to Multiple platform build/check report for BioC 3.13 experimental data
A[B]CDEFGHIJKLMNOPQRSTUVWXYZ

BUILD report for breastCancerUNT on riesling1

This page was generated on 2021-01-14 15:59:06 -0500 (Thu, 14 Jan 2021).

TO THE DEVELOPERS/MAINTAINERS OF THE breastCancerUNT PACKAGE: Please make sure to use the following settings in order to reproduce any error or warning you see on this page.
Package 38/385HostnameOS / ArchINSTALLBUILDCHECK
breastCancerUNT 1.29.0
Markus Schroeder , Benjamin Haibe-Kains
Snapshot Date: 2021-01-14 09:00:13 -0500 (Thu, 14 Jan 2021)
URL: https://git.bioconductor.org/packages/breastCancerUNT
Branch: master
Last Commit: 8e9b7ca
Last Changed Date: 2020-10-27 09:52:50 -0500 (Tue, 27 Oct 2020)
malbec2 Linux (Ubuntu 20.04.1 LTS) / x86_64  OK  OK  WARNINGS UNNEEDED, same version exists in internal repository
riesling1 Windows Server 2019 Standard / x64  OK [ OK ] WARNINGS 

Summary

Package: breastCancerUNT
Version: 1.29.0
Command: chmod a+r breastCancerUNT -R && D:\biocbuild\bbs-3.13-bioc\R\bin\R.exe CMD build --keep-empty-dirs --no-resave-data breastCancerUNT
StartedAt: 2021-01-14 10:25:42 -0500 (Thu, 14 Jan 2021)
EndedAt: 2021-01-14 10:25:48 -0500 (Thu, 14 Jan 2021)
EllapsedTime: 6.2 seconds
RetCode: 0
Status:  OK  
PackageFile: breastCancerUNT_1.29.0.tar.gz
PackageFileSize: 48.32 MiB

Command output

##############################################################################
##############################################################################
###
### Running command:
###
###   chmod a+r breastCancerUNT -R && D:\biocbuild\bbs-3.13-bioc\R\bin\R.exe CMD build --keep-empty-dirs --no-resave-data breastCancerUNT
###
##############################################################################
##############################################################################


* checking for file 'breastCancerUNT/DESCRIPTION' ... OK
* preparing 'breastCancerUNT':
* checking DESCRIPTION meta-information ... OK
* checking whether 'INDEX' is up-to-date ... NO
* use '--force' to remove the existing 'INDEX'
* checking for LF line-endings in source and make files and shell scripts
* checking for empty or unneeded directories
* looking to see if a 'data/datalist' file should be added
* building 'breastCancerUNT_1.29.0.tar.gz'