Back to Multiple platform build/check report for BioC 3.13 experimental data
A[B]CDEFGHIJKLMNOPQRSTUVWXYZ

INSTALL report for breastCancerTRANSBIG on riesling1

This page was generated on 2021-01-14 15:59:06 -0500 (Thu, 14 Jan 2021).

TO THE DEVELOPERS/MAINTAINERS OF THE breastCancerTRANSBIG PACKAGE: Please make sure to use the following settings in order to reproduce any error or warning you see on this page.
Package 37/385HostnameOS / ArchINSTALLBUILDCHECK
breastCancerTRANSBIG 1.29.0
Markus Schroeder , Benjamin Haibe-Kains
Snapshot Date: 2021-01-14 09:00:13 -0500 (Thu, 14 Jan 2021)
URL: https://git.bioconductor.org/packages/breastCancerTRANSBIG
Branch: master
Last Commit: 884c4ac
Last Changed Date: 2020-10-27 09:52:47 -0500 (Tue, 27 Oct 2020)
malbec2 Linux (Ubuntu 20.04.1 LTS) / x86_64  OK  OK  WARNINGS UNNEEDED, same version exists in internal repository
riesling1 Windows Server 2019 Standard / x64 [ OK ] OK  WARNINGS 

Summary

Package: breastCancerTRANSBIG
Version: 1.29.0
Command: C:\cygwin\bin\curl.exe -O http://172.29.0.4/BBS/3.13/data-experiment/src/contrib/breastCancerTRANSBIG_1.29.0.tar.gz && rm -rf breastCancerTRANSBIG.buildbin-libdir && mkdir breastCancerTRANSBIG.buildbin-libdir && D:\biocbuild\bbs-3.13-bioc\R\bin\R.exe CMD INSTALL --merge-multiarch --build --library=breastCancerTRANSBIG.buildbin-libdir breastCancerTRANSBIG_1.29.0.tar.gz && D:\biocbuild\bbs-3.13-bioc\R\bin\R.exe CMD INSTALL breastCancerTRANSBIG_1.29.0.zip && rm breastCancerTRANSBIG_1.29.0.tar.gz breastCancerTRANSBIG_1.29.0.zip
StartedAt: 2021-01-14 10:03:41 -0500 (Thu, 14 Jan 2021)
EndedAt: 2021-01-14 10:03:52 -0500 (Thu, 14 Jan 2021)
EllapsedTime: 10.3 seconds
RetCode: 0
Status:  OK  

Command output

##############################################################################
##############################################################################
###
### Running command:
###
###   C:\cygwin\bin\curl.exe -O http://172.29.0.4/BBS/3.13/data-experiment/src/contrib/breastCancerTRANSBIG_1.29.0.tar.gz && rm -rf breastCancerTRANSBIG.buildbin-libdir && mkdir breastCancerTRANSBIG.buildbin-libdir && D:\biocbuild\bbs-3.13-bioc\R\bin\R.exe CMD INSTALL --merge-multiarch --build --library=breastCancerTRANSBIG.buildbin-libdir breastCancerTRANSBIG_1.29.0.tar.gz && D:\biocbuild\bbs-3.13-bioc\R\bin\R.exe CMD INSTALL breastCancerTRANSBIG_1.29.0.zip && rm breastCancerTRANSBIG_1.29.0.tar.gz breastCancerTRANSBIG_1.29.0.zip
###
##############################################################################
##############################################################################


  % Total    % Received % Xferd  Average Speed   Time    Time     Time  Current
                                 Dload  Upload   Total   Spent    Left  Speed

  0     0    0     0    0     0      0      0 --:--:-- --:--:-- --:--:--     0
100 34.4M  100 34.4M    0     0   106M      0 --:--:-- --:--:-- --:--:--  106M

install for i386

* installing *source* package 'breastCancerTRANSBIG' ...
** using staged installation
** data
** help
*** installing help indices
  converting help for package 'breastCancerTRANSBIG'
    finding HTML links ... done
    transbig                                html  
REDIRECT:topic	 transbig -> transbig.html [ SUCCESS ]
** building package indices
** testing if installed package can be loaded from temporary location
** testing if installed package can be loaded from final location
** testing if installed package keeps a record of temporary installation path

install for x64

* installing *source* package 'breastCancerTRANSBIG' ...
** testing if installed package can be loaded
* MD5 sums
packaged installation of 'breastCancerTRANSBIG' as breastCancerTRANSBIG_1.29.0.zip
* DONE (breastCancerTRANSBIG)
* installing to library 'D:/biocbuild/bbs-3.13-bioc/R/library'
package 'breastCancerTRANSBIG' successfully unpacked and MD5 sums checked