Back to Multiple platform build/check report for BioC 3.13 experimental data |
|
This page was generated on 2021-01-18 15:58:43 -0500 (Mon, 18 Jan 2021).
TO THE DEVELOPERS/MAINTAINERS OF THE breastCancerNKI PACKAGE: Please make sure to use the following settings in order to reproduce any error or warning you see on this page. |
Package 36/385 | Hostname | OS / Arch | INSTALL | BUILD | CHECK | ||||||
breastCancerNKI 1.29.0 Markus Schroeder
| malbec2 | Linux (Ubuntu 20.04.1 LTS) / x86_64 | OK | OK | WARNINGS | ![]() | |||||
riesling1 | Windows Server 2019 Standard / x64 | OK | [ OK ] | WARNINGS |
Package: breastCancerNKI |
Version: 1.29.0 |
Command: chmod a+r breastCancerNKI -R && D:\biocbuild\bbs-3.13-bioc\R\bin\R.exe CMD build --keep-empty-dirs --no-resave-data breastCancerNKI |
StartedAt: 2021-01-18 10:29:26 -0500 (Mon, 18 Jan 2021) |
EndedAt: 2021-01-18 10:29:30 -0500 (Mon, 18 Jan 2021) |
EllapsedTime: 4.2 seconds |
RetCode: 0 |
Status: OK |
PackageFile: breastCancerNKI_1.29.0.tar.gz |
PackageFileSize: 15.55 MiB |
############################################################################## ############################################################################## ### ### Running command: ### ### chmod a+r breastCancerNKI -R && D:\biocbuild\bbs-3.13-bioc\R\bin\R.exe CMD build --keep-empty-dirs --no-resave-data breastCancerNKI ### ############################################################################## ############################################################################## * checking for file 'breastCancerNKI/DESCRIPTION' ... OK * preparing 'breastCancerNKI': * checking DESCRIPTION meta-information ... OK * checking whether 'INDEX' is up-to-date ... NO * use '--force' to remove the existing 'INDEX' * checking for LF line-endings in source and make files and shell scripts * checking for empty or unneeded directories * looking to see if a 'data/datalist' file should be added * building 'breastCancerNKI_1.29.0.tar.gz'