Back to Multiple platform build/check report for BioC 3.13 experimental data
A[B]CDEFGHIJKLMNOPQRSTUVWXYZ

INSTALL report for breastCancerMAINZ on riesling1

This page was generated on 2021-01-14 15:59:06 -0500 (Thu, 14 Jan 2021).

TO THE DEVELOPERS/MAINTAINERS OF THE breastCancerMAINZ PACKAGE: Please make sure to use the following settings in order to reproduce any error or warning you see on this page.
Package 35/385HostnameOS / ArchINSTALLBUILDCHECK
breastCancerMAINZ 1.29.0
Markus Schroeder , Benjamin Haibe-Kains
Snapshot Date: 2021-01-14 09:00:13 -0500 (Thu, 14 Jan 2021)
URL: https://git.bioconductor.org/packages/breastCancerMAINZ
Branch: master
Last Commit: c14abaf
Last Changed Date: 2020-10-27 09:52:40 -0500 (Tue, 27 Oct 2020)
malbec2 Linux (Ubuntu 20.04.1 LTS) / x86_64  OK  OK  WARNINGS UNNEEDED, same version exists in internal repository
riesling1 Windows Server 2019 Standard / x64 [ OK ] OK  WARNINGS 

Summary

Package: breastCancerMAINZ
Version: 1.29.0
Command: C:\cygwin\bin\curl.exe -O http://172.29.0.4/BBS/3.13/data-experiment/src/contrib/breastCancerMAINZ_1.29.0.tar.gz && rm -rf breastCancerMAINZ.buildbin-libdir && mkdir breastCancerMAINZ.buildbin-libdir && D:\biocbuild\bbs-3.13-bioc\R\bin\R.exe CMD INSTALL --merge-multiarch --build --library=breastCancerMAINZ.buildbin-libdir breastCancerMAINZ_1.29.0.tar.gz && D:\biocbuild\bbs-3.13-bioc\R\bin\R.exe CMD INSTALL breastCancerMAINZ_1.29.0.zip && rm breastCancerMAINZ_1.29.0.tar.gz breastCancerMAINZ_1.29.0.zip
StartedAt: 2021-01-14 10:01:36 -0500 (Thu, 14 Jan 2021)
EndedAt: 2021-01-14 10:01:52 -0500 (Thu, 14 Jan 2021)
EllapsedTime: 16.8 seconds
RetCode: 0
Status:  OK  

Command output

##############################################################################
##############################################################################
###
### Running command:
###
###   C:\cygwin\bin\curl.exe -O http://172.29.0.4/BBS/3.13/data-experiment/src/contrib/breastCancerMAINZ_1.29.0.tar.gz && rm -rf breastCancerMAINZ.buildbin-libdir && mkdir breastCancerMAINZ.buildbin-libdir && D:\biocbuild\bbs-3.13-bioc\R\bin\R.exe CMD INSTALL --merge-multiarch --build --library=breastCancerMAINZ.buildbin-libdir breastCancerMAINZ_1.29.0.tar.gz && D:\biocbuild\bbs-3.13-bioc\R\bin\R.exe CMD INSTALL breastCancerMAINZ_1.29.0.zip && rm breastCancerMAINZ_1.29.0.tar.gz breastCancerMAINZ_1.29.0.zip
###
##############################################################################
##############################################################################


  % Total    % Received % Xferd  Average Speed   Time    Time     Time  Current
                                 Dload  Upload   Total   Spent    Left  Speed

  0     0    0     0    0     0      0      0 --:--:-- --:--:-- --:--:--     0
100 34.7M  100 34.7M    0     0   102M      0 --:--:-- --:--:-- --:--:--  103M

install for i386

* installing *source* package 'breastCancerMAINZ' ...
** using staged installation
** data
** help
*** installing help indices
  converting help for package 'breastCancerMAINZ'
    finding HTML links ... done
    mainz                                   html  
REDIRECT:topic	 mainz -> mainz.html [ SUCCESS ]
** building package indices
** testing if installed package can be loaded from temporary location
** testing if installed package can be loaded from final location
** testing if installed package keeps a record of temporary installation path

install for x64

* installing *source* package 'breastCancerMAINZ' ...
** testing if installed package can be loaded
* MD5 sums
packaged installation of 'breastCancerMAINZ' as breastCancerMAINZ_1.29.0.zip
* DONE (breastCancerMAINZ)
* installing to library 'D:/biocbuild/bbs-3.13-bioc/R/library'
package 'breastCancerMAINZ' successfully unpacked and MD5 sums checked