Back to Multiple platform build/check report for BioC 3.13 experimental data
A[B]CDEFGHIJKLMNOPQRSTUVWXYZ

INSTALL report for breakpointRdata on riesling1

This page was generated on 2021-01-14 15:59:06 -0500 (Thu, 14 Jan 2021).

TO THE DEVELOPERS/MAINTAINERS OF THE breakpointRdata PACKAGE: Please make sure to use the following settings in order to reproduce any error or warning you see on this page.
Package 34/385HostnameOS / ArchINSTALLBUILDCHECK
breakpointRdata 1.9.0
David Porubsky
Snapshot Date: 2021-01-14 09:00:13 -0500 (Thu, 14 Jan 2021)
URL: https://git.bioconductor.org/packages/breakpointRdata
Branch: master
Last Commit: c32cc15
Last Changed Date: 2020-10-27 10:27:44 -0500 (Tue, 27 Oct 2020)
malbec2 Linux (Ubuntu 20.04.1 LTS) / x86_64  OK  OK  OK UNNEEDED, same version exists in internal repository
riesling1 Windows Server 2019 Standard / x64 [ OK ] OK  OK 

Summary

Package: breakpointRdata
Version: 1.9.0
Command: C:\cygwin\bin\curl.exe -O http://172.29.0.4/BBS/3.13/data-experiment/src/contrib/breakpointRdata_1.9.0.tar.gz && rm -rf breakpointRdata.buildbin-libdir && mkdir breakpointRdata.buildbin-libdir && D:\biocbuild\bbs-3.13-bioc\R\bin\R.exe CMD INSTALL --merge-multiarch --build --library=breakpointRdata.buildbin-libdir breakpointRdata_1.9.0.tar.gz && D:\biocbuild\bbs-3.13-bioc\R\bin\R.exe CMD INSTALL breakpointRdata_1.9.0.zip && rm breakpointRdata_1.9.0.tar.gz breakpointRdata_1.9.0.zip
StartedAt: 2021-01-14 09:48:24 -0500 (Thu, 14 Jan 2021)
EndedAt: 2021-01-14 09:48:49 -0500 (Thu, 14 Jan 2021)
EllapsedTime: 25.1 seconds
RetCode: 0
Status:  OK  

Command output

##############################################################################
##############################################################################
###
### Running command:
###
###   C:\cygwin\bin\curl.exe -O http://172.29.0.4/BBS/3.13/data-experiment/src/contrib/breakpointRdata_1.9.0.tar.gz && rm -rf breakpointRdata.buildbin-libdir && mkdir breakpointRdata.buildbin-libdir && D:\biocbuild\bbs-3.13-bioc\R\bin\R.exe CMD INSTALL --merge-multiarch --build --library=breakpointRdata.buildbin-libdir breakpointRdata_1.9.0.tar.gz && D:\biocbuild\bbs-3.13-bioc\R\bin\R.exe CMD INSTALL breakpointRdata_1.9.0.zip && rm breakpointRdata_1.9.0.tar.gz breakpointRdata_1.9.0.zip
###
##############################################################################
##############################################################################


  % Total    % Received % Xferd  Average Speed   Time    Time     Time  Current
                                 Dload  Upload   Total   Spent    Left  Speed

  0     0    0     0    0     0      0      0 --:--:-- --:--:-- --:--:--     0
  0 69.1M    0  1213    0     0   2143      0  9:23:51 --:--:--  9:23:51  2139
  2 69.1M    2 1867k    0     0  1157k      0  0:01:01  0:00:01  0:01:00 1156k
  6 69.1M    6 4875k    0     0  2027k      0  0:00:34  0:00:02  0:00:32 2026k
 15 69.1M   15 10.4M    0     0  3110k      0  0:00:22  0:00:03  0:00:19 3110k
 29 69.1M   29 20.5M    0     0  4693k      0  0:00:15  0:00:04  0:00:11 4692k
 54 69.1M   54 37.8M    0     0  6898k      0  0:00:10  0:00:05  0:00:05 7673k
 91 69.1M   91 63.0M    0     0  9765k      0  0:00:07  0:00:06  0:00:01 12.2M
 95 69.1M   95 65.6M    0     0  9021k      0  0:00:07  0:00:07 --:--:-- 12.0M
100 69.1M  100 69.1M    0     0  9264k      0  0:00:07  0:00:07 --:--:-- 13.9M

install for i386

* installing *source* package 'breakpointRdata' ...
** using staged installation
** R
** inst
** byte-compile and prepare package for lazy loading
** help
*** installing help indices
  converting help for package 'breakpointRdata'
    finding HTML links ... done
    example_bams                            html  
REDIRECT:topic	 example_bams -> example_bams.html [ SUCCESS ]
REDIRECT:topic	 bams -> example_bams.html [ SUCCESS ]
    example_results                         html  
REDIRECT:topic	 example_results -> example_results.html [ SUCCESS ]
REDIRECT:topic	 results -> example_results.html [ SUCCESS ]
** building package indices
** installing vignettes
** testing if installed package can be loaded from temporary location
** testing if installed package can be loaded from final location
** testing if installed package keeps a record of temporary installation path

install for x64

* installing *source* package 'breakpointRdata' ...
** testing if installed package can be loaded
* MD5 sums
packaged installation of 'breakpointRdata' as breakpointRdata_1.9.0.zip
* DONE (breakpointRdata)
* installing to library 'D:/biocbuild/bbs-3.13-bioc/R/library'
package 'breakpointRdata' successfully unpacked and MD5 sums checked