Back to Multiple platform build/check report for BioC 3.13 experimental data
A[B]CDEFGHIJKLMNOPQRSTUVWXYZ

BUILD report for breakpointRdata on riesling1

This page was generated on 2021-01-11 15:59:28 -0500 (Mon, 11 Jan 2021).

TO THE DEVELOPERS/MAINTAINERS OF THE breakpointRdata PACKAGE: Please make sure to use the following settings in order to reproduce any error or warning you see on this page.
Package 34/385HostnameOS / ArchINSTALLBUILDCHECK
breakpointRdata 1.9.0
David Porubsky
Snapshot Date: 2021-01-11 09:00:09 -0500 (Mon, 11 Jan 2021)
URL: https://git.bioconductor.org/packages/breakpointRdata
Branch: master
Last Commit: c32cc15
Last Changed Date: 2020-10-27 10:27:44 -0500 (Tue, 27 Oct 2020)
malbec2 Linux (Ubuntu 20.04.1 LTS) / x86_64  OK  OK  OK UNNEEDED, same version exists in internal repository
riesling1 Windows Server 2019 Standard / x64  OK [ OK ] OK 

Summary

Package: breakpointRdata
Version: 1.9.0
Command: chmod a+r breakpointRdata -R && D:\biocbuild\bbs-3.13-bioc\R\bin\R.exe CMD build --keep-empty-dirs --no-resave-data breakpointRdata
StartedAt: 2021-01-11 10:30:50 -0500 (Mon, 11 Jan 2021)
EndedAt: 2021-01-11 10:31:15 -0500 (Mon, 11 Jan 2021)
EllapsedTime: 25.0 seconds
RetCode: 0
Status:  OK  
PackageFile: breakpointRdata_1.9.0.tar.gz
PackageFileSize: 69.47 MiB

Command output

##############################################################################
##############################################################################
###
### Running command:
###
###   chmod a+r breakpointRdata -R && D:\biocbuild\bbs-3.13-bioc\R\bin\R.exe CMD build --keep-empty-dirs --no-resave-data breakpointRdata
###
##############################################################################
##############################################################################


* checking for file 'breakpointRdata/DESCRIPTION' ... OK
* preparing 'breakpointRdata':
* checking DESCRIPTION meta-information ... OK
* installing the package to build vignettes
* creating vignettes ... OK
* checking for LF line-endings in source and make files and shell scripts
* checking for empty or unneeded directories
* building 'breakpointRdata_1.9.0.tar.gz'