Back to Multiple platform build/check report for BioC 3.13 experimental data
A[B]CDEFGHIJKLMNOPQRSTUVWXYZ

INSTALL report for brainImageRdata on riesling1

This page was generated on 2021-01-11 15:59:28 -0500 (Mon, 11 Jan 2021).

TO THE DEVELOPERS/MAINTAINERS OF THE brainImageRdata PACKAGE: Please make sure to use the following settings in order to reproduce any error or warning you see on this page.
Package 33/385HostnameOS / ArchINSTALLBUILDCHECK
brainImageRdata 1.9.0
Sara Linker
Snapshot Date: 2021-01-11 09:00:09 -0500 (Mon, 11 Jan 2021)
URL: https://git.bioconductor.org/packages/brainImageRdata
Branch: master
Last Commit: d37621d
Last Changed Date: 2020-10-27 10:27:37 -0500 (Tue, 27 Oct 2020)
malbec2 Linux (Ubuntu 20.04.1 LTS) / x86_64  OK  OK  OK UNNEEDED, same version exists in internal repository
riesling1 Windows Server 2019 Standard / x64 [ OK ] OK  OK 

Summary

Package: brainImageRdata
Version: 1.9.0
Command: C:\cygwin\bin\curl.exe -O http://172.29.0.4/BBS/3.13/data-experiment/src/contrib/brainImageRdata_1.9.0.tar.gz && rm -rf brainImageRdata.buildbin-libdir && mkdir brainImageRdata.buildbin-libdir && D:\biocbuild\bbs-3.13-bioc\R\bin\R.exe CMD INSTALL --merge-multiarch --build --library=brainImageRdata.buildbin-libdir brainImageRdata_1.9.0.tar.gz && D:\biocbuild\bbs-3.13-bioc\R\bin\R.exe CMD INSTALL brainImageRdata_1.9.0.zip && rm brainImageRdata_1.9.0.tar.gz brainImageRdata_1.9.0.zip
StartedAt: 2021-01-11 10:14:51 -0500 (Mon, 11 Jan 2021)
EndedAt: 2021-01-11 10:15:06 -0500 (Mon, 11 Jan 2021)
EllapsedTime: 16.0 seconds
RetCode: 0
Status:  OK  

Command output

##############################################################################
##############################################################################
###
### Running command:
###
###   C:\cygwin\bin\curl.exe -O http://172.29.0.4/BBS/3.13/data-experiment/src/contrib/brainImageRdata_1.9.0.tar.gz && rm -rf brainImageRdata.buildbin-libdir && mkdir brainImageRdata.buildbin-libdir && D:\biocbuild\bbs-3.13-bioc\R\bin\R.exe CMD INSTALL --merge-multiarch --build --library=brainImageRdata.buildbin-libdir brainImageRdata_1.9.0.tar.gz && D:\biocbuild\bbs-3.13-bioc\R\bin\R.exe CMD INSTALL brainImageRdata_1.9.0.zip && rm brainImageRdata_1.9.0.tar.gz brainImageRdata_1.9.0.zip
###
##############################################################################
##############################################################################


  % Total    % Received % Xferd  Average Speed   Time    Time     Time  Current
                                 Dload  Upload   Total   Spent    Left  Speed

  0     0    0     0    0     0      0      0 --:--:-- --:--:-- --:--:--     0
100  7394  100  7394    0     0   288k      0 --:--:-- --:--:-- --:--:--  288k

install for i386

* installing *source* package 'brainImageRdata' ...
** using staged installation
** R
** inst
** byte-compile and prepare package for lazy loading
** help
*** installing help indices
  converting help for package 'brainImageRdata'
    finding HTML links ... done
    brainImageRdata                         html  
REDIRECT:topic	 brainImageRdata -> brainImageRdata.html [ SUCCESS ]
REDIRECT:topic	 brainImageRdata-package -> brainImageRdata.html [ SUCCESS ]
** building package indices
** installing vignettes
** testing if installed package can be loaded from temporary location
** testing if installed package can be loaded from final location
** testing if installed package keeps a record of temporary installation path

install for x64

* installing *source* package 'brainImageRdata' ...
** testing if installed package can be loaded
* MD5 sums
packaged installation of 'brainImageRdata' as brainImageRdata_1.9.0.zip
* DONE (brainImageRdata)
* installing to library 'D:/biocbuild/bbs-3.13-bioc/R/library'
package 'brainImageRdata' successfully unpacked and MD5 sums checked