Back to Multiple platform build/check report for BioC 3.13 experimental data |
|
This page was generated on 2021-01-21 16:01:25 -0500 (Thu, 21 Jan 2021).
TO THE DEVELOPERS/MAINTAINERS OF THE bodymapRat PACKAGE: Please make sure to use the following settings in order to reproduce any error or warning you see on this page. |
Package 32/386 | Hostname | OS / Arch | INSTALL | BUILD | CHECK | ||||||
bodymapRat 1.7.0 Stephanie Hicks
| malbec2 | Linux (Ubuntu 20.04.1 LTS) / x86_64 | OK | OK | OK | ![]() | |||||
riesling1 | Windows Server 2019 Standard / x64 | [ OK ] | OK | OK |
Package: bodymapRat |
Version: 1.7.0 |
Command: C:\cygwin\bin\curl.exe -O http://172.29.0.4/BBS/3.13/data-experiment/src/contrib/bodymapRat_1.7.0.tar.gz && rm -rf bodymapRat.buildbin-libdir && mkdir bodymapRat.buildbin-libdir && D:\biocbuild\bbs-3.13-bioc\R\bin\R.exe CMD INSTALL --merge-multiarch --build --library=bodymapRat.buildbin-libdir bodymapRat_1.7.0.tar.gz && D:\biocbuild\bbs-3.13-bioc\R\bin\R.exe CMD INSTALL bodymapRat_1.7.0.zip && rm bodymapRat_1.7.0.tar.gz bodymapRat_1.7.0.zip |
StartedAt: 2021-01-21 10:13:48 -0500 (Thu, 21 Jan 2021) |
EndedAt: 2021-01-21 10:14:46 -0500 (Thu, 21 Jan 2021) |
EllapsedTime: 58.0 seconds |
RetCode: 0 |
Status: OK |
############################################################################## ############################################################################## ### ### Running command: ### ### C:\cygwin\bin\curl.exe -O http://172.29.0.4/BBS/3.13/data-experiment/src/contrib/bodymapRat_1.7.0.tar.gz && rm -rf bodymapRat.buildbin-libdir && mkdir bodymapRat.buildbin-libdir && D:\biocbuild\bbs-3.13-bioc\R\bin\R.exe CMD INSTALL --merge-multiarch --build --library=bodymapRat.buildbin-libdir bodymapRat_1.7.0.tar.gz && D:\biocbuild\bbs-3.13-bioc\R\bin\R.exe CMD INSTALL bodymapRat_1.7.0.zip && rm bodymapRat_1.7.0.tar.gz bodymapRat_1.7.0.zip ### ############################################################################## ############################################################################## % Total % Received % Xferd Average Speed Time Time Time Current Dload Upload Total Spent Left Speed 0 0 0 0 0 0 0 0 --:--:-- --:--:-- --:--:-- 0 100 9902 100 9902 0 0 155k 0 --:--:-- --:--:-- --:--:-- 155k install for i386 * installing *source* package 'bodymapRat' ... ** using staged installation ** R ** inst ** byte-compile and prepare package for lazy loading ** help *** installing help indices converting help for package 'bodymapRat' finding HTML links ... done bodymapRat html REDIRECT:topic bodymapRat -> bodymapRat.html [ SUCCESS ] ** building package indices ** installing vignettes ** testing if installed package can be loaded from temporary location snapshotDate(): 2021-01-20 ** testing if installed package can be loaded from final location snapshotDate(): 2021-01-20 ** testing if installed package keeps a record of temporary installation path install for x64 * installing *source* package 'bodymapRat' ... ** testing if installed package can be loaded snapshotDate(): 2021-01-20 * MD5 sums packaged installation of 'bodymapRat' as bodymapRat_1.7.0.zip * DONE (bodymapRat) * installing to library 'D:/biocbuild/bbs-3.13-bioc/R/library' package 'bodymapRat' successfully unpacked and MD5 sums checked